OziExplorer Map Data File Version 2.2
Dmitrov1.ozf2
Dmitrov1.ozf2
1 ,Map Code,
WGS 84,WGS 84, 0.0000, 0.0000,WGS 84
Reserved 1
Reserved 2
Magnetic Variation,,,E
Map Projection,Latitude/Longitude,PolyCal,No,AutoCalOnly,No,BSBUseWPX,No
Point01,xy, 2409, 432,in, deg, 56,22.8200333,N, 37,39.0662567,E, grid, , , ,N
Point02,xy, 4172, 855,in, deg, 56,20.7563283,N, 38,4.763025,E, grid, , , ,N
Point03,xy, 3129, 1936,in, deg, 56,10.6716517,N, 37,51.824705,E, grid, , , ,N
Point04,xy, 824, 2014,in, deg, 56,9.05567667,N, 37,17.922635,E, grid, , , ,N
Point05,xy, , ,in, deg, , ,N, , ,E, grid, , , ,N
Point06,xy, , ,in, deg, , ,N, , ,E, grid, , , ,N
Point07,xy, , ,in, deg, , ,N, , ,E, grid, , , ,N
Point08,xy, , ,in, deg, , ,N, , ,E, grid, , , ,N
Point09,xy, , ,in, deg, , ,N, , ,E, grid, , , ,N
Point10,xy, , ,in, deg, , ,, , ,, grid, , , ,
Point11,xy, , ,in, deg, , ,, , ,, grid, , , ,
Point12,xy, , ,in, deg, , ,, , ,, grid, , , ,
Point13,xy, , ,in, deg, , ,, , ,, grid, , , ,
Point14,xy, , ,in, deg, , ,, , ,, grid, , , ,
Point15,xy, , ,in, deg, , ,, , ,, grid, , , ,
Point16,xy, , ,in, deg, , ,, , ,, grid, , , ,
Point17,xy, , ,in, deg, , ,, , ,, grid, , , ,
Point18,xy, , ,in, deg, , ,, , ,, grid, , , ,
Point19,xy, , ,in, deg, , ,, , ,, grid, , , ,
Point20,xy, , ,in, deg, , ,, , ,, grid, , , ,
Point21,xy, , ,in, deg, , ,, , ,, grid, , , ,
Point22,xy, , ,in, deg, , ,, , ,, grid, , , ,
Point23,xy, , ,in, deg, , ,, , ,, grid, , , ,
Point24,xy, , ,in, deg, , ,, , ,, grid, , , ,
Point25,xy, , ,in, deg, , ,, , ,, grid, , , ,
Point26,xy, , ,in, deg, , ,, , ,, grid, , , ,
Point27,xy, , ,in, deg, , ,, , ,, grid, , , ,
Point28,xy, , ,in, deg, , ,, , ,, grid, , , ,
Point29,xy, , ,in, deg, , ,, , ,, grid, , , ,
Point30,xy, , ,in, deg, , ,, , ,, grid, , , ,
Projection Setup,,,,,,,,,,
Map Feature = MF ; Map Comment = MC These follow if they exist
Track File = TF These follow if they exist
Moving Map Parameters = MM? These follow if they exist
MM0,Yes
MMPNUM,50
MMPXY,1,290,421
MMPXY,2,735,502
MMPXY,3,877,369
MMPXY,4,959,471
MMPXY,5,1209,278
MMPXY,6,1408,436
MMPXY,7,1542,170
MMPXY,8,1952,147
MMPXY,9,2109,409
MMPXY,10,2429,259
MMPXY,11,2812,265
MMPXY,12,3097,100
MMPXY,13,3256,197
MMPXY,14,3203,364
MMPXY,15,3320,557
MMPXY,16,3504,479
MMPXY,17,3803,487
MMPXY,18,3862,593
MMPXY,19,4206,718
MMPXY,20,4248,905
MMPXY,21,4124,899
MMPXY,22,3795,1226
MMPXY,23,3756,1344
MMPXY,24,3657,1374
MMPXY,25,3596,1296
MMPXY,26,3569,1498
MMPXY,27,3369,1664
MMPXY,28,3231,2072
MMPXY,29,3078,2177
MMPXY,30,2732,2222
MMPXY,31,2744,1965
MMPXY,32,2561,2034
MMPXY,33,2502,1857
MMPXY,34,2266,2070
MMPXY,35,1851,2246
MMPXY,36,1612,2316
MMPXY,37,1445,2236
MMPXY,38,1292,1969
MMPXY,39,945,2237
MMPXY,40,470,2037
MMPXY,41,321,2131
MMPXY,42,143,1751
MMPXY,43,174,1572
MMPXY,44,478,1424
MMPXY,45,486,1290
MMPXY,46,241,1255
MMPXY,47,255,1022
MMPXY,48,88,919
MMPXY,49,28,725
MMPXY,50,223,600
MMPLL,1,37.133433,56.364163
MMPLL,2,37.243258,56.357269
MMPLL,3,37.274370,56.377121
MMPLL,4,37.296764,56.363763
MMPLL,5,37.352558,56.393000
MMPLL,6,37.404686,56.373012
MMPLL,7,37.430567,56.411249
MMPLL,8,37.529337,56.418451
MMPLL,9,37.573863,56.383614
MMPLL,10,37.647683,56.407566
MMPLL,11,37.740629,56.410478
MMPLL,12,37.805596,56.436170
MMPLL,13,37.846522,56.424259
MMPLL,14,37.837816,56.400557
MMPLL,15,37.870943,56.374908
MMPLL,16,37.913593,56.387535
MMPLL,17,37.986236,56.389348
MMPLL,18,38.003156,56.375209
MMPLL,19,38.089599,56.361220
MMPLL,20,38.104406,56.335670
MMPLL,21,38.074213,56.335291
MMPLL,22,38.002596,56.286679
MMPLL,23,37.996068,56.269916
MMPLL,24,37.972824,56.264783
MMPLL,25,37.956113,56.275015
MMPLL,26,37.954573,56.246709
MMPLL,27,37.910225,56.221709
MMPLL,28,37.886891,56.163719
MMPLL,29,37.852420,56.147647
MMPLL,30,37.769702,56.138017
MMPLL,31,37.766246,56.173812
MMPLL,32,37.723615,56.162444
MMPLL,33,37.704937,56.186439
MMPLL,34,37.653030,56.154562
MMPLL,35,37.556837,56.126071
MMPLL,36,37.500663,56.114017
MMPLL,37,37.458220,56.123490
MMPLL,38,37.414538,56.159060
MMPLL,39,37.337099,56.118463
MMPLL,40,37.217058,56.141583
MMPLL,41,37.183284,56.127077
MMPLL,42,37.130748,56.178090
MMPLL,43,37.133826,56.203243
MMPLL,44,37.203818,56.226761
MMPLL,45,37.202439,56.245441
MMPLL,46,37.142211,56.247905
MMPLL,47,37.139834,56.280388
MMPLL,48,37.096821,56.293054
MMPLL,49,37.077480,56.319399
MMPLL,50,37.121631,56.338659
MM1B,15.055659
MOP,Map Open Position,0,0
IWH,Map Image Width/Height,4280,2352
