OziExplorer Map Data File Version 2.2
Moscowsk1.ozf2
D:\MAPS\Pics\OldMaps\Mezhevanie\Moscow\Moscowsk1.ozf2
1 ,Map Code,
WGS 84,, 0.0000, 0.0000,WGS 84
Reserved 1
Reserved 2
Magnetic Variation,,,E
Map Projection,Latitude/Longitude,PolyCal,No,AutoCalOnly,No,BSBUseWPX,No
Point01,xy, 3195, 664,in, deg, 56, 8.8006,N, 37,45.0554367,E, grid, , , ,N
Point02,xy, 2315, 1112,in, deg, 56,5.014535,N, 37,31.8282583,E, grid, , , ,N
Point03,xy, 1341, 2221,in, deg, 55,56.2019817,N, 37,19.470055,E, grid, , , ,N
Point04,xy, , ,in, deg, , ,N, , ,E, grid, , , ,N
Point05,xy, , ,in, deg, , ,N, , ,E, grid, , , ,N
Point06,xy, , ,in, deg, , ,N, , ,E, grid, , , ,N
Point07,xy, , ,in, deg, , ,N, , ,E, grid, , , ,N
Point08,xy, , ,in, deg, , ,N, , ,E, grid, , , ,N
Point09,xy, , ,in, deg, , ,N, , ,E, grid, , , ,N
Point10,xy, , ,in, deg, , ,N, , ,W, grid, , , ,N
Point11,xy, , ,in, deg, , ,N, , ,W, grid, , , ,N
Point12,xy, , ,in, deg, , ,N, , ,W, grid, , , ,N
Point13,xy, , ,in, deg, , ,N, , ,W, grid, , , ,N
Point14,xy, , ,in, deg, , ,N, , ,W, grid, , , ,N
Point15,xy, , ,in, deg, , ,N, , ,W, grid, , , ,N
Point16,xy, , ,in, deg, , ,N, , ,W, grid, , , ,N
Point17,xy, , ,in, deg, , ,N, , ,W, grid, , , ,N
Point18,xy, , ,in, deg, , ,N, , ,W, grid, , , ,N
Point19,xy, , ,in, deg, , ,N, , ,W, grid, , , ,N
Point20,xy, , ,in, deg, , ,N, , ,W, grid, , , ,N
Point21,xy, , ,in, deg, , ,N, , ,W, grid, , , ,N
Point22,xy, , ,in, deg, , ,N, , ,W, grid, , , ,N
Point23,xy, , ,in, deg, , ,N, , ,W, grid, , , ,N
Point24,xy, , ,in, deg, , ,N, , ,W, grid, , , ,N
Point25,xy, , ,in, deg, , ,N, , ,W, grid, , , ,N
Point26,xy, , ,in, deg, , ,N, , ,W, grid, , , ,N
Point27,xy, , ,in, deg, , ,N, , ,W, grid, , , ,N
Point28,xy, , ,in, deg, , ,N, , ,W, grid, , , ,N
Point29,xy, , ,in, deg, , ,N, , ,W, grid, , , ,N
Point30,xy, , ,in, deg, , ,N, , ,W, grid, , , ,N
Projection Setup,,,,,,,,,,
Map Feature = MF ; Map Comment = MC These follow if they exist
Track File = TF These follow if they exist
Moving Map Parameters = MM? These follow if they exist
MM0,Yes
MMPNUM,47
MMPXY,1,12,658
MMPXY,2,229,537
MMPXY,3,363,614
MMPXY,4,711,333
MMPXY,5,826,368
MMPXY,6,881,625
MMPXY,7,978,510
MMPXY,8,1452,693
MMPXY,9,1817,468
MMPXY,10,1955,546
MMPXY,11,2083,764
MMPXY,12,2351,737
MMPXY,13,2436,618
MMPXY,14,2813,503
MMPXY,15,3114,316
MMPXY,16,3210,434
MMPXY,17,3376,411
MMPXY,18,3447,626
MMPXY,19,3405,687
MMPXY,20,3438,858
MMPXY,21,3265,1038
MMPXY,22,3523,1361
MMPXY,23,3603,1573
MMPXY,24,3585,1860
MMPXY,25,3437,1777
MMPXY,26,3300,2107
MMPXY,27,3120,2237
MMPXY,28,2904,2030
MMPXY,29,2790,2272
MMPXY,30,2583,2300
MMPXY,31,2277,2687
MMPXY,32,1946,2638
MMPXY,33,1891,2848
MMPXY,34,1671,3009
MMPXY,35,1203,3029
MMPXY,36,1184,3114
MMPXY,37,999,3111
MMPXY,38,680,2385
MMPXY,39,534,2362
MMPXY,40,477,2054
MMPXY,41,640,1629
MMPXY,42,424,1556
MMPXY,43,418,1383
MMPXY,44,330,1271
MMPXY,45,329,1079
MMPXY,46,107,856
MMPXY,47,15,824
MMPLL,1,36.852653,56.122780
MMPLL,2,36.906362,56.139662
MMPLL,3,36.948938,56.131026
MMPLL,4,37.029677,56.169025
MMPLL,5,37.064288,56.165519
MMPLL,6,37.095744,56.133656
MMPLL,7,37.115974,56.148855
MMPLL,8,37.261037,56.129534
MMPLL,9,37.350044,56.160630
MMPLL,10,37.393811,56.151899
MMPLL,11,37.443440,56.125501
MMPLL,12,37.517366,56.130969
MMPLL,13,37.533963,56.146578
MMPLL,14,37.633179,56.163946
MMPLL,15,37.706489,56.189771
MMPLL,16,37.740889,56.175690
MMPLL,17,37.786290,56.179865
MMPLL,18,37.819654,56.153403
MMPLL,19,37.811590,56.145413
MMPLL,20,37.831505,56.124185
MMPLL,21,37.793868,56.100230
MMPLL,22,37.886683,56.061647
MMPLL,23,37.922400,56.035631
MMPLL,24,37.935124,55.999434
MMPLL,25,37.888226,56.008716
MMPLL,26,37.870048,55.966194
MMPLL,27,37.827335,55.948467
MMPLL,28,37.753563,55.972801
MMPLL,29,37.736415,55.941514
MMPLL,30,37.679759,55.936393
MMPLL,31,37.617443,55.885401
MMPLL,32,37.521032,55.888994
MMPLL,33,37.518542,55.862184
MMPLL,34,37.466468,55.840253
MMPLL,35,37.335690,55.834115
MMPLL,36,37.335602,55.823289
MMPLL,37,37.283229,55.822233
MMPLL,38,37.148211,55.910976
MMPLL,39,37.105598,55.912735
MMPLL,40,37.070415,55.950990
MMPLL,41,37.090035,56.005649
MMPLL,42,37.024575,56.013147
MMPLL,43,37.012152,56.034836
MMPLL,44,36.980381,56.048226
MMPLL,45,36.968190,56.072341
MMPLL,46,36.891733,56.098639
MMPLL,47,36.863796,56.101947
MM1B,17.619650
MOP,Map Open Position,0,0
IWH,Map Image Width/Height,3625,3123
