OziExplorer Map Data File Version 2.2
Kovrov1.ozf2
Kovrov1.ozf2
1 ,Map Code,
WGS 84,, 0.0000, 0.0000,WGS 84
Reserved 1
Reserved 2
Magnetic Variation,,,E
Map Projection,Latitude/Longitude,PolyCal,No,AutoCalOnly,No,BSBUseWPX,No
Point01,xy, 302, 1298,in, deg, 56,16.3957667,N, 40,59.0345417,E, grid, , , ,N
Point02,xy, 3574, 229,in, deg, 56,26.239665,N, 41,45.030755,E, grid, , , ,N
Point03,xy, 1689, 2594,in, deg, 56,7.05487167,N, 41,19.6579483,E, grid, , , ,N
Point04,xy, 1021, 1904,in, deg, 56,11.9509667,N, 41,9.59911167,E, grid, , , ,N
Point05,xy, , ,in, deg, , ,N, , ,E, grid, , , ,N
Point06,xy, , ,in, deg, , ,N, , ,E, grid, , , ,N
Point07,xy, , ,in, deg, , ,N, , ,E, grid, , , ,N
Point08,xy, , ,in, deg, , ,N, , ,E, grid, , , ,N
Point09,xy, , ,in, deg, , ,N, , ,E, grid, , , ,N
Point10,xy, , ,in, deg, , ,, , ,, grid, , , ,
Point11,xy, , ,in, deg, , ,, , ,, grid, , , ,
Point12,xy, , ,in, deg, , ,, , ,, grid, , , ,
Point13,xy, , ,in, deg, , ,, , ,, grid, , , ,
Point14,xy, , ,in, deg, , ,, , ,, grid, , , ,
Point15,xy, , ,in, deg, , ,, , ,, grid, , , ,
Point16,xy, , ,in, deg, , ,, , ,, grid, , , ,
Point17,xy, , ,in, deg, , ,, , ,, grid, , , ,
Point18,xy, , ,in, deg, , ,, , ,, grid, , , ,
Point19,xy, , ,in, deg, , ,, , ,, grid, , , ,
Point20,xy, , ,in, deg, , ,, , ,, grid, , , ,
Point21,xy, , ,in, deg, , ,, , ,, grid, , , ,
Point22,xy, , ,in, deg, , ,, , ,, grid, , , ,
Point23,xy, , ,in, deg, , ,, , ,, grid, , , ,
Point24,xy, , ,in, deg, , ,, , ,, grid, , , ,
Point25,xy, , ,in, deg, , ,, , ,, grid, , , ,
Point26,xy, , ,in, deg, , ,, , ,, grid, , , ,
Point27,xy, , ,in, deg, , ,, , ,, grid, , , ,
Point28,xy, , ,in, deg, , ,, , ,, grid, , , ,
Point29,xy, , ,in, deg, , ,, , ,, grid, , , ,
Point30,xy, , ,in, deg, , ,, , ,, grid, , , ,
Projection Setup,,,,,,,,,,
Map Feature = MF ; Map Comment = MC These follow if they exist
Track File = TF These follow if they exist
Moving Map Parameters = MM? These follow if they exist
MM0,Yes
MMPNUM,71
MMPXY,1,16,754
MMPXY,2,35,578
MMPXY,3,178,633
MMPXY,4,248,730
MMPXY,5,452,664
MMPXY,6,468,718
MMPXY,7,667,649
MMPXY,8,698,815
MMPXY,9,884,771
MMPXY,10,1172,852
MMPXY,11,1281,808
MMPXY,12,1462,668
MMPXY,13,1551,672
MMPXY,14,1539,543
MMPXY,15,1615,522
MMPXY,16,1704,307
MMPXY,17,1796,346
MMPXY,18,1840,277
MMPXY,19,2005,327
MMPXY,20,2118,236
MMPXY,21,2140,301
MMPXY,22,2299,242
MMPXY,23,2459,58
MMPXY,24,2545,150
MMPXY,25,2648,62
MMPXY,26,2887,105
MMPXY,27,3044,77
MMPXY,28,3245,158
MMPXY,29,3529,5
MMPXY,30,3622,24
MMPXY,31,3666,151
MMPXY,32,3641,335
MMPXY,33,3564,498
MMPXY,34,3438,722
MMPXY,35,3357,737
MMPXY,36,3183,991
MMPXY,37,3100,941
MMPXY,38,3062,977
MMPXY,39,3120,1063
MMPXY,40,2923,1433
MMPXY,41,2765,1508
MMPXY,42,2708,1654
MMPXY,43,2631,1787
MMPXY,44,2503,1973
MMPXY,45,2331,1985
MMPXY,46,2274,2019
MMPXY,47,2277,2228
MMPXY,48,2120,2420
MMPXY,49,1927,2629
MMPXY,50,1765,2604
MMPXY,51,1751,2855
MMPXY,52,1555,2893
MMPXY,53,1385,2718
MMPXY,54,1452,2553
MMPXY,55,1278,2657
MMPXY,56,1218,2472
MMPXY,57,1025,2539
MMPXY,58,909,2409
MMPXY,59,870,2180
MMPXY,60,770,2135
MMPXY,61,791,1985
MMPXY,62,668,1986
MMPXY,63,468,1842
MMPXY,64,545,1690
MMPXY,65,439,1701
MMPXY,66,46,1636
MMPXY,67,7,1388
MMPXY,68,137,1355
MMPXY,69,252,1195
MMPXY,70,178,1109
MMPXY,71,234,1004
MMPLL,1,40.909619,56.340412
MMPLL,2,40.912270,56.363255
MMPLL,3,40.946874,56.357340
MMPLL,4,40.964558,56.345411
MMPLL,5,41.012389,56.355595
MMPLL,6,41.016769,56.348765
MMPLL,7,41.063379,56.359294
MMPLL,8,41.072517,56.338151
MMPLL,9,41.116300,56.345351
MMPLL,10,41.185676,56.337275
MMPLL,11,41.211140,56.343843
MMPLL,12,41.252714,56.363376
MMPLL,13,41.273929,56.363591
MMPLL,14,41.269704,56.380121
MMPLL,15,41.287562,56.383453
MMPLL,16,41.306452,56.411898
MMPLL,17,41.328753,56.407626
MMPLL,18,41.338488,56.416882
MMPLL,19,41.378273,56.411792
MMPLL,20,41.404190,56.424451
MMPLL,21,41.410114,56.416253
MMPLL,22,41.447314,56.425164
MMPLL,23,41.483424,56.450197
MMPLL,24,41.504861,56.439044
MMPLL,25,41.528430,56.451234
MMPLL,26,41.585746,56.447654
MMPLL,27,41.622799,56.452553
MMPLL,28,41.671478,56.443763
MMPLL,29,41.737417,56.465819
MMPLL,30,41.759744,56.464133
MMPLL,31,41.771561,56.448124
MMPLL,32,41.767567,56.424201
MMPLL,33,41.750980,56.402557
MMPLL,34,41.723384,56.372648
MMPLL,35,41.704273,56.370049
MMPLL,36,41.665575,56.335878
MMPLL,37,41.645298,56.341641
MMPLL,38,41.636640,56.336689
MMPLL,39,41.651352,56.326079
MMPLL,40,41.608415,56.276767
MMPLL,41,41.571623,56.265801
MMPLL,42,41.559613,56.246513
MMPLL,43,41.542707,56.228737
MMPLL,44,41.514231,56.203709
MMPLL,45,41.473439,56.200749
MMPLL,46,41.460240,56.195898
MMPLL,47,41.463173,56.168982
MMPLL,48,41.427862,56.142943
MMPLL,49,41.384166,56.114417
MMPLL,50,41.345361,56.116309
MMPLL,51,41.344696,56.083839
MMPLL,52,41.298471,56.077331
MMPLL,53,41.256168,56.098492
MMPLL,54,41.270355,56.120312
MMPLL,55,41.230065,56.105476
MMPLL,56,41.213826,56.128831
MMPLL,57,41.168622,56.118609
MMPLL,58,41.139645,56.134413
MMPLL,59,41.127934,56.163611
MMPLL,60,41.103666,56.168591
MMPLL,61,41.107069,56.188099
MMPLL,62,41.077817,56.186959
MMPLL,63,41.028707,56.203878
MMPLL,64,41.045411,56.224104
MMPLL,65,41.020310,56.221815
MMPLL,66,40.926124,56.226966
MMPLL,67,40.914212,56.258613
MMPLL,68,40.944789,56.263935
MMPLL,69,40.970448,56.285504
MMPLL,70,40.951930,56.295982
MMPLL,71,40.964137,56.309977
MM1B,14.777142
MOP,Map Open Position,0,0
IWH,Map Image Width/Height,3677,2898
