OziExplorer Map Data File Version 2.2
Kovrov2.ozf2
Kovrov2.ozf2
1 ,Map Code,
WGS 84,, 0.0000, 0.0000,WGS 84
Reserved 1
Reserved 2
Magnetic Variation,,,E
Map Projection,Latitude/Longitude,PolyCal,No,AutoCalOnly,No,BSBUseWPX,No
Point01,xy, 4465, 2046,in, deg, 56,29.0565717,N, 41,47.37061,E, grid, , , ,N
Point02,xy, 3275, 2301,in, deg, 56,26.91345,N, 41,30.42322,E, grid, , , ,N
Point03,xy, 226, 2304,in, deg, 56,25.6726067,N, 40,48.1582133,E, grid, , , ,N
Point04,xy, 3028, 135,in, deg, 56,43.59976,N, 41,26.8798383,E, grid, , , ,N
Point05,xy, , ,in, deg, , ,N, , ,E, grid, , , ,N
Point06,xy, , ,in, deg, , ,N, , ,E, grid, , , ,N
Point07,xy, , ,in, deg, , ,N, , ,E, grid, , , ,N
Point08,xy, , ,in, deg, , ,N, , ,E, grid, , , ,N
Point09,xy, , ,in, deg, , ,N, , ,E, grid, , , ,N
Point10,xy, , ,in, deg, , ,N, , ,W, grid, , , ,N
Point11,xy, , ,in, deg, , ,N, , ,W, grid, , , ,N
Point12,xy, , ,in, deg, , ,N, , ,W, grid, , , ,N
Point13,xy, , ,in, deg, , ,N, , ,W, grid, , , ,N
Point14,xy, , ,in, deg, , ,N, , ,W, grid, , , ,N
Point15,xy, , ,in, deg, , ,N, , ,W, grid, , , ,N
Point16,xy, , ,in, deg, , ,N, , ,W, grid, , , ,N
Point17,xy, , ,in, deg, , ,N, , ,W, grid, , , ,N
Point18,xy, , ,in, deg, , ,N, , ,W, grid, , , ,N
Point19,xy, , ,in, deg, , ,N, , ,W, grid, , , ,N
Point20,xy, , ,in, deg, , ,N, , ,W, grid, , , ,N
Point21,xy, , ,in, deg, , ,N, , ,W, grid, , , ,N
Point22,xy, , ,in, deg, , ,N, , ,W, grid, , , ,N
Point23,xy, , ,in, deg, , ,N, , ,W, grid, , , ,N
Point24,xy, , ,in, deg, , ,N, , ,W, grid, , , ,N
Point25,xy, , ,in, deg, , ,N, , ,W, grid, , , ,N
Point26,xy, , ,in, deg, , ,N, , ,W, grid, , , ,N
Point27,xy, , ,in, deg, , ,N, , ,W, grid, , , ,N
Point28,xy, , ,in, deg, , ,N, , ,W, grid, , , ,N
Point29,xy, , ,in, deg, , ,N, , ,W, grid, , , ,N
Point30,xy, , ,in, deg, , ,N, , ,W, grid, , , ,N
Projection Setup,,,,,,,,,,
Map Feature = MF ; Map Comment = MC These follow if they exist
Track File = TF These follow if they exist
Moving Map Parameters = MM? These follow if they exist
MM0,Yes
MMPNUM,77
MMPXY,1,0,2535
MMPXY,2,5,2434
MMPXY,3,54,2248
MMPXY,4,102,2231
MMPXY,5,184,1680
MMPXY,6,251,1572
MMPXY,7,471,1474
MMPXY,8,429,1419
MMPXY,9,435,1283
MMPXY,10,572,1263
MMPXY,11,703,1164
MMPXY,12,822,989
MMPXY,13,1019,857
MMPXY,14,1178,844
MMPXY,15,1336,934
MMPXY,16,1516,868
MMPXY,17,1724,876
MMPXY,18,1901,706
MMPXY,19,2024,777
MMPXY,20,2166,731
MMPXY,21,2310,770
MMPXY,22,2383,599
MMPXY,23,2474,478
MMPXY,24,2532,293
MMPXY,25,2652,250
MMPXY,26,2643,174
MMPXY,27,2720,104
MMPXY,28,2851,90
MMPXY,29,3055,5
MMPXY,30,3157,59
MMPXY,31,3151,129
MMPXY,32,3294,174
MMPXY,33,3402,294
MMPXY,34,3469,436
MMPXY,35,3597,457
MMPXY,36,3640,568
MMPXY,37,3770,626
MMPXY,38,3769,756
MMPXY,39,3904,765
MMPXY,40,3899,675
MMPXY,41,3992,557
MMPXY,42,4282,603
MMPXY,43,4328,728
MMPXY,44,4248,842
MMPXY,45,4132,889
MMPXY,46,4258,902
MMPXY,47,4343,1035
MMPXY,48,4424,1133
MMPXY,49,4339,1216
MMPXY,50,4123,1316
MMPXY,51,4072,1443
MMPXY,52,4432,1417
MMPXY,53,4690,1514
MMPXY,54,4985,1693
MMPXY,55,4980,1855
MMPXY,56,4905,1892
MMPXY,57,4870,1986
MMPXY,58,4694,2136
MMPXY,59,4541,2176
MMPXY,60,4437,2095
MMPXY,61,4326,2242
MMPXY,62,3921,2445
MMPXY,63,3801,2387
MMPXY,64,3177,2404
MMPXY,65,3009,2574
MMPXY,66,2820,2588
MMPXY,67,2412,2625
MMPXY,68,2294,2919
MMPXY,69,1918,3112
MMPXY,70,1758,3105
MMPXY,71,1355,3075
MMPXY,72,1303,2969
MMPXY,73,888,2988
MMPXY,74,693,2724
MMPXY,75,679,2605
MMPXY,76,272,2484
MMPXY,77,150,2558
MMPLL,1,40.749488,56.397297
MMPLL,2,40.750422,56.410460
MMPLL,3,40.761397,56.434925
MMPLL,4,40.772521,56.437406
MMPLL,5,40.790343,56.509524
MMPLL,6,40.805681,56.523947
MMPLL,7,40.856623,56.537932
MMPLL,8,40.846731,56.544848
MMPLL,9,40.847818,56.562568
MMPLL,10,40.879634,56.565942
MMPLL,11,40.909876,56.579555
MMPLL,12,40.937155,56.602984
MMPLL,13,40.982672,56.621262
MMPLL,14,41.019621,56.623849
MMPLL,15,41.056570,56.613036
MMPLL,16,41.098283,56.622634
MMPLL,17,41.146675,56.622767
MMPLL,18,41.187454,56.645873
MMPLL,19,41.216221,56.637334
MMPLL,20,41.249141,56.644117
MMPLL,21,41.282719,56.639857
MMPLL,22,41.299309,56.662507
MMPLL,23,41.320199,56.678756
MMPLL,24,41.333268,56.703142
MMPLL,25,41.361079,56.709410
MMPLL,26,41.358814,56.719243
MMPLL,27,41.376563,56.728781
MMPLL,28,41.406997,56.731340
MMPLL,29,41.454248,56.743545
MMPLL,30,41.478093,56.737098
MMPLL,31,41.476856,56.727960
MMPLL,32,41.510215,56.722915
MMPLL,33,41.535604,56.707919
MMPLL,34,41.551508,56.689830
MMPLL,35,41.581324,56.687821
MMPLL,36,41.591576,56.673629
MMPLL,37,41.621941,56.666819
MMPLL,38,41.622003,56.649908
MMPLL,39,41.653420,56.649499
MMPLL,40,41.652053,56.661174
MMPLL,41,41.673415,56.677044
MMPLL,42,41.740964,56.672698
MMPLL,43,41.751945,56.656702
MMPLL,44,41.733598,56.641425
MMPLL,45,41.706727,56.634659
MMPLL,46,41.736059,56.633679
MMPLL,47,41.756129,56.616862
MMPLL,48,41.775189,56.604575
MMPLL,49,41.755609,56.593301
MMPLL,50,41.705601,56.579079
MMPLL,51,41.694028,56.562275
MMPLL,52,41.777693,56.567687
MMPLL,53,41.837915,56.556528
MMPLL,54,41.906928,56.534913
MMPLL,55,41.906133,56.513818
MMPLL,56,41.888774,56.508583
MMPLL,57,41.880847,56.496161
MMPLL,58,41.840255,56.475662
MMPLL,59,41.804763,56.469597
MMPLL,60,41.780392,56.479544
MMPLL,61,41.754911,56.459801
MMPLL,62,41.661181,56.431117
MMPLL,63,41.633141,56.437983
MMPLL,64,41.488058,56.432253
MMPLL,65,41.449372,56.409197
MMPLL,66,41.405448,56.406311
MMPLL,67,41.310645,56.399198
MMPLL,68,41.283868,56.360299
MMPLL,69,41.196860,56.333079
MMPLL,70,41.159633,56.333087
MMPLL,71,41.065841,56.334715
MMPLL,72,41.053507,56.348207
MMPLL,73,40.957035,56.343395
MMPLL,74,40.911086,56.376627
MMPLL,75,40.907560,56.392024
MMPLL,76,40.812631,56.405464
MMPLL,77,40.784426,56.395152
MM1B,14.329534
MOP,Map Open Position,0,0
IWH,Map Image Width/Height,4992,3123
