OziExplorer Map Data File Version 2.2
Kovrov3.ozf2
Kovrov3.ozf2
1 ,Map Code,
WGS 84,, 0.0000, 0.0000,WGS 84
Reserved 1
Reserved 2
Magnetic Variation,,,E
Map Projection,Latitude/Longitude,PolyCal,No,AutoCalOnly,No,BSBUseWPX,No
Point01,xy, 189, 1277,in, deg, 56,46.800035,N, 40,31.87715,E, grid, , , ,N
Point02,xy, 1709, 372,in, deg, 56,54.5658533,N, 40,52.86993,E, grid, , , ,N
Point03,xy, 3113, 2170,in, deg, 56,40.866405,N, 41,14.0994533,E, grid, , , ,N
Point04,xy, 1599, 2488,in, deg, 56,38.0686367,N, 40,53.2031333,E, grid, , , ,N
Point05,xy, , ,in, deg, , ,N, , ,E, grid, , , ,N
Point06,xy, , ,in, deg, , ,N, , ,E, grid, , , ,N
Point07,xy, , ,in, deg, , ,N, , ,E, grid, , , ,N
Point08,xy, , ,in, deg, , ,N, , ,E, grid, , , ,N
Point09,xy, , ,in, deg, , ,N, , ,E, grid, , , ,N
Point10,xy, , ,in, deg, , ,N, , ,W, grid, , , ,N
Point11,xy, , ,in, deg, , ,N, , ,W, grid, , , ,N
Point12,xy, , ,in, deg, , ,N, , ,W, grid, , , ,N
Point13,xy, , ,in, deg, , ,N, , ,W, grid, , , ,N
Point14,xy, , ,in, deg, , ,N, , ,W, grid, , , ,N
Point15,xy, , ,in, deg, , ,N, , ,W, grid, , , ,N
Point16,xy, , ,in, deg, , ,N, , ,W, grid, , , ,N
Point17,xy, , ,in, deg, , ,N, , ,W, grid, , , ,N
Point18,xy, , ,in, deg, , ,N, , ,W, grid, , , ,N
Point19,xy, , ,in, deg, , ,N, , ,W, grid, , , ,N
Point20,xy, , ,in, deg, , ,N, , ,W, grid, , , ,N
Point21,xy, , ,in, deg, , ,N, , ,W, grid, , , ,N
Point22,xy, , ,in, deg, , ,N, , ,W, grid, , , ,N
Point23,xy, , ,in, deg, , ,N, , ,W, grid, , , ,N
Point24,xy, , ,in, deg, , ,N, , ,W, grid, , , ,N
Point25,xy, , ,in, deg, , ,N, , ,W, grid, , , ,N
Point26,xy, , ,in, deg, , ,N, , ,W, grid, , , ,N
Point27,xy, , ,in, deg, , ,N, , ,W, grid, , , ,N
Point28,xy, , ,in, deg, , ,N, , ,W, grid, , , ,N
Point29,xy, , ,in, deg, , ,N, , ,W, grid, , , ,N
Point30,xy, , ,in, deg, , ,N, , ,W, grid, , , ,N
Projection Setup,,,,,,,,,,
Map Feature = MF ; Map Comment = MC These follow if they exist
Track File = TF These follow if they exist
Moving Map Parameters = MM? These follow if they exist
MM0,Yes
MMPNUM,66
MMPXY,1,1,1163
MMPXY,2,39,980
MMPXY,3,202,963
MMPXY,4,208,861
MMPXY,5,333,842
MMPXY,6,343,741
MMPXY,7,570,585
MMPXY,8,652,699
MMPXY,9,672,553
MMPXY,10,850,385
MMPXY,11,1182,539
MMPXY,12,1378,527
MMPXY,13,1535,343
MMPXY,14,1544,21
MMPXY,15,1679,22
MMPXY,16,1997,216
MMPXY,17,2121,568
MMPXY,18,2158,789
MMPXY,19,2240,889
MMPXY,20,2355,842
MMPXY,21,2452,931
MMPXY,22,2416,1088
MMPXY,23,2678,969
MMPXY,24,2818,1033
MMPXY,25,2861,1194
MMPXY,26,2808,1238
MMPXY,27,2777,1413
MMPXY,28,2597,1559
MMPXY,29,2719,1611
MMPXY,30,2833,1546
MMPXY,31,2912,1667
MMPXY,32,3026,1718
MMPXY,33,3057,1654
MMPXY,34,3284,1695
MMPXY,35,3371,1647
MMPXY,36,3432,1753
MMPXY,37,3648,1746
MMPXY,38,3711,1970
MMPXY,39,3605,2058
MMPXY,40,3567,2194
MMPXY,41,3381,2561
MMPXY,42,3181,2506
MMPXY,43,3047,2571
MMPXY,44,2932,2497
MMPXY,45,2785,2636
MMPXY,46,2563,2651
MMPXY,47,2356,2706
MMPXY,48,2185,2638
MMPXY,49,2051,2660
MMPXY,50,1922,2739
MMPXY,51,1772,2950
MMPXY,52,1611,3075
MMPXY,53,1448,3076
MMPXY,54,1266,2974
MMPXY,55,1041,2624
MMPXY,56,1004,2431
MMPXY,57,784,2165
MMPXY,58,646,2062
MMPXY,59,705,1872
MMPXY,60,707,1737
MMPXY,61,559,1741
MMPXY,62,522,1665
MMPXY,63,381,1720
MMPXY,64,268,1538
MMPXY,65,115,1446
MMPXY,66,17,1332
MMPLL,1,40.487366,56.795312
MMPLL,2,40.493730,56.819344
MMPLL,3,40.532004,56.822519
MMPLL,4,40.531964,56.835824
MMPLL,5,40.561231,56.839035
MMPLL,6,40.562150,56.852233
MMPLL,7,40.613562,56.873870
MMPLL,8,40.634568,56.859524
MMPLL,9,40.637208,56.878636
MMPLL,10,40.676869,56.901544
MMPLL,11,40.757524,56.883473
MMPLL,12,40.803668,56.886193
MMPLL,13,40.838138,56.911059
MMPLL,14,40.835662,56.953001
MMPLL,15,40.867577,56.953669
MMPLL,16,40.945496,56.930312
MMPLL,17,40.979830,56.885254
MMPLL,18,40.991732,56.856722
MMPLL,19,41.012539,56.844198
MMPLL,20,41.039042,56.850993
MMPLL,21,41.063236,56.839988
MMPLL,22,41.056974,56.819351
MMPLL,23,41.117185,56.836381
MMPLL,24,41.151182,56.828883
MMPLL,25,41.163645,56.808193
MMPLL,26,41.151750,56.802156
MMPLL,27,41.146926,56.779206
MMPLL,28,41.106478,56.759149
MMPLL,29,41.136051,56.753105
MMPLL,30,41.162060,56.762236
MMPLL,31,41.182458,56.746962
MMPLL,32,41.210126,56.741001
MMPLL,33,41.216537,56.749510
MMPLL,34,41.270764,56.745519
MMPLL,35,41.290637,56.752278
MMPLL,36,41.306567,56.738849
MMPLL,37,41.357509,56.741037
MMPLL,38,41.375598,56.712269
MMPLL,39,41.351808,56.700195
MMPLL,40,41.344772,56.682277
MMPLL,41,41.306066,56.633434
MMPLL,42,41.258018,56.639406
MMPLL,43,41.227282,56.630158
MMPLL,44,41.199049,56.639105
MMPLL,45,41.166299,56.620153
MMPLL,46,41.114053,56.616888
MMPLL,47,41.065924,56.608509
MMPLL,48,41.024544,56.616344
MMPLL,49,40.993193,56.612690
MMPLL,50,40.963839,56.601650
MMPLL,51,40.931409,56.573313
MMPLL,52,40.895151,56.556100
MMPLL,53,40.856647,56.555006
MMPLL,54,40.812181,56.567199
MMPLL,55,40.754009,56.611400
MMPLL,56,40.742507,56.636289
MMPLL,57,40.686717,56.669592
MMPLL,58,40.652635,56.682175
MMPLL,59,40.663861,56.707241
MMPLL,60,40.662403,56.724815
MMPLL,61,40.627487,56.723420
MMPLL,62,40.617657,56.733088
MMPLL,63,40.585125,56.725099
MMPLL,64,40.555820,56.748107
MMPLL,65,40.518350,56.759171
MMPLL,66,40.493563,56.773421
MM1B,14.477280
MOP,Map Open Position,0,0
IWH,Map Image Width/Height,3717,3094
