OziExplorer Map Data File Version 2.2
Pokrov1.ozf2
D:\MAPS\Pics\OldMaps\Mezhevanie\Vladimir\Pokrov1.ozf2
1 ,Map Code,
WGS 84,, 0.0000, 0.0000,WGS 84
Reserved 1
Reserved 2
Magnetic Variation,,,E
Map Projection,Latitude/Longitude,PolyCal,No,AutoCalOnly,No,BSBUseWPX,No
Point01,xy, 1462, 3240,in, deg, 55,41.0265783,N, 39,12.1082267,E, grid, , , ,N
Point02,xy, 259, 2714,in, deg, 55,44.4257117,N, 38,54.462235,E, grid, , , ,N
Point03,xy, 452, 1471,in, deg, 55,54.4840567,N, 38,55.969275,E, grid, , , ,N
Point04,xy, 2657, 348,in, deg, 56,4.86533333,N, 39,25.0402283,E, grid, , , ,N
Point05,xy, 2283, 2060,in, deg, 55,51.5159567,N, 39,21.6828867,E, grid, , , ,N
Point06,xy, , ,in, deg, , ,N, , ,E, grid, , , ,N
Point07,xy, , ,in, deg, , ,N, , ,E, grid, , , ,N
Point08,xy, , ,in, deg, , ,N, , ,E, grid, , , ,N
Point09,xy, , ,in, deg, , ,N, , ,E, grid, , , ,N
Point10,xy, , ,in, deg, , ,, , ,, grid, , , ,
Point11,xy, , ,in, deg, , ,, , ,, grid, , , ,
Point12,xy, , ,in, deg, , ,, , ,, grid, , , ,
Point13,xy, , ,in, deg, , ,, , ,, grid, , , ,
Point14,xy, , ,in, deg, , ,, , ,, grid, , , ,
Point15,xy, , ,in, deg, , ,, , ,, grid, , , ,
Point16,xy, , ,in, deg, , ,, , ,, grid, , , ,
Point17,xy, , ,in, deg, , ,, , ,, grid, , , ,
Point18,xy, , ,in, deg, , ,, , ,, grid, , , ,
Point19,xy, , ,in, deg, , ,, , ,, grid, , , ,
Point20,xy, , ,in, deg, , ,, , ,, grid, , , ,
Point21,xy, , ,in, deg, , ,, , ,, grid, , , ,
Point22,xy, , ,in, deg, , ,, , ,, grid, , , ,
Point23,xy, , ,in, deg, , ,, , ,, grid, , , ,
Point24,xy, , ,in, deg, , ,, , ,, grid, , , ,
Point25,xy, , ,in, deg, , ,, , ,, grid, , , ,
Point26,xy, , ,in, deg, , ,, , ,, grid, , , ,
Point27,xy, , ,in, deg, , ,, , ,, grid, , , ,
Point28,xy, , ,in, deg, , ,, , ,, grid, , , ,
Point29,xy, , ,in, deg, , ,, , ,, grid, , , ,
Point30,xy, , ,in, deg, , ,, , ,, grid, , , ,
Projection Setup,,,,,,,,,,
Map Feature = MF ; Map Comment = MC These follow if they exist
Track File = TF These follow if they exist
Moving Map Parameters = MM? These follow if they exist
MM0,Yes
MMPNUM,69
MMPXY,1,3,1379
MMPXY,2,326,1121
MMPXY,3,619,1284
MMPXY,4,983,1132
MMPXY,5,1066,1203
MMPXY,6,1148,1096
MMPXY,7,1236,1113
MMPXY,8,1451,877
MMPXY,9,1394,703
MMPXY,10,1506,734
MMPXY,11,1475,601
MMPXY,12,1587,476
MMPXY,13,1507,388
MMPXY,14,1482,244
MMPXY,15,1639,94
MMPXY,16,1942,23
MMPXY,17,2048,79
MMPXY,18,2140,68
MMPXY,19,2338,235
MMPXY,20,2307,299
MMPXY,21,2505,168
MMPXY,22,2719,184
MMPXY,23,2793,262
MMPXY,24,2929,350
MMPXY,25,2960,529
MMPXY,26,2854,622
MMPXY,27,2785,551
MMPXY,28,2710,639
MMPXY,29,2890,753
MMPXY,30,2821,889
MMPXY,31,2849,971
MMPXY,32,2606,1287
MMPXY,33,2458,1292
MMPXY,34,2384,1265
MMPXY,35,2295,1292
MMPXY,36,2239,1466
MMPXY,37,2012,1485
MMPXY,38,2115,1651
MMPXY,39,2194,1761
MMPXY,40,2359,1810
MMPXY,41,2535,1893
MMPXY,42,2737,2078
MMPXY,43,2347,2202
MMPXY,44,2133,2282
MMPXY,45,2044,2530
MMPXY,46,1969,2568
MMPXY,47,1831,2639
MMPXY,48,1894,2833
MMPXY,49,2187,3092
MMPXY,50,2112,3209
MMPXY,51,2003,3182
MMPXY,52,2002,3296
MMPXY,53,1783,3363
MMPXY,54,1719,3321
MMPXY,55,1612,3409
MMPXY,56,1400,3392
MMPXY,57,1135,3355
MMPXY,58,864,3439
MMPXY,59,799,3346
MMPXY,60,602,3349
MMPXY,61,50,2816
MMPXY,62,69,2706
MMPXY,63,125,2646
MMPXY,64,131,2441
MMPXY,65,266,2443
MMPXY,66,725,2124
MMPXY,67,456,1855
MMPXY,68,365,1841
MMPXY,69,116,1594
MMPLL,1,38.825457,55.913291
MMPLL,2,38.894807,55.951535
MMPLL,3,38.965547,55.933878
MMPLL,4,39.046437,55.958682
MMPLL,5,39.066966,55.950407
MMPLL,6,39.083753,55.965588
MMPLL,7,39.104369,55.964498
MMPLL,8,39.149263,55.998429
MMPLL,9,39.132695,56.020625
MMPLL,10,39.159118,56.018003
MMPLL,11,39.149351,56.035133
MMPLL,12,39.172697,56.053080
MMPLL,13,39.152524,56.063636
MMPLL,14,39.143922,56.082296
MMPLL,15,39.177146,56.104128
MMPLL,16,39.245576,56.117454
MMPLL,17,39.271109,56.111458
MMPLL,18,39.292095,56.114112
MMPLL,19,39.341020,56.094684
MMPLL,20,39.335138,56.085840
MMPLL,21,39.378185,56.105703
MMPLL,22,39.427820,56.106394
MMPLL,23,39.446412,56.097078
MMPLL,24,39.479491,56.087255
MMPLL,25,39.490165,56.064059
MMPLL,26,39.467571,56.050410
MMPLL,27,39.450269,56.058869
MMPLL,28,39.434720,56.046284
MMPLL,29,39.478451,56.033609
MMPLL,30,39.465232,56.014774
MMPLL,31,39.473302,56.004329
MMPLL,32,39.423533,55.959484
MMPLL,33,39.389523,55.956888
MMPLL,34,39.371937,55.959480
MMPLL,35,39.351958,55.954755
MMPLL,36,39.342484,55.931080
MMPLL,37,39.290544,55.925604
MMPLL,38,39.317556,55.905065
MMPLL,39,39.337932,55.891595
MMPLL,40,39.376925,55.887294
MMPLL,41,39.419123,55.878653
MMPLL,42,39.469325,55.856904
MMPLL,43,39.381891,55.835451
MMPLL,44,39.334150,55.822103
MMPLL,45,39.318531,55.788239
MMPLL,46,39.301995,55.782247
MMPLL,47,39.271592,55.771080
MMPLL,48,39.289938,55.746325
MMPLL,49,39.362571,55.716010
MMPLL,50,39.347594,55.699602
MMPLL,51,39.321942,55.701736
MMPLL,52,39.323960,55.686692
MMPLL,53,39.274810,55.674992
MMPLL,54,39.259232,55.679692
MMPLL,55,39.236309,55.666689
MMPLL,56,39.187116,55.666156
MMPLL,57,39.125314,55.667567
MMPLL,58,39.064515,55.652945
MMPLL,59,39.047701,55.664357
MMPLL,60,39.002359,55.661383
MMPLL,61,38.864632,55.724436
MMPLL,62,38.866841,55.739188
MMPLL,63,38.878563,55.747832
MMPLL,64,38.875903,55.774940
MMPLL,65,38.907055,55.776443
MMPLL,66,39.006544,55.824510
MMPLL,67,38.939244,55.856458
MMPLL,68,38.917996,55.857113
MMPLL,69,38.855740,55.886422
MM1B,14.501216
MOP,Map Open Position,0,0
IWH,Map Image Width/Height,2970,3450
