OziExplorer Map Data File Version 2.2
Pokrov2.ozf2
D:\MAPS\Pics\OldMaps\Mezhevanie\Vladimir\Pokrov2.ozf2
1 ,Map Code,
WGS 84,, 0.0000, 0.0000,WGS 84
Reserved 1
Reserved 2
Magnetic Variation,,,E
Map Projection,Latitude/Longitude,PolyCal,No,AutoCalOnly,No,BSBUseWPX,No
Point01,xy, 1921, 3273,in, deg, 55,35.78599,N, 39,46.1824617,E, grid, , , ,N
Point02,xy, 478, 2140,in, deg, 55,43.58963,N, 39,24.631275,E, grid, , , ,N
Point03,xy, 1959, 845,in, deg, 55,54.580335,N, 39,42.2487467,E, grid, , , ,N
Point04,xy, 2093, 1950,in, deg, 55,46.30993,N, 39,46.9967733,E, grid, , , ,N
Point05,xy, , ,in, deg, , ,N, , ,E, grid, , , ,N
Point06,xy, , ,in, deg, , ,N, , ,E, grid, , , ,N
Point07,xy, , ,in, deg, , ,N, , ,E, grid, , , ,N
Point08,xy, , ,in, deg, , ,N, , ,E, grid, , , ,N
Point09,xy, , ,in, deg, , ,N, , ,E, grid, , , ,N
Point10,xy, , ,in, deg, , ,, , ,, grid, , , ,
Point11,xy, , ,in, deg, , ,, , ,, grid, , , ,
Point12,xy, , ,in, deg, , ,, , ,, grid, , , ,
Point13,xy, , ,in, deg, , ,, , ,, grid, , , ,
Point14,xy, , ,in, deg, , ,, , ,, grid, , , ,
Point15,xy, , ,in, deg, , ,, , ,, grid, , , ,
Point16,xy, , ,in, deg, , ,, , ,, grid, , , ,
Point17,xy, , ,in, deg, , ,, , ,, grid, , , ,
Point18,xy, , ,in, deg, , ,, , ,, grid, , , ,
Point19,xy, , ,in, deg, , ,, , ,, grid, , , ,
Point20,xy, , ,in, deg, , ,, , ,, grid, , , ,
Point21,xy, , ,in, deg, , ,, , ,, grid, , , ,
Point22,xy, , ,in, deg, , ,, , ,, grid, , , ,
Point23,xy, , ,in, deg, , ,, , ,, grid, , , ,
Point24,xy, , ,in, deg, , ,, , ,, grid, , , ,
Point25,xy, , ,in, deg, , ,, , ,, grid, , , ,
Point26,xy, , ,in, deg, , ,, , ,, grid, , , ,
Point27,xy, , ,in, deg, , ,, , ,, grid, , , ,
Point28,xy, , ,in, deg, , ,, , ,, grid, , , ,
Point29,xy, , ,in, deg, , ,, , ,, grid, , , ,
Point30,xy, , ,in, deg, , ,, , ,, grid, , , ,
Projection Setup,,,,,,,,,,
Map Feature = MF ; Map Comment = MC These follow if they exist
Track File = TF These follow if they exist
Moving Map Parameters = MM? These follow if they exist
MM0,Yes
MMPNUM,65
MMPXY,1,35,614
MMPXY,2,109,564
MMPXY,3,268,563
MMPXY,4,372,370
MMPXY,5,507,348
MMPXY,6,664,379
MMPXY,7,709,269
MMPXY,8,1008,6
MMPXY,9,1144,111
MMPXY,10,1288,316
MMPXY,11,1404,244
MMPXY,12,1746,278
MMPXY,13,1866,389
MMPXY,14,1938,315
MMPXY,15,2380,397
MMPXY,16,2413,285
MMPXY,17,2629,171
MMPXY,18,2794,191
MMPXY,19,2875,344
MMPXY,20,2798,456
MMPXY,21,3148,638
MMPXY,22,3060,847
MMPXY,23,3003,969
MMPXY,24,2752,1426
MMPXY,25,2668,1482
MMPXY,26,2740,1892
MMPXY,27,2697,2008
MMPXY,28,2629,2098
MMPXY,29,2658,2211
MMPXY,30,2915,2458
MMPXY,31,3004,2658
MMPXY,32,3086,2675
MMPXY,33,3228,2962
MMPXY,34,3178,3127
MMPXY,35,2982,3204
MMPXY,36,2851,3198
MMPXY,37,2787,3303
MMPXY,38,2661,3217
MMPXY,39,2507,3198
MMPXY,40,2323,3283
MMPXY,41,2291,3173
MMPXY,42,2018,3377
MMPXY,43,1831,3398
MMPXY,44,1731,3188
MMPXY,45,1777,2958
MMPXY,46,1436,2853
MMPXY,47,1265,2536
MMPXY,48,1127,2565
MMPXY,49,883,2396
MMPXY,50,808,2221
MMPXY,51,482,2292
MMPXY,52,341,2209
MMPXY,53,189,2291
MMPXY,54,74,1819
MMPXY,55,4,1729
MMPXY,56,136,1509
MMPXY,57,157,1382
MMPXY,58,450,1267
MMPXY,59,522,1192
MMPXY,60,671,1185
MMPXY,61,590,1101
MMPXY,62,355,1129
MMPXY,63,387,1016
MMPXY,64,24,848
MMPXY,65,100,778
MMPLL,1,39.261307,55.917620
MMPLL,2,39.276779,55.924949
MMPLL,3,39.313243,55.926976
MMPLL,4,39.331277,55.953095
MMPLL,5,39.361597,55.957543
MMPLL,6,39.398570,55.955421
MMPLL,7,39.405572,55.970137
MMPLL,8,39.466246,56.007607
MMPLL,9,39.500636,55.995697
MMPLL,10,39.539886,55.970993
MMPLL,11,39.564333,55.981659
MMPLL,12,39.643857,55.981360
MMPLL,13,39.674756,55.968485
MMPLL,14,39.689044,55.978884
MMPLL,15,39.792971,55.973592
MMPLL,16,39.797159,55.988422
MMPLL,17,39.843288,56.005696
MMPLL,18,39.881764,56.005088
MMPLL,19,39.904982,55.986334
MMPLL,20,39.890695,55.970978
MMPLL,21,39.976530,55.951699
MMPLL,22,39.962652,55.923709
MMPLL,23,39.953258,55.907303
MMPLL,24,39.909467,55.845400
MMPLL,25,39.891880,55.837179
MMPLL,26,39.920803,55.785192
MMPLL,27,39.914441,55.769726
MMPLL,28,39.901555,55.757314
MMPLL,29,39.911628,55.743095
MMPLL,30,39.978083,55.714326
MMPLL,31,40.004558,55.689610
MMPLL,32,40.023893,55.688398
MMPLL,33,40.065162,55.653100
MMPLL,34,40.058675,55.631235
MMPLL,35,40.016018,55.618970
MMPLL,36,39.985769,55.618179
MMPLL,37,39.974255,55.603881
MMPLL,38,39.942735,55.613461
MMPLL,39,39.906814,55.614072
MMPLL,40,39.867152,55.600918
MMPLL,41,39.856482,55.614715
MMPLL,42,39.799991,55.585160
MMPLL,43,39.757705,55.580220
MMPLL,44,39.728403,55.606094
MMPLL,45,39.732007,55.636290
MMPLL,46,39.650566,55.645752
MMPLL,47,39.601732,55.684570
MMPLL,48,39.570935,55.679184
MMPLL,49,39.509822,55.698054
MMPLL,50,39.487317,55.719715
MMPLL,51,39.414640,55.706671
MMPLL,52,39.379768,55.715685
MMPLL,53,39.347360,55.703301
MMPLL,54,39.306693,55.762766
MMPLL,55,39.287906,55.773531
MMPLL,56,39.311550,55.803464
MMPLL,57,39.312530,55.820085
MMPLL,58,39.376302,55.838407
MMPLL,59,39.390560,55.848934
MMPLL,60,39.424547,55.851615
MMPLL,61,39.403416,55.861475
MMPLL,62,39.350325,55.855060
MMPLL,63,39.354253,55.870007
MMPLL,64,39.265857,55.887327
MMPLL,65,39.281184,55.897257
MM1B,14.463765
MOP,Map Open Position,0,0
IWH,Map Image Width/Height,3234,3409
