OziExplorer Map Data File Version 2.2
Pokrov3.ozf2
D:\MAPS\Pics\OldMaps\Mezhevanie\Vladimir\Pokrov3.ozf2
1 ,Map Code,
WGS 84,, 0.0000, 0.0000,WGS 84
Reserved 1
Reserved 2
Magnetic Variation,,,E
Map Projection,Latitude/Longitude,PolyCal,No,AutoCalOnly,No,BSBUseWPX,No
Point01,xy, 2440, 306,in, deg, 56,18.706385,N, 39,49.2216967,E, grid, , , ,N
Point02,xy, 3256, 1095,in, deg, 56,13.1784517,N, 40,1.13971833,E, grid, , , ,N
Point03,xy, 2771, 2189,in, deg, 56,4.33360667,N, 39,55.5564817,E, grid, , , ,N
Point04,xy, 936, 2532,in, deg, 56, 0.58345,N, 39,30.8058333,E, grid, , , ,N
Point05,xy, , ,in, deg, , ,N, , ,E, grid, , , ,N
Point06,xy, , ,in, deg, , ,N, , ,E, grid, , , ,N
Point07,xy, , ,in, deg, , ,N, , ,E, grid, , , ,N
Point08,xy, , ,in, deg, , ,N, , ,E, grid, , , ,N
Point09,xy, , ,in, deg, , ,N, , ,E, grid, , , ,N
Point10,xy, , ,in, deg, , ,, , ,, grid, , , ,
Point11,xy, , ,in, deg, , ,, , ,, grid, , , ,
Point12,xy, , ,in, deg, , ,, , ,, grid, , , ,
Point13,xy, , ,in, deg, , ,, , ,, grid, , , ,
Point14,xy, , ,in, deg, , ,, , ,, grid, , , ,
Point15,xy, , ,in, deg, , ,, , ,, grid, , , ,
Point16,xy, , ,in, deg, , ,, , ,, grid, , , ,
Point17,xy, , ,in, deg, , ,, , ,, grid, , , ,
Point18,xy, , ,in, deg, , ,, , ,, grid, , , ,
Point19,xy, , ,in, deg, , ,, , ,, grid, , , ,
Point20,xy, , ,in, deg, , ,, , ,, grid, , , ,
Point21,xy, , ,in, deg, , ,, , ,, grid, , , ,
Point22,xy, , ,in, deg, , ,, , ,, grid, , , ,
Point23,xy, , ,in, deg, , ,, , ,, grid, , , ,
Point24,xy, , ,in, deg, , ,, , ,, grid, , , ,
Point25,xy, , ,in, deg, , ,, , ,, grid, , , ,
Point26,xy, , ,in, deg, , ,, , ,, grid, , , ,
Point27,xy, , ,in, deg, , ,, , ,, grid, , , ,
Point28,xy, , ,in, deg, , ,, , ,, grid, , , ,
Point29,xy, , ,in, deg, , ,, , ,, grid, , , ,
Point30,xy, , ,in, deg, , ,, , ,, grid, , , ,
Projection Setup,,,,,,,,,,
Map Feature = MF ; Map Comment = MC These follow if they exist
Track File = TF These follow if they exist
Moving Map Parameters = MM? These follow if they exist
MM0,Yes
MMPNUM,66
MMPXY,1,7,1667
MMPXY,2,90,1494
MMPXY,3,339,1313
MMPXY,4,504,1376
MMPXY,5,581,1291
MMPXY,6,704,1286
MMPXY,7,896,1023
MMPXY,8,1071,1054
MMPXY,9,1063,1187
MMPXY,10,1165,1019
MMPXY,11,1243,1173
MMPXY,12,1335,1138
MMPXY,13,1352,1235
MMPXY,14,1459,1243
MMPXY,15,1503,1130
MMPXY,16,1739,1165
MMPXY,17,1844,1044
MMPXY,18,1692,900
MMPXY,19,1814,783
MMPXY,20,1760,659
MMPXY,21,1913,613
MMPXY,22,1782,372
MMPXY,23,2375,7
MMPXY,24,2673,210
MMPXY,25,2767,387
MMPXY,26,2739,434
MMPXY,27,2869,551
MMPXY,28,2932,786
MMPXY,29,3180,790
MMPXY,30,3296,687
MMPXY,31,3500,846
MMPXY,32,3433,1060
MMPXY,33,3110,1257
MMPXY,34,3182,1403
MMPXY,35,3002,1512
MMPXY,36,3010,1644
MMPXY,37,2908,1695
MMPXY,38,2722,1553
MMPXY,39,2715,1795
MMPXY,40,2971,1900
MMPXY,41,2985,2013
MMPXY,42,3027,2213
MMPXY,43,2936,2276
MMPXY,44,2910,2497
MMPXY,45,2680,2480
MMPXY,46,2582,2726
MMPXY,47,2432,2707
MMPXY,48,2281,2887
MMPXY,49,2047,2946
MMPXY,50,1881,2949
MMPXY,51,1773,2874
MMPXY,52,1607,2897
MMPXY,53,1508,2780
MMPXY,54,1119,2835
MMPXY,55,953,2731
MMPXY,56,834,2525
MMPXY,57,672,2539
MMPXY,58,727,2358
MMPXY,59,611,2274
MMPXY,60,711,2174
MMPXY,61,828,2082
MMPXY,62,706,1934
MMPXY,63,552,1834
MMPXY,64,312,1928
MMPXY,65,178,1892
MMPXY,66,23,1732
MMPLL,1,39.287892,56.111305
MMPLL,2,39.304029,56.134475
MMPLL,3,39.357858,56.160408
MMPLL,4,39.396459,56.154005
MMPLL,5,39.412640,56.165767
MMPLL,6,39.440583,56.167694
MMPLL,7,39.480111,56.203604
MMPLL,8,39.520478,56.201432
MMPLL,9,39.520787,56.184201
MMPLL,10,39.541333,56.206925
MMPLL,11,39.561572,56.187883
MMPLL,12,39.581972,56.193355
MMPLL,13,39.587400,56.181026
MMPLL,14,39.611906,56.181110
MMPLL,15,39.620119,56.196138
MMPLL,16,39.674448,56.194086
MMPLL,17,39.696431,56.210781
MMPLL,18,39.659492,56.227762
MMPLL,19,39.685412,56.244119
MMPLL,20,39.671121,56.259543
MMPLL,21,39.705242,56.267069
MMPLL,22,39.671533,56.296775
MMPLL,23,39.800786,56.350017
MMPLL,24,39.871934,56.326951
MMPLL,25,39.896187,56.305111
MMPLL,26,39.890561,56.298760
MMPLL,27,39.922054,56.285030
MMPLL,28,39.940175,56.255389
MMPLL,29,39.996741,56.257459
MMPLL,30,40.021518,56.271948
MMPLL,31,40.070544,56.253576
MMPLL,32,40.058710,56.225286
MMPLL,33,39.988279,56.196520
MMPLL,34,40.007023,56.178447
MMPLL,35,39.967760,56.162517
MMPLL,36,39.971699,56.145582
MMPLL,37,39.949278,56.137943
MMPLL,38,39.904625,56.154311
MMPLL,39,39.906909,56.123037
MMPLL,40,39.966917,56.112169
MMPLL,41,39.971918,56.097746
MMPLL,42,39.984693,56.072398
MMPLL,43,39.964970,56.063327
MMPLL,44,39.962589,56.034563
MMPLL,45,39.909916,56.034356
MMPLL,46,39.891531,56.001618
MMPLL,47,39.857052,56.002504
MMPLL,48,39.825535,55.977722
MMPLL,49,39.773169,55.967676
MMPLL,50,39.735397,55.965558
MMPLL,51,39.709589,55.974102
MMPLL,52,39.672138,55.969406
MMPLL,53,39.647707,55.983458
MMPLL,54,39.559962,55.972311
MMPLL,55,39.520475,55.983989
MMPLL,56,39.490062,56.009307
MMPLL,57,39.453377,56.005813
MMPLL,58,39.463007,56.029723
MMPLL,59,39.435232,56.039343
MMPLL,60,39.456412,56.053279
MMPLL,61,39.481593,56.066360
MMPLL,62,39.451426,56.084169
MMPLL,63,39.414737,56.095457
MMPLL,64,39.361564,56.080835
MMPLL,65,39.330458,56.084079
MMPLL,66,39.292579,56.103092
MM1B,14.213511
MOP,Map Open Position,0,0
IWH,Map Image Width/Height,3514,2982
