OziExplorer Map Data File Version 2.2
Tver_Region_36
Tver_Region.ozf2
1 ,Map Code,
Pulkovo 1942 (1),WGS 84, 0.0000, 0.0000,WGS 84
Reserved 1
Reserved 2
Magnetic Variation,,,E
Map Projection,Transverse Mercator,PolyCal,No,AutoCalOnly,No,BSBUseWPX,No
Point01,xy, 4902, 2638,in, deg, , ,N, , ,E, grid, , 6516000, 6464000,N
Point02,xy, 9511, 1809,in, deg, , ,N, , ,E, grid, , 6672000, 6492000,N
Point03,xy, 3723, 5117,in, deg, , ,N, , ,E, grid, , 6476000, 6380000,N
Point04,xy, 9745, 5708,in, deg, , ,N, , ,E, grid, , 6680000, 6360000,N
Point05,xy, 63, 7714,in, deg, , ,N, , ,E, grid, , 6352000, 6292000,N
Point06,xy, 9159,10544,in, deg, , ,N, , ,E, grid, , 6660000, 6196000,N
Point07,xy, 5848, 7714,in, deg, , ,N, , ,E, grid, , 6548000, 6292000,N
Point08,xy, 1479,11494,in, deg, , ,N, , ,E, grid, , 6400000, 6164000,N
Point09,xy, 5966,11257,in, deg, , ,N, , ,E, grid, , 6552000, 6172000,N
Point10,xy, , ,in, deg, , ,N, , ,W, grid, , , ,N
Point11,xy, , ,in, deg, , ,N, , ,W, grid, , , ,N
Point12,xy, , ,in, deg, , ,N, , ,W, grid, , , ,N
Point13,xy, , ,in, deg, , ,N, , ,W, grid, , , ,N
Point14,xy, , ,in, deg, , ,N, , ,W, grid, , , ,N
Point15,xy, , ,in, deg, , ,N, , ,W, grid, , , ,N
Point16,xy, , ,in, deg, , ,N, , ,W, grid, , , ,N
Point17,xy, , ,in, deg, , ,N, , ,W, grid, , , ,N
Point18,xy, , ,in, deg, , ,N, , ,W, grid, , , ,N
Point19,xy, , ,in, deg, , ,N, , ,W, grid, , , ,N
Point20,xy, , ,in, deg, , ,N, , ,W, grid, , , ,N
Point21,xy, , ,in, deg, , ,N, , ,W, grid, , , ,N
Point22,xy, , ,in, deg, , ,N, , ,W, grid, , , ,N
Point23,xy, , ,in, deg, , ,N, , ,W, grid, , , ,N
Point24,xy, , ,in, deg, , ,N, , ,W, grid, , , ,N
Point25,xy, , ,in, deg, , ,N, , ,W, grid, , , ,N
Point26,xy, , ,in, deg, , ,N, , ,W, grid, , , ,N
Point27,xy, , ,in, deg, , ,N, , ,W, grid, , , ,N
Point28,xy, , ,in, deg, , ,N, , ,W, grid, , , ,N
Point29,xy, , ,in, deg, , ,N, , ,W, grid, , , ,N
Point30,xy, , ,in, deg, , ,N, , ,W, grid, , , ,N
Projection Setup, 0.000000000, 33.000000000, 1.000000000, 6500000.00, 0.00,,,,,
Map Feature = MF ; Map Comment = MC These follow if they exist
Track File = TF These follow if they exist
Moving Map Parameters = MM? These follow if they exist
MM0,Yes
MMPNUM,26
MMPXY,1,0,6833
MMPXY,2,1910,6749
MMPXY,3,1882,6276
MMPXY,4,2793,6217
MMPXY,5,2769,5710
MMPXY,6,3672,5673
MMPXY,7,3640,5093
MMPXY,8,4636,5029
MMPXY,9,4569,3468
MMPXY,10,4844,3457
MMPXY,11,4799,2567
MMPXY,12,7936,2444
MMPXY,13,7903,1750
MMPXY,14,9596,1687
MMPXY,15,9917,8946
MMPXY,16,9259,8976
MMPXY,17,9290,9698
MMPXY,18,9146,9702
MMPXY,19,9177,10562
MMPXY,20,6055,10683
MMPXY,21,6088,11369
MMPXY,22,1370,11566
MMPXY,23,1308,10026
MMPXY,24,835,10042
MMPXY,25,775,8491
MMPXY,26,86,8527
MMPLL,1, 30.530745, 56.992450
MMPLL,2, 31.593553, 57.034320
MMPLL,3, 31.572459, 57.178005
MMPLL,4, 32.082038, 57.200646
MMPLL,5, 32.064733, 57.354771
MMPLL,6, 32.572629, 57.368707
MMPLL,7, 32.552518, 57.545088
MMPLL,8, 33.115869, 57.565220
MMPLL,9, 33.079122, 58.040111
MMPLL,10, 33.236812, 58.043240
MMPLL,11, 33.212697, 58.314009
MMPLL,12, 35.026557, 58.335313
MMPLL,13, 35.019605, 58.546579
MMPLL,14, 36.004650, 58.546346
MMPLL,15, 36.003909, 56.336741
MMPLL,16, 35.643394, 56.335880
MMPLL,17, 35.645118, 56.116063
MMPLL,18, 35.566723, 56.116512
MMPLL,19, 35.566129, 55.854734
MMPLL,20, 33.877310, 55.841783
MMPLL,21, 33.890327, 55.632927
MMPLL,22, 31.356220, 55.565552
MMPLL,23, 31.302822, 56.033524
MMPLL,24, 31.046253, 56.024894
MMPLL,25, 30.989222, 56.496025
MMPLL,26, 30.611379, 56.478427
MM1B,33.852179
MOP,Map Open Position,0,0
IWH,Map Image Width/Height,14072,11568
