OziExplorer Map Data File Version 2.2
63.jpg
e:\кпк\карты\Карты Ozi для КПК\Тверская современная с привязкой на месте для КПК\63.ozf2
1 ,Map Code,
Pulkovo 1942 (2),WGS 84, 0.0000, 0.0000,WGS 84
Reserved 1
Reserved 2
Magnetic Variation,,,E
Map Projection,Latitude/Longitude,PolyCal,No,AutoCalOnly,No,BSBUseWPX,No
Point01,xy, 344, 1655,in, deg, 57, 42.4330,N, 36, 58.3040,E, grid, , , ,N
Point02,xy, 455, 1524,in, deg, 57, 43.5920,N, 37, 0.3410,E, grid, , , ,N
Point03,xy, 548, 1335,in, deg, 57, 45.2440,N, 37, 1.9920,E, grid, , , ,N
Point04,xy, 864, 1070,in, deg, 57, 47.5830,N, 37, 7.6610,E, grid, , , ,N
Point05,xy, 154, 1498,in, deg, 57, 43.9450,N, 36, 55.1650,E, grid, , , ,N
Point06,xy, 300, 923,ex, deg, 57, 49.0840,N, 36, 58.0220,E, grid, , , ,N
Point07,xy, , ,in, deg, , ,N, , ,W, grid, , , ,N
Point08,xy, , ,in, deg, , ,N, , ,W, grid, , , ,N
Point09,xy, , ,in, deg, , ,N, , ,W, grid, , , ,N
Point10,xy, , ,in, deg, , ,N, , ,W, grid, , , ,N
Point11,xy, , ,in, deg, , ,N, , ,W, grid, , , ,N
Point12,xy, , ,in, deg, , ,N, , ,W, grid, , , ,N
Point13,xy, , ,in, deg, , ,N, , ,W, grid, , , ,N
Point14,xy, , ,in, deg, , ,N, , ,W, grid, , , ,N
Point15,xy, , ,in, deg, , ,N, , ,W, grid, , , ,N
Point16,xy, , ,in, deg, , ,N, , ,W, grid, , , ,N
Point17,xy, , ,in, deg, , ,N, , ,W, grid, , , ,N
Point18,xy, , ,in, deg, , ,N, , ,W, grid, , , ,N
Point19,xy, , ,in, deg, , ,N, , ,W, grid, , , ,N
Point20,xy, , ,in, deg, , ,N, , ,W, grid, , , ,N
Point21,xy, , ,in, deg, , ,N, , ,W, grid, , , ,N
Point22,xy, , ,in, deg, , ,N, , ,W, grid, , , ,N
Point23,xy, , ,in, deg, , ,N, , ,W, grid, , , ,N
Point24,xy, , ,in, deg, , ,N, , ,W, grid, , , ,N
Point25,xy, , ,in, deg, , ,N, , ,W, grid, , , ,N
Point26,xy, , ,in, deg, , ,N, , ,W, grid, , , ,N
Point27,xy, , ,in, deg, , ,N, , ,W, grid, , , ,N
Point28,xy, , ,in, deg, , ,N, , ,W, grid, , , ,N
Point29,xy, , ,in, deg, , ,N, , ,W, grid, , , ,N
Point30,xy, , ,in, deg, , ,N, , ,W, grid, , , ,N
Projection Setup,,,,,,,,,,
Map Feature = MF ; Map Comment = MC These follow if they exist
Track File = TF These follow if they exist
Moving Map Parameters = MM? These follow if they exist
MM0,Yes
MMPNUM,4
MMPXY,1,0,0
MMPXY,2,1003,0
MMPXY,3,1003,1676
MMPXY,4,0,1676
MMPLL,1, 36.891949, 57.961257
MMPLL,2, 37.179277, 57.954779
MMPLL,3, 37.160457, 57.699728
MMPLL,4, 36.873129, 57.706206
MM1B,16.988549
LL Grid Setup
LLGRID,Yes,1 Deg,Yes,255,16711680,0,Без подпис,0,16777215,7,1,Yes,x
Other Grid Setup
GRGRID,No,2 Km,Yes,16711680,255,Без подпис,0,16777215,8,1,Yes,No,No,x
MOP,Map Open Position,0,0
IWH,Map Image Width/Height,1003,1676
