OziExplorer Map Data File Version 2.1
18.jpg
C:\Documents and Settings\Михаил\Рабочий стол\Карты откорректированные на 28.06.06\Ярославская область ozi\18.ozf2
1 TIFF scale factor
Pulkovo 1942 (2),WGS 84, 0.0000, 0.0000,WGS 84
Reserved 1
Reserved 2
Magnetic Variation,,,E
Map Projection,Transverse Mercator,PolyCal,No,AutoCalOnly,No,BSBUseWPX,No
Point01,xy, 284, 69,in, deg, , ,N, , ,E, grid, , 524000, 6468000,N
Point02,xy, 292, 2118,in, deg, , ,N, , ,E, grid, , 524000, 6416000,N
Point03,xy, 1238, 2114,in, deg, , ,N, , ,E, grid, , 548000, 6416000,N
Point04,xy, 1227, 66,in, deg, , ,N, , ,E, grid, , 548000, 6468000,N
Point05,xy, , ,in, deg, , ,N, , ,E, grid, , , ,N
Point06,xy, , ,in, deg, , ,N, , ,E, grid, , , ,N
Point07,xy, , ,in, deg, , ,N, , ,E, grid, , , ,N
Point08,xy, , ,in, deg, , ,N, , ,E, grid, , , ,N
Point09,xy, , ,in, deg, , ,N, , ,E, grid, , , ,N
Point10,xy, , ,in, deg, , ,N, , ,W, grid, , , ,N
Point11,xy, , ,in, deg, , ,N, , ,W, grid, , , ,N
Point12,xy, , ,in, deg, , ,N, , ,W, grid, , , ,N
Point13,xy, , ,in, deg, , ,N, , ,W, grid, , , ,N
Point14,xy, , ,in, deg, , ,N, , ,W, grid, , , ,N
Point15,xy, , ,in, deg, , ,N, , ,W, grid, , , ,N
Point16,xy, , ,in, deg, , ,N, , ,W, grid, , , ,N
Point17,xy, , ,in, deg, , ,N, , ,W, grid, , , ,N
Point18,xy, , ,in, deg, , ,N, , ,W, grid, , , ,N
Point19,xy, , ,in, deg, , ,N, , ,W, grid, , , ,N
Point20,xy, , ,in, deg, , ,N, , ,W, grid, , , ,N
Point21,xy, , ,in, deg, , ,N, , ,W, grid, , , ,N
Point22,xy, , ,in, deg, , ,N, , ,W, grid, , , ,N
Point23,xy, , ,in, deg, , ,N, , ,W, grid, , , ,N
Point24,xy, , ,in, deg, , ,N, , ,W, grid, , , ,N
Point25,xy, , ,in, deg, , ,N, , ,W, grid, , , ,N
Point26,xy, , ,in, deg, , ,N, , ,W, grid, , , ,N
Point27,xy, , ,in, deg, , ,N, , ,W, grid, , , ,N
Point28,xy, , ,in, deg, , ,N, , ,W, grid, , , ,N
Point29,xy, , ,in, deg, , ,N, , ,W, grid, , , ,N
Point30,xy, , ,in, deg, , ,N, , ,W, grid, , , ,N
Projection Setup, 0.000000000, 39.000000000, 1.000000000, 500000.00, 0.00,,,,,
Map Feature = MF ; Map Comment = MC These follow if they exist
Track File = TF These follow if they exist
Moving Map Parameters = MM? These follow if they exist
MM0,Yes
MMPNUM,4
MMPXY,1,0,0
MMPXY,2,1346,0
MMPXY,3,1346,2222
MMPXY,4,0,2222
MMPLL,1, 39.287046, 58.344340
MMPLL,2, 39.870961, 58.340562
MMPLL,3, 39.854303, 57.834251
MMPLL,4, 39.278599, 57.837957
MM1B,25.399669
Other Grid Setup
GRGRID,Yes,4 Km,Yes,16711680,255,4 Km,0,16777215,8,1,Yes,No,No,x
MOP,Map Open Position,0,0
IWH,Map Image Width/Height,1346,2222
