OziExplorer Map Data File Version 2.2
C3a1.jpg
C3A1.ozf2
1 ,Map Code,
WGS 84,, 0.0000, 0.0000,WGS 84
Reserved 1
Reserved 2
Magnetic Variation,,,E
Map Projection,Latitude/Longitude,PolyCal,No,AutoCalOnly,No,BSBUseWPX,No
Point01,xy, 557, 544,in, deg, 58,2.72353333,N, 34,35.2639667,E, grid, , , ,N
Point02,xy, 198, 490,in, deg, 58, 2.92269,N, 34,30.0804533,E, grid, , , ,N
Point03,xy, 919, 199,in, deg, 58, 5,N, 34, 40,E, grid, , , ,N
Point04,xy, 113, 155,in, deg, 58,5.55225667,N, 34,28.8812033,E, grid, , , ,N
Point05,xy, , ,in, deg, , ,N, , ,E, grid, , , ,N
Point06,xy, , ,in, deg, , ,N, , ,E, grid, , , ,N
Point07,xy, , ,in, deg, , ,N, , ,E, grid, , , ,N
Point08,xy, , ,in, deg, , ,N, , ,E, grid, , , ,N
Point09,xy, , ,in, deg, , ,N, , ,E, grid, , , ,N
Point10,xy, , ,in, deg, , ,N, , ,W, grid, , , ,N
Point11,xy, , ,in, deg, , ,N, , ,W, grid, , , ,N
Point12,xy, , ,in, deg, , ,N, , ,W, grid, , , ,N
Point13,xy, , ,in, deg, , ,N, , ,W, grid, , , ,N
Point14,xy, , ,in, deg, , ,N, , ,W, grid, , , ,N
Point15,xy, , ,in, deg, , ,N, , ,W, grid, , , ,N
Point16,xy, , ,in, deg, , ,N, , ,W, grid, , , ,N
Point17,xy, , ,in, deg, , ,N, , ,W, grid, , , ,N
Point18,xy, , ,in, deg, , ,N, , ,W, grid, , , ,N
Point19,xy, , ,in, deg, , ,N, , ,W, grid, , , ,N
Point20,xy, , ,in, deg, , ,N, , ,W, grid, , , ,N
Point21,xy, , ,in, deg, , ,N, , ,W, grid, , , ,N
Point22,xy, , ,in, deg, , ,N, , ,W, grid, , , ,N
Point23,xy, , ,in, deg, , ,N, , ,W, grid, , , ,N
Point24,xy, , ,in, deg, , ,N, , ,W, grid, , , ,N
Point25,xy, , ,in, deg, , ,N, , ,W, grid, , , ,N
Point26,xy, , ,in, deg, , ,N, , ,W, grid, , , ,N
Point27,xy, , ,in, deg, , ,N, , ,W, grid, , , ,N
Point28,xy, , ,in, deg, , ,N, , ,W, grid, , , ,N
Point29,xy, , ,in, deg, , ,N, , ,W, grid, , , ,N
Point30,xy, , ,in, deg, , ,N, , ,W, grid, , , ,N
Projection Setup, 0.000000000, 33.000000000, 1.000000000, 500000.00, 0.00,,,,,
Map Feature = MF ; Map Comment = MC These follow if they exist
Track File = TF These follow if they exist
Moving Map Parameters = MM? These follow if they exist
MM0,Yes
MMPNUM,20
MMPXY,1,124,680
MMPXY,2,205,594
MMPXY,3,165,479
MMPXY,4,204,409
MMPXY,5,55,216
MMPXY,6,67,98
MMPXY,7,174,121
MMPXY,8,320,380
MMPXY,9,429,218
MMPXY,10,496,182
MMPXY,11,561,269
MMPXY,12,739,296
MMPXY,13,872,212
MMPXY,14,1002,233
MMPXY,15,1041,188
MMPXY,16,1127,155
MMPXY,17,1129,91
MMPXY,18,1105,59
MMPXY,19,1131,32
MMPXY,20,1135,673
MMPLL,1,34.487113,58.027864
MMPLL,2,34.505205,58.038105
MMPLL,3,34.495104,58.052159
MMPLL,4,34.503603,58.060560
MMPLL,5,34.467721,58.084347
MMPLL,6,34.469621,58.098639
MMPLL,7,34.494532,58.095587
MMPLL,8,34.530210,58.063797
MMPLL,9,34.554213,58.083193
MMPLL,10,34.569439,58.087399
MMPLL,11,34.585113,58.076682
MMPLL,12,34.626471,58.072972
MMPLL,13,34.656601,58.082842
MMPLL,14,34.686816,58.079977
MMPLL,15,34.695500,58.085344
MMPLL,16,34.715141,58.089139
MMPLL,17,34.715129,58.096902
MMPLL,18,34.709343,58.100844
MMPLL,19,34.715154,58.104058
MMPLL,20,34.720829,58.026251
MM1B,13.646670
MOP,Map Open Position,0,0
IWH,Map Image Width/Height,1159,720
