OziExplorer Map Data File Version 2.2
D2b2.jpg
D2B2.ozf2
1 ,Map Code,
WGS 84,, 0.0000, 0.0000,WGS 84
Reserved 1
Reserved 2
Magnetic Variation,,,E
Map Projection,Latitude/Longitude,PolyCal,No,AutoCalOnly,No,BSBUseWPX,No
Point01,xy, 2012, 1764,in, deg, 57, 20,N, 34, 0,E, grid, , , ,N
Point02,xy, 2027, 467,in, deg, 57, 30,N, 34, 0,E, grid, , , ,N
Point03,xy, 1328, 466,in, deg, 57, 30,N, 33, 50,E, grid, , , ,N
Point04,xy, 624, 1748,in, deg, 57, 20,N, 33, 40,E, grid, , , ,N
Point05,xy, , ,in, deg, , ,N, , ,E, grid, , , ,N
Point06,xy, , ,in, deg, , ,N, , ,E, grid, , , ,N
Point07,xy, , ,in, deg, , ,N, , ,E, grid, , , ,N
Point08,xy, , ,in, deg, , ,N, , ,E, grid, , , ,N
Point09,xy, , ,in, deg, , ,N, , ,E, grid, , , ,N
Point10,xy, , ,in, deg, , ,N, , ,W, grid, , , ,N
Point11,xy, , ,in, deg, , ,N, , ,W, grid, , , ,N
Point12,xy, , ,in, deg, , ,N, , ,W, grid, , , ,N
Point13,xy, , ,in, deg, , ,N, , ,W, grid, , , ,N
Point14,xy, , ,in, deg, , ,N, , ,W, grid, , , ,N
Point15,xy, , ,in, deg, , ,N, , ,W, grid, , , ,N
Point16,xy, , ,in, deg, , ,N, , ,W, grid, , , ,N
Point17,xy, , ,in, deg, , ,N, , ,W, grid, , , ,N
Point18,xy, , ,in, deg, , ,N, , ,W, grid, , , ,N
Point19,xy, , ,in, deg, , ,N, , ,W, grid, , , ,N
Point20,xy, , ,in, deg, , ,N, , ,W, grid, , , ,N
Point21,xy, , ,in, deg, , ,N, , ,W, grid, , , ,N
Point22,xy, , ,in, deg, , ,N, , ,W, grid, , , ,N
Point23,xy, , ,in, deg, , ,N, , ,W, grid, , , ,N
Point24,xy, , ,in, deg, , ,N, , ,W, grid, , , ,N
Point25,xy, , ,in, deg, , ,N, , ,W, grid, , , ,N
Point26,xy, , ,in, deg, , ,N, , ,W, grid, , , ,N
Point27,xy, , ,in, deg, , ,N, , ,W, grid, , , ,N
Point28,xy, , ,in, deg, , ,N, , ,W, grid, , , ,N
Point29,xy, , ,in, deg, , ,N, , ,W, grid, , , ,N
Point30,xy, , ,in, deg, , ,N, , ,W, grid, , , ,N
Projection Setup, 0.000000000, 33.000000000, 1.000000000, 500000.00, 0.00,,,,,
Map Feature = MF ; Map Comment = MC These follow if they exist
Track File = TF These follow if they exist
Moving Map Parameters = MM? These follow if they exist
MM0,Yes
MMPNUM,19
MMPXY,1,18,1323
MMPXY,2,190,1377
MMPXY,3,343,1346
MMPXY,4,463,1266
MMPXY,5,755,1191
MMPXY,6,785,1068
MMPXY,7,930,961
MMPXY,8,969,864
MMPXY,9,1114,719
MMPXY,10,1349,583
MMPXY,11,1476,598
MMPXY,12,1592,448
MMPXY,13,1655,289
MMPXY,14,1730,303
MMPXY,15,1759,176
MMPXY,16,1784,39
MMPXY,17,2535,25
MMPXY,18,2557,1819
MMPXY,19,24,1832
MMPLL,1,33.520646,57.387559
MMPLL,2,33.562010,57.380809
MMPLL,3,33.598628,57.384992
MMPLL,4,33.627225,57.395451
MMPLL,5,33.697076,57.405477
MMPLL,6,33.703996,57.421369
MMPLL,7,33.738527,57.435340
MMPLL,8,33.747662,57.447892
MMPLL,9,33.782109,57.466761
MMPLL,10,33.838156,57.484580
MMPLL,11,33.868642,57.482802
MMPLL,12,33.896124,57.502280
MMPLL,13,33.910876,57.522854
MMPLL,14,33.928892,57.521141
MMPLL,15,33.935563,57.537547
MMPLL,16,33.941252,57.555238
MMPLL,17,34.121301,57.557963
MMPLL,18,34.130570,57.326729
MMPLL,19,33.523218,57.321952
MM1B,14.395061
MOP,Map Open Position,0,0
IWH,Map Image Width/Height,2673,1989
