OziExplorer Map Data File Version 2.2
D6.jpg
d:\maps\pics\OldMaps\1862\Tver\OZF2\D6.ozf2
1 ,Map Code,
WGS 84,, 0.0000, 0.0000,WGS 84
Reserved 1
Reserved 2
Magnetic Variation,,,E
Map Projection,Latitude/Longitude,PolyCal,No,AutoCalOnly,No,BSBUseWPX,No
Point01,xy, 417, 1339,in, deg, 57,20.313595,N, 37,48.880835,E, grid, , , ,N
Point02,xy, 2453, 1522,in, deg, 57,18.3589667,N, 38,17.9979867,E, grid, , , ,N
Point03,xy, 2334, 1103,in, deg, 57,21.6826867,N, 38,16.36329,E, grid, , , ,N
Point04,xy, 155, 276,in, deg, 57,28.6589333,N, 37,45.5817633,E, grid, , , ,N
Point05,xy, , ,in, deg, , ,N, , ,E, grid, , , ,N
Point06,xy, , ,in, deg, , ,N, , ,E, grid, , , ,N
Point07,xy, , ,in, deg, , ,N, , ,E, grid, , , ,N
Point08,xy, , ,in, deg, , ,N, , ,E, grid, , , ,N
Point09,xy, , ,in, deg, , ,N, , ,E, grid, , , ,N
Point10,xy, , ,in, deg, , ,N, , ,W, grid, , , ,N
Point11,xy, , ,in, deg, , ,N, , ,W, grid, , , ,N
Point12,xy, , ,in, deg, , ,N, , ,W, grid, , , ,N
Point13,xy, , ,in, deg, , ,N, , ,W, grid, , , ,N
Point14,xy, , ,in, deg, , ,N, , ,W, grid, , , ,N
Point15,xy, , ,in, deg, , ,N, , ,W, grid, , , ,N
Point16,xy, , ,in, deg, , ,N, , ,W, grid, , , ,N
Point17,xy, , ,in, deg, , ,N, , ,W, grid, , , ,N
Point18,xy, , ,in, deg, , ,N, , ,W, grid, , , ,N
Point19,xy, , ,in, deg, , ,N, , ,W, grid, , , ,N
Point20,xy, , ,in, deg, , ,N, , ,W, grid, , , ,N
Point21,xy, , ,in, deg, , ,N, , ,W, grid, , , ,N
Point22,xy, , ,in, deg, , ,N, , ,W, grid, , , ,N
Point23,xy, , ,in, deg, , ,N, , ,W, grid, , , ,N
Point24,xy, , ,in, deg, , ,N, , ,W, grid, , , ,N
Point25,xy, , ,in, deg, , ,N, , ,W, grid, , , ,N
Point26,xy, , ,in, deg, , ,N, , ,W, grid, , , ,N
Point27,xy, , ,in, deg, , ,N, , ,W, grid, , , ,N
Point28,xy, , ,in, deg, , ,N, , ,W, grid, , , ,N
Point29,xy, , ,in, deg, , ,N, , ,W, grid, , , ,N
Point30,xy, , ,in, deg, , ,N, , ,W, grid, , , ,N
Projection Setup, 0.000000000, 33.000000000, 1.000000000, 500000.00, 0.00,,,,,
Map Feature = MF ; Map Comment = MC These follow if they exist
Track File = TF These follow if they exist
Moving Map Parameters = MM? These follow if they exist
MM0,Yes
MMPNUM,35
MMPXY,1,135,41
MMPXY,2,204,26
MMPXY,3,323,73
MMPXY,4,381,140
MMPXY,5,432,127
MMPXY,6,489,168
MMPXY,7,561,303
MMPXY,8,457,431
MMPXY,9,488,498
MMPXY,10,469,579
MMPXY,11,623,630
MMPXY,12,661,767
MMPXY,13,710,822
MMPXY,14,782,820
MMPXY,15,931,969
MMPXY,16,968,954
MMPXY,17,991,1057
MMPXY,18,1239,1291
MMPXY,19,1333,1142
MMPXY,20,1635,1362
MMPXY,21,1688,1326
MMPXY,22,1744,1355
MMPXY,23,1881,1269
MMPXY,24,1939,1264
MMPXY,25,1986,1210
MMPXY,26,2079,1226
MMPXY,27,2113,1110
MMPXY,28,2335,1029
MMPXY,29,2459,1044
MMPXY,30,2416,1292
MMPXY,31,2475,1347
MMPXY,32,2459,1421
MMPXY,33,2513,1519
MMPXY,34,2483,1563
MMPXY,35,136,1553
MMPLL,1, 37.756130, 57.508365
MMPLL,2, 37.772676, 57.510027
MMPLL,3, 37.800742, 57.503421
MMPLL,4, 37.814137, 57.494471
MMPLL,5, 37.826379, 57.495948
MMPLL,6, 37.839703, 57.490381
MMPLL,7, 37.855997, 57.472534
MMPLL,8, 37.830378, 57.456330
MMPLL,9, 37.837336, 57.447492
MMPLL,10, 37.832284, 57.437043
MMPLL,11, 37.868669, 57.429772
MMPLL,12, 37.876844, 57.411806
MMPLL,13, 37.888171, 57.404453
MMPLL,14, 37.905348, 57.404413
MMPLL,15, 37.939908, 57.384425
MMPLL,16, 37.948826, 57.386220
MMPLL,17, 37.953644, 57.372736
MMPLL,18, 38.011258, 57.341287
MMPLL,19, 38.034628, 57.360262
MMPLL,20, 38.105205, 57.330408
MMPLL,21, 38.118072, 57.334866
MMPLL,22, 38.131235, 57.330863
MMPLL,23, 38.164451, 57.341470
MMPLL,24, 38.178310, 57.341878
MMPLL,25, 38.189863, 57.348701
MMPLL,26, 38.211931, 57.346234
MMPLL,27, 38.220784, 57.361170
MMPLL,28, 38.274231, 57.370772
MMPLL,29, 38.303695, 57.368306
MMPLL,30, 38.291845, 57.336250
MMPLL,31, 38.305555, 57.328855
MMPLL,32, 38.301264, 57.319303
MMPLL,33, 38.313505, 57.306340
MMPLL,34, 38.306069, 57.300746
MMPLL,35, 37.746616, 57.311831
MM1B,14.349064
MOP,Map Open Position,0,0
IWH,Map Image Width/Height,2794,1704
