OziExplorer Map Data File Version 2.2
G2a1.jpg
G2A1.ozf2
1 ,Map Code,
WGS 84,WGS 84, 0.0000, 0.0000,WGS 84
Reserved 1
Reserved 2
Magnetic Variation,,,E
Map Projection,Latitude/Longitude,PolyCal,No,AutoCalOnly,No,BSBUseWPX,No
Point01,xy, 1332, 677,in, deg, 56, 20,N, 33, 30,E, grid, , , ,N
Point02,xy, 1308, 1316,in, deg, 56, 15,N, 33, 30,E, grid, , , ,N
Point03,xy, 592, 1292,in, deg, 56, 15,N, 33, 20,E, grid, , , ,N
Point04,xy, 617, 652,in, deg, 56, 20,N, 33, 20,E, grid, , , ,N
Point05,xy, , ,in, deg, , ,N, , ,E, grid, , , ,N
Point06,xy, , ,in, deg, , ,N, , ,E, grid, , , ,N
Point07,xy, , ,in, deg, , ,N, , ,E, grid, , , ,N
Point08,xy, , ,in, deg, , ,N, , ,E, grid, , , ,N
Point09,xy, , ,in, deg, , ,N, , ,E, grid, , , ,N
Point10,xy, , ,in, deg, , ,, , ,, grid, , , ,
Point11,xy, , ,in, deg, , ,, , ,, grid, , , ,
Point12,xy, , ,in, deg, , ,, , ,, grid, , , ,
Point13,xy, , ,in, deg, , ,, , ,, grid, , , ,
Point14,xy, , ,in, deg, , ,, , ,, grid, , , ,
Point15,xy, , ,in, deg, , ,, , ,, grid, , , ,
Point16,xy, , ,in, deg, , ,, , ,, grid, , , ,
Point17,xy, , ,in, deg, , ,, , ,, grid, , , ,
Point18,xy, , ,in, deg, , ,, , ,, grid, , , ,
Point19,xy, , ,in, deg, , ,, , ,, grid, , , ,
Point20,xy, , ,in, deg, , ,, , ,, grid, , , ,
Point21,xy, , ,in, deg, , ,, , ,, grid, , , ,
Point22,xy, , ,in, deg, , ,, , ,, grid, , , ,
Point23,xy, , ,in, deg, , ,, , ,, grid, , , ,
Point24,xy, , ,in, deg, , ,, , ,, grid, , , ,
Point25,xy, , ,in, deg, , ,, , ,, grid, , , ,
Point26,xy, , ,in, deg, , ,, , ,, grid, , , ,
Point27,xy, , ,in, deg, , ,, , ,, grid, , , ,
Point28,xy, , ,in, deg, , ,, , ,, grid, , , ,
Point29,xy, , ,in, deg, , ,, , ,, grid, , , ,
Point30,xy, , ,in, deg, , ,, , ,, grid, , , ,
Projection Setup,,,,,,,,,,
Map Feature = MF ; Map Comment = MC These follow if they exist
Track File = TF These follow if they exist
Moving Map Parameters = MM? These follow if they exist
MM0,Yes
MMPNUM,21
MMPXY,1,372,149
MMPXY,2,1668,154
MMPXY,3,1658,1930
MMPXY,4,773,1925
MMPXY,5,628,1820
MMPXY,6,525,1867
MMPXY,7,156,1550
MMPXY,8,166,1467
MMPXY,9,262,1373
MMPXY,10,199,1226
MMPXY,11,258,1095
MMPXY,12,154,1080
MMPXY,13,152,977
MMPXY,14,288,893
MMPXY,15,138,819
MMPXY,16,167,621
MMPXY,17,94,552
MMPXY,18,181,360
MMPXY,19,232,330
MMPXY,20,245,280
MMPXY,21,398,191
MMPLL,1,33.271911,56.397735
MMPLL,2,33.573447,56.402860
MMPLL,3,33.586949,56.171688
MMPLL,4,33.381025,56.168395
MMPLL,5,33.346358,56.181413
MMPLL,6,33.322816,56.174838
MMPLL,7,33.234149,56.214447
MMPLL,8,33.235736,56.225294
MMPLL,9,33.257231,56.237955
MMPLL,10,33.241265,56.256804
MMPLL,11,33.253823,56.274115
MMPLL,12,33.229495,56.275604
MMPLL,13,33.228112,56.289000
MMPLL,14,33.259001,56.300537
MMPLL,15,33.223447,56.309499
MMPLL,16,33.228429,56.335396
MMPLL,17,33.210831,56.344050
MMPLL,18,33.229359,56.369425
MMPLL,19,33.240956,56.373556
MMPLL,20,33.243535,56.380121
MMPLL,21,33.278334,56.392385
MM1B,14.396458
MOP,Map Open Position,0,0
IWH,Map Image Width/Height,1713,1981
