OziExplorer Map Data File Version 2.2
Near Moscow 1:200,000
Near_Moscow_200K.ozf2
1 ,Map Code,
Pulkovo 1942 (2),WGS 84, 0.0000, 0.0000,WGS 84
Reserved 1
Reserved 2
Magnetic Variation,,,E
Map Projection,Latitude/Longitude,PolyCal,No,AutoCalOnly,No,BSBUseWPX,No
Point01,xy, 113, 64,in, deg, 56, 57.0398,N, 35, 24.4000,E, grid, , , ,N
Point02,xy, 4694, 372,in, deg, 56, 51.2665,N, 37, 56.1154,E, grid, , , ,N
Point03,xy, 8844, 326,in, deg, 56, 52.0566,N, 40, 13.8755,E, grid, , , ,N
Point04,xy, 353, 4878,in, deg, 55, 28.2048,N, 35, 31.8561,E, grid, , , ,N
Point05,xy, 3811, 4050,in, deg, 55, 43.4390,N, 37, 26.3300,E, grid, , , ,N
Point06,xy, 8689, 3901,in, deg, 55, 46.4211,N, 40, 8.9804,E, grid, , , ,N
Point07,xy, 157, 9299,in, deg, 54, 6.7433,N, 35, 24.9455,E, grid, , , ,N
Point08,xy, 4909, 9406,in, deg, 54, 4.5489,N, 38, 2.5933,E, grid, , , ,N
Point09,xy, 8858, 9460,in, deg, 54, 3.5888,N, 40, 14.5119,E, grid, , , ,N
Point10,xy, , ,in, deg, , ,N, , ,W, grid, , , ,N
Point11,xy, , ,in, deg, , ,N, , ,W, grid, , , ,N
Point12,xy, , ,in, deg, , ,N, , ,W, grid, , , ,N
Point13,xy, , ,in, deg, , ,N, , ,W, grid, , , ,N
Point14,xy, , ,in, deg, , ,N, , ,W, grid, , , ,N
Point15,xy, , ,in, deg, , ,N, , ,W, grid, , , ,N
Point16,xy, , ,in, deg, , ,N, , ,W, grid, , , ,N
Point17,xy, , ,in, deg, , ,N, , ,W, grid, , , ,N
Point18,xy, , ,in, deg, , ,N, , ,W, grid, , , ,N
Point19,xy, , ,in, deg, , ,N, , ,W, grid, , , ,N
Point20,xy, , ,in, deg, , ,N, , ,W, grid, , , ,N
Point21,xy, , ,in, deg, , ,N, , ,W, grid, , , ,N
Point22,xy, , ,in, deg, , ,N, , ,W, grid, , , ,N
Point23,xy, , ,in, deg, , ,N, , ,W, grid, , , ,N
Point24,xy, , ,in, deg, , ,N, , ,W, grid, , , ,N
Point25,xy, , ,in, deg, , ,N, , ,W, grid, , , ,N
Point26,xy, , ,in, deg, , ,N, , ,W, grid, , , ,N
Point27,xy, , ,in, deg, , ,N, , ,W, grid, , , ,N
Point28,xy, , ,in, deg, , ,N, , ,W, grid, , , ,N
Point29,xy, , ,in, deg, , ,N, , ,W, grid, , , ,N
Point30,xy, , ,in, deg, , ,N, , ,W, grid, , , ,N
Projection Setup,,,,,,,,,,
Map Feature = MF ; Map Comment = MC These follow if they exist
Track File = TF These follow if they exist
Moving Map Parameters = MM? These follow if they exist
MM0,Yes
MMPNUM,4
MMPXY,1,5,4
MMPXY,2,9041,4
MMPXY,3,9041,9522
MMPXY,4,4,9522
MMPLL,1, 35.340727, 56.968895
MMPLL,2, 40.344526, 56.967975
MMPLL,3, 40.336388, 54.041518
MMPLL,4, 35.332036, 54.042437
MM1B,34.975247
MOP,Map Open Position,0,0
IWH,Map Image Width/Height,9046,9528
