OziExplorer Map Data File Version 2.2
R1l5.gif
R1L5.ozf2
1 ,Map Code,
WGS 84,WGS 84, 0.0000, 0.0000,WGS 84
Reserved 1
Reserved 2
Magnetic Variation,,,E
Map Projection,Latitude/Longitude,PolyCal,No,AutoCalOnly,No,BSBUseWPX,No
Point01,xy, 240, 173,in, deg, 56, 50,N, 37,4.26666667,E, grid, , , ,N
Point02,xy, 3108, 180,in, deg, 56, 50,N, 37,34.2666667,E, grid, , , ,N
Point03,xy, 3059, 3638,in, deg, 56, 30,N, 37,34.2666667,E, grid, , , ,N
Point04,xy, 192, 3640,in, deg, 56, 30,N, 37,4.26666667,E, grid, , , ,N
Point05,xy, , ,in, deg, , ,N, , ,E, grid, , , ,N
Point06,xy, , ,in, deg, , ,N, , ,E, grid, , , ,N
Point07,xy, , ,in, deg, , ,N, , ,E, grid, , , ,N
Point08,xy, , ,in, deg, , ,N, , ,E, grid, , , ,N
Point09,xy, , ,in, deg, , ,N, , ,E, grid, , , ,N
Point10,xy, , ,in, deg, , ,, , ,, grid, , , ,
Point11,xy, , ,in, deg, , ,, , ,, grid, , , ,
Point12,xy, , ,in, deg, , ,, , ,, grid, , , ,
Point13,xy, , ,in, deg, , ,, , ,, grid, , , ,
Point14,xy, , ,in, deg, , ,, , ,, grid, , , ,
Point15,xy, , ,in, deg, , ,, , ,, grid, , , ,
Point16,xy, , ,in, deg, , ,, , ,, grid, , , ,
Point17,xy, , ,in, deg, , ,, , ,, grid, , , ,
Point18,xy, , ,in, deg, , ,, , ,, grid, , , ,
Point19,xy, , ,in, deg, , ,, , ,, grid, , , ,
Point20,xy, , ,in, deg, , ,, , ,, grid, , , ,
Point21,xy, , ,in, deg, , ,, , ,, grid, , , ,
Point22,xy, , ,in, deg, , ,, , ,, grid, , , ,
Point23,xy, , ,in, deg, , ,, , ,, grid, , , ,
Point24,xy, , ,in, deg, , ,, , ,, grid, , , ,
Point25,xy, , ,in, deg, , ,, , ,, grid, , , ,
Point26,xy, , ,in, deg, , ,, , ,, grid, , , ,
Point27,xy, , ,in, deg, , ,, , ,, grid, , , ,
Point28,xy, , ,in, deg, , ,, , ,, grid, , , ,
Point29,xy, , ,in, deg, , ,, , ,, grid, , , ,
Point30,xy, , ,in, deg, , ,, , ,, grid, , , ,
Projection Setup,,,,,,,,,,
Map Feature = MF ; Map Comment = MC These follow if they exist
Track File = TF These follow if they exist
Moving Map Parameters = MM? These follow if they exist
MM0,Yes
MMPNUM,40
MMPXY,1,190,3638
MMPXY,2,196,3345
MMPXY,3,263,3315
MMPXY,4,337,3323
MMPXY,5,370,3361
MMPXY,6,428,3351
MMPXY,7,331,3272
MMPXY,8,320,3151
MMPXY,9,428,3094
MMPXY,10,601,2748
MMPXY,11,475,2599
MMPXY,12,498,2344
MMPXY,13,434,2212
MMPXY,14,514,2138
MMPXY,15,648,2104
MMPXY,16,633,2057
MMPXY,17,688,2083
MMPXY,18,686,2004
MMPXY,19,583,2002
MMPXY,20,527,1899
MMPXY,21,584,1803
MMPXY,22,673,1791
MMPXY,23,674,1680
MMPXY,24,1072,1448
MMPXY,25,1314,1507
MMPXY,26,1534,1590
MMPXY,27,1752,1573
MMPXY,28,1980,1462
MMPXY,29,2217,1671
MMPXY,30,2325,1782
MMPXY,31,2511,2183
MMPXY,32,2615,2301
MMPXY,33,2603,2449
MMPXY,34,2787,2522
MMPXY,35,2703,2668
MMPXY,36,2900,2761
MMPXY,37,2888,2878
MMPXY,38,2848,2931
MMPXY,39,3063,3185
MMPXY,40,3058,3638
MMPLL,1,37.070807,56.499976
MMPLL,2,37.071137,56.528183
MMPLL,3,37.082746,56.531077
MMPLL,4,37.095669,56.530313
MMPLL,5,37.101516,56.526657
MMPLL,6,37.111605,56.527625
MMPLL,7,37.094498,56.535222
MMPLL,8,37.092285,56.546869
MMPLL,9,37.110977,56.552366
MMPLL,10,37.140297,56.585689
MMPLL,11,37.117963,56.600023
MMPLL,12,37.121351,56.624573
MMPLL,13,37.109869,56.637275
MMPLL,14,37.123638,56.644406
MMPLL,15,37.146920,56.647690
MMPLL,16,37.144189,56.652213
MMPLL,17,37.153843,56.649715
MMPLL,18,37.153301,56.657320
MMPLL,19,37.135337,56.657504
MMPLL,20,37.125321,56.667415
MMPLL,21,37.135025,56.676661
MMPLL,22,37.150514,56.677824
MMPLL,23,37.150417,56.688510
MMPLL,24,37.219248,56.710878
MMPLL,25,37.261589,56.705218
MMPLL,26,37.300152,56.697246
MMPLL,27,37.338122,56.698901
MMPLL,28,37.377607,56.709606
MMPLL,29,37.419442,56.689506
MMPLL,30,37.438544,56.678829
MMPLL,31,37.471956,56.640241
MMPLL,32,37.490378,56.628890
MMPLL,33,37.488647,56.614641
MMPLL,34,37.520909,56.607629
MMPLL,35,37.506619,56.593567
MMPLL,36,37.541196,56.584631
MMPLL,37,37.539389,56.573366
MMPLL,38,37.532544,56.568261
MMPLL,39,37.570653,56.543826
MMPLL,40,37.570888,56.500216
MM1B,10.686934
MOP,Map Open Position,0,0
IWH,Map Image Width/Height,3301,3935
