OziExplorer Map Data File Version 2.2
R3l1.gif
R3L1.ozf2
1 ,Map Code,
WGS 84,WGS 84, 0.0000, 0.0000,WGS 84
Reserved 1
Reserved 2
Magnetic Variation,,,E
Map Projection,Latitude/Longitude,PolyCal,No,AutoCalOnly,No,BSBUseWPX,No
Point01,xy, 248, 174,in, deg, 56, 10,N, 35,4.26666667,E, grid, , , ,N
Point02,xy, 3143, 176,in, deg, 56, 10,N, 35,34.2666667,E, grid, , , ,N
Point03,xy, 3144, 3697,in, deg, 55, 50,N, 35,34.2666667,E, grid, , , ,N
Point04,xy, 191, 3691,in, deg, 55, 50,N, 35,4.26666667,E, grid, , , ,N
Point05,xy, , ,in, deg, , ,N, , ,E, grid, , , ,N
Point06,xy, , ,in, deg, , ,N, , ,E, grid, , , ,N
Point07,xy, , ,in, deg, , ,N, , ,E, grid, , , ,N
Point08,xy, , ,in, deg, , ,N, , ,E, grid, , , ,N
Point09,xy, , ,in, deg, , ,N, , ,E, grid, , , ,N
Point10,xy, , ,in, deg, , ,, , ,, grid, , , ,
Point11,xy, , ,in, deg, , ,, , ,, grid, , , ,
Point12,xy, , ,in, deg, , ,, , ,, grid, , , ,
Point13,xy, , ,in, deg, , ,, , ,, grid, , , ,
Point14,xy, , ,in, deg, , ,, , ,, grid, , , ,
Point15,xy, , ,in, deg, , ,, , ,, grid, , , ,
Point16,xy, , ,in, deg, , ,, , ,, grid, , , ,
Point17,xy, , ,in, deg, , ,, , ,, grid, , , ,
Point18,xy, , ,in, deg, , ,, , ,, grid, , , ,
Point19,xy, , ,in, deg, , ,, , ,, grid, , , ,
Point20,xy, , ,in, deg, , ,, , ,, grid, , , ,
Point21,xy, , ,in, deg, , ,, , ,, grid, , , ,
Point22,xy, , ,in, deg, , ,, , ,, grid, , , ,
Point23,xy, , ,in, deg, , ,, , ,, grid, , , ,
Point24,xy, , ,in, deg, , ,, , ,, grid, , , ,
Point25,xy, , ,in, deg, , ,, , ,, grid, , , ,
Point26,xy, , ,in, deg, , ,, , ,, grid, , , ,
Point27,xy, , ,in, deg, , ,, , ,, grid, , , ,
Point28,xy, , ,in, deg, , ,, , ,, grid, , , ,
Point29,xy, , ,in, deg, , ,, , ,, grid, , , ,
Point30,xy, , ,in, deg, , ,, , ,, grid, , , ,
Projection Setup,,,,,,,,,,
Map Feature = MF ; Map Comment = MC These follow if they exist
Track File = TF These follow if they exist
Moving Map Parameters = MM? These follow if they exist
MM0,Yes
MMPNUM,38
MMPXY,1,1345,3684
MMPXY,2,1199,3516
MMPXY,3,1215,3424
MMPXY,4,1066,3197
MMPXY,5,1104,3117
MMPXY,6,1041,3007
MMPXY,7,1292,2991
MMPXY,8,1377,3078
MMPXY,9,1460,3029
MMPXY,10,1575,2626
MMPXY,11,1383,2485
MMPXY,12,1267,2632
MMPXY,13,1112,2629
MMPXY,14,941,2803
MMPXY,15,798,2595
MMPXY,16,659,2285
MMPXY,17,664,2146
MMPXY,18,766,2076
MMPXY,19,758,1998
MMPXY,20,916,1754
MMPXY,21,1021,1763
MMPXY,22,1155,1573
MMPXY,23,1104,1459
MMPXY,24,1218,1409
MMPXY,25,1319,1514
MMPXY,26,1535,1517
MMPXY,27,1492,1434
MMPXY,28,1663,1138
MMPXY,29,1613,1045
MMPXY,30,1756,948
MMPXY,31,1481,855
MMPXY,32,1441,781
MMPXY,33,1424,500
MMPXY,34,1526,288
MMPXY,35,1662,303
MMPXY,36,1694,175
MMPXY,37,3144,176
MMPXY,38,3143,3696
MMPLL,1,35.265951,55.834239
MMPLL,2,35.240757,55.850133
MMPLL,3,35.243368,55.858850
MMPLL,4,35.217580,55.880333
MMPLL,5,35.223969,55.887915
MMPLL,6,35.213047,55.898327
MMPLL,7,35.255945,55.899875
MMPLL,8,35.270598,55.891645
MMPLL,9,35.284724,55.896297
MMPLL,10,35.303841,55.934485
MMPLL,11,35.270818,55.947816
MMPLL,12,35.251182,55.933877
MMPLL,13,35.224673,55.934141
MMPLL,14,35.195670,55.917637
MMPLL,15,35.170934,55.937321
MMPLL,16,35.146744,55.966667
MMPLL,17,35.147410,55.979834
MMPLL,18,35.164756,55.986478
MMPLL,19,35.163282,55.993865
MMPLL,20,35.189967,56.016998
MMPLL,21,35.207934,56.016159
MMPLL,22,35.230589,56.034174
MMPLL,23,35.221714,56.044966
MMPLL,24,35.241139,56.049717
MMPLL,25,35.258553,56.039784
MMPLL,26,35.295492,56.039528
MMPLL,27,35.288026,56.047384
MMPLL,28,35.316864,56.075444
MMPLL,29,35.308188,56.084247
MMPLL,30,35.332508,56.093454
MMPLL,31,35.285358,56.102227
MMPLL,32,35.278417,56.109232
MMPLL,33,35.275128,56.135847
MMPLL,34,35.292281,56.155941
MMPLL,35,35.315557,56.154538
MMPLL,36,35.320855,56.166666
MMPLL,37,35.568801,56.166760
MMPLL,38,35.573420,55.833335
MM1B,10.662459
MOP,Map Open Position,0,0
IWH,Map Image Width/Height,3358,3990
