OziExplorer Map Data File Version 2.2
R4l8.gif
R4L8.ozf2
1 ,Map Code,
Pulkovo 1942 (1),WGS 84, 0.0000, 0.0000,WGS 84
Reserved 1
Reserved 2
Magnetic Variation,,,E
Map Projection,Latitude/Longitude,PolyCal,No,AutoCalOnly,No,BSBUseWPX,No
Point01,xy, 224, 421,in, deg, 55, 49.0416,N, 38, 35.1832,E, grid, , , ,N
Point02,xy, 2805, 361,in, deg, 55, 49.6659,N, 39, 1.3582,E, grid, , , ,N
Point03,xy, 2733, 3464,in, deg, 55, 31.7757,N, 39, 1.2809,E, grid, , , ,N
Point04,xy, 318, 2978,in, deg, 55, 34.4879,N, 38, 36.2533,E, grid, , , ,N
Point05,xy, , ,in, deg, , ,N, , ,E, grid, , , ,N
Point06,xy, , ,in, deg, , ,N, , ,E, grid, , , ,N
Point07,xy, , ,in, deg, , ,N, , ,E, grid, , , ,N
Point08,xy, , ,in, deg, , ,N, , ,E, grid, , , ,N
Point09,xy, , ,in, deg, , ,N, , ,E, grid, , , ,N
Point10,xy, , ,in, deg, , ,N, , ,W, grid, , , ,N
Point11,xy, , ,in, deg, , ,N, , ,W, grid, , , ,N
Point12,xy, , ,in, deg, , ,N, , ,W, grid, , , ,N
Point13,xy, , ,in, deg, , ,N, , ,W, grid, , , ,N
Point14,xy, , ,in, deg, , ,N, , ,W, grid, , , ,N
Point15,xy, , ,in, deg, , ,N, , ,W, grid, , , ,N
Point16,xy, , ,in, deg, , ,N, , ,W, grid, , , ,N
Point17,xy, , ,in, deg, , ,N, , ,W, grid, , , ,N
Point18,xy, , ,in, deg, , ,N, , ,W, grid, , , ,N
Point19,xy, , ,in, deg, , ,N, , ,W, grid, , , ,N
Point20,xy, , ,in, deg, , ,N, , ,W, grid, , , ,N
Point21,xy, , ,in, deg, , ,N, , ,W, grid, , , ,N
Point22,xy, , ,in, deg, , ,N, , ,W, grid, , , ,N
Point23,xy, , ,in, deg, , ,N, , ,W, grid, , , ,N
Point24,xy, , ,in, deg, , ,N, , ,W, grid, , , ,N
Point25,xy, , ,in, deg, , ,N, , ,W, grid, , , ,N
Point26,xy, , ,in, deg, , ,N, , ,W, grid, , , ,N
Point27,xy, , ,in, deg, , ,N, , ,W, grid, , , ,N
Point28,xy, , ,in, deg, , ,N, , ,W, grid, , , ,N
Point29,xy, , ,in, deg, , ,N, , ,W, grid, , , ,N
Point30,xy, , ,in, deg, , ,N, , ,W, grid, , , ,N
Projection Setup,,,,,,,,,,
Map Feature = MF ; Map Comment = MC These follow if they exist
Track File = TF These follow if they exist
Moving Map Parameters = MM? These follow if they exist
MM0,No
MMPNUM,15
MMPXY,1,198,234
MMPXY,2,2699,256
MMPXY,3,2856,362
MMPXY,4,2502,732
MMPXY,5,2186,1040
MMPXY,6,2098,974
MMPXY,7,2049,1168
MMPXY,8,1987,1357
MMPXY,9,2275,1640
MMPXY,10,2715,2017
MMPXY,11,2902,1977
MMPXY,12,3032,2033
MMPXY,13,3107,2147
MMPXY,14,3089,3721
MMPXY,15,147,3720
MMPLL,1,38.579375,55.836073
MMPLL,2,39.006019,55.836976
MMPLL,3,39.033054,55.827031
MMPLL,4,38.973563,55.791234
MMPLL,5,38.920404,55.761409
MMPLL,6,38.905235,55.767613
MMPLL,7,38.897344,55.749008
MMPLL,8,38.887224,55.730865
MMPLL,9,38.937028,55.704157
MMPLL,10,39.012985,55.668645
MMPLL,11,39.044785,55.672693
MMPLL,12,39.067094,55.667496
MMPLL,13,39.080161,55.656688
MMPLL,14,39.080877,55.506193
MMPLL,15,38.579063,55.502752
MM1B,10.728222
MOP,Map Open Position,0,0
IWH,Map Image Width/Height,3311,3931
