OziExplorer Map Data File Version 2.2
R5 l9.gif
R5 L9.ozf2
1 ,Map Code,
WGS 84,WGS 84, 0.0000, 0.0000,WGS 84
Reserved 1
Reserved 2
Magnetic Variation,,,E
Map Projection,Latitude/Longitude,PolyCal,No,AutoCalOnly,No,BSBUseWPX,No
Point01,xy, 113, 2143,in, deg, 55, 20.0000,N, 39, 4.2667,E, grid, , , ,N
Point02,xy, 1608, 2119,in, deg, 55, 20.0000,N, 39, 19.2667,E, grid, , , ,N
Point03,xy, 1611, 394,in, deg, 55, 30.0000,N, 39, 19.2667,E, grid, , , ,N
Point04,xy, 132, 423,in, deg, 55, 30.0000,N, 39, 4.2667,E, grid, , , ,N
Point05,xy, , ,in, deg, , ,N, , ,E, grid, , , ,N
Point06,xy, , ,in, deg, , ,N, , ,E, grid, , , ,N
Point07,xy, , ,in, deg, , ,N, , ,E, grid, , , ,N
Point08,xy, , ,in, deg, , ,N, , ,E, grid, , , ,N
Point09,xy, , ,in, deg, , ,N, , ,E, grid, , , ,N
Point10,xy, , ,in, deg, , ,N, , ,W, grid, , , ,N
Point11,xy, , ,in, deg, , ,N, , ,W, grid, , , ,N
Point12,xy, , ,in, deg, , ,N, , ,W, grid, , , ,N
Point13,xy, , ,in, deg, , ,N, , ,W, grid, , , ,N
Point14,xy, , ,in, deg, , ,N, , ,W, grid, , , ,N
Point15,xy, , ,in, deg, , ,N, , ,W, grid, , , ,N
Point16,xy, , ,in, deg, , ,N, , ,W, grid, , , ,N
Point17,xy, , ,in, deg, , ,N, , ,W, grid, , , ,N
Point18,xy, , ,in, deg, , ,N, , ,W, grid, , , ,N
Point19,xy, , ,in, deg, , ,N, , ,W, grid, , , ,N
Point20,xy, , ,in, deg, , ,N, , ,W, grid, , , ,N
Point21,xy, , ,in, deg, , ,N, , ,W, grid, , , ,N
Point22,xy, , ,in, deg, , ,N, , ,W, grid, , , ,N
Point23,xy, , ,in, deg, , ,N, , ,W, grid, , , ,N
Point24,xy, , ,in, deg, , ,N, , ,W, grid, , , ,N
Point25,xy, , ,in, deg, , ,N, , ,W, grid, , , ,N
Point26,xy, , ,in, deg, , ,N, , ,W, grid, , , ,N
Point27,xy, , ,in, deg, , ,N, , ,W, grid, , , ,N
Point28,xy, , ,in, deg, , ,N, , ,W, grid, , , ,N
Point29,xy, , ,in, deg, , ,N, , ,W, grid, , , ,N
Point30,xy, , ,in, deg, , ,N, , ,W, grid, , , ,N
Projection Setup,,,,,,,,,,
Map Feature = MF ; Map Comment = MC These follow if they exist
Track File = TF These follow if they exist
Moving Map Parameters = MM? These follow if they exist
MM0,No
MMPNUM,9
MMPXY,1,128,50
MMPXY,2,744,35
MMPXY,3,815,89
MMPXY,4,797,164
MMPXY,5,724,233
MMPXY,6,698,434
MMPXY,7,556,652
MMPXY,8,266,883
MMPXY,9,136,926
MMPLL,1,39.070712,55.535974
MMPLL,2,39.174272,55.536363
MMPLL,3,39.186269,55.531015
MMPLL,4,39.183322,55.523789
MMPLL,5,39.171122,55.517237
MMPLL,6,39.166966,55.497832
MMPLL,7,39.143324,55.476981
MMPLL,8,39.094811,55.455127
MMPLL,9,39.072998,55.451190
MM1B,10.642103
MOP,Map Open Position,0,0
IWH,Map Image Width/Height,1700,2340
