OziExplorer Map Data File Version 2.2
R5l2.gif
R5L2.ozf2
1 ,Map Code,
WGS 84,WGS 84, 0.0000, 0.0000,WGS 84
Reserved 1
Reserved 2
Magnetic Variation,,,E
Map Projection,Latitude/Longitude,PolyCal,No,AutoCalOnly,No,BSBUseWPX,No
Point01,xy, 212, 258,in, deg, 55, 30,N, 35,34.2666667,E, grid, , , ,N
Point02,xy, 3156, 253,in, deg, 55, 30,N, 36,4.26666667,E, grid, , , ,N
Point03,xy, 3152, 3690,in, deg, 55, 10,N, 36,4.26666667,E, grid, , , ,N
Point04,xy, 185, 3730,in, deg, 55, 10,N, 35,34.2666667,E, grid, , , ,N
Point05,xy, , ,in, deg, , ,N, , ,E, grid, , , ,N
Point06,xy, , ,in, deg, , ,N, , ,E, grid, , , ,N
Point07,xy, , ,in, deg, , ,N, , ,E, grid, , , ,N
Point08,xy, , ,in, deg, , ,N, , ,E, grid, , , ,N
Point09,xy, , ,in, deg, , ,N, , ,E, grid, , , ,N
Point10,xy, , ,in, deg, , ,, , ,, grid, , , ,
Point11,xy, , ,in, deg, , ,, , ,, grid, , , ,
Point12,xy, , ,in, deg, , ,, , ,, grid, , , ,
Point13,xy, , ,in, deg, , ,, , ,, grid, , , ,
Point14,xy, , ,in, deg, , ,, , ,, grid, , , ,
Point15,xy, , ,in, deg, , ,, , ,, grid, , , ,
Point16,xy, , ,in, deg, , ,, , ,, grid, , , ,
Point17,xy, , ,in, deg, , ,, , ,, grid, , , ,
Point18,xy, , ,in, deg, , ,, , ,, grid, , , ,
Point19,xy, , ,in, deg, , ,, , ,, grid, , , ,
Point20,xy, , ,in, deg, , ,, , ,, grid, , , ,
Point21,xy, , ,in, deg, , ,, , ,, grid, , , ,
Point22,xy, , ,in, deg, , ,, , ,, grid, , , ,
Point23,xy, , ,in, deg, , ,, , ,, grid, , , ,
Point24,xy, , ,in, deg, , ,, , ,, grid, , , ,
Point25,xy, , ,in, deg, , ,, , ,, grid, , , ,
Point26,xy, , ,in, deg, , ,, , ,, grid, , , ,
Point27,xy, , ,in, deg, , ,, , ,, grid, , , ,
Point28,xy, , ,in, deg, , ,, , ,, grid, , , ,
Point29,xy, , ,in, deg, , ,, , ,, grid, , , ,
Point30,xy, , ,in, deg, , ,, , ,, grid, , , ,
Projection Setup,,,,,,,,,,
Map Feature = MF ; Map Comment = MC These follow if they exist
Track File = TF These follow if they exist
Moving Map Parameters = MM? These follow if they exist
MM0,Yes
MMPNUM,46
MMPXY,1,184,501
MMPXY,2,291,394
MMPXY,3,376,425
MMPXY,4,394,376
MMPXY,5,552,312
MMPXY,6,716,475
MMPXY,7,922,359
MMPXY,8,925,254
MMPXY,9,3156,253
MMPXY,10,3148,3260
MMPXY,11,2969,3235
MMPXY,12,2916,3143
MMPXY,13,2658,3225
MMPXY,14,2442,2976
MMPXY,15,2288,3090
MMPXY,16,2104,2970
MMPXY,17,2000,3018
MMPXY,18,1756,3075
MMPXY,19,1591,2925
MMPXY,20,1642,2765
MMPXY,21,1489,2767
MMPXY,22,1304,2602
MMPXY,23,1202,2437
MMPXY,24,1063,2588
MMPXY,25,985,2486
MMPXY,26,754,2613
MMPXY,27,443,2503
MMPXY,28,413,2386
MMPXY,29,511,2225
MMPXY,30,701,2143
MMPXY,31,759,2026
MMPXY,32,763,1868
MMPXY,33,1045,1883
MMPXY,34,1183,1735
MMPXY,35,1101,1627
MMPXY,36,948,1211
MMPXY,37,792,1179
MMPXY,38,897,790
MMPXY,39,842,730
MMPXY,40,763,798
MMPXY,41,665,754
MMPXY,42,432,994
MMPXY,43,348,900
MMPXY,44,354,776
MMPXY,45,279,780
MMPXY,46,182,621
MMPLL,1,35.567525,55.477412
MMPLL,2,35.585546,55.487659
MMPLL,3,35.599950,55.484605
MMPLL,4,35.602958,55.489320
MMPLL,5,35.629640,55.495380
MMPLL,6,35.657510,55.479530
MMPLL,7,35.692273,55.490572
MMPLL,8,35.692701,55.500702
MMPLL,9,36.070145,55.499160
MMPLL,10,36.071074,55.209003
MMPLL,11,36.040772,55.211547
MMPLL,12,36.031735,55.220463
MMPLL,13,35.988148,55.212740
MMPLL,14,35.951416,55.236926
MMPLL,15,35.925449,55.226039
MMPLL,16,35.894228,55.237754
MMPLL,17,35.876670,55.233198
MMPLL,18,35.835432,55.227877
MMPLL,19,35.807404,55.242473
MMPLL,20,35.815910,55.257875
MMPLL,21,35.790027,55.257794
MMPLL,22,35.758603,55.273852
MMPLL,23,35.741221,55.289849
MMPLL,24,35.717820,55.275380
MMPLL,25,35.704546,55.285280
MMPLL,26,35.665562,55.273194
MMPLL,27,35.612862,55.284037
MMPLL,28,35.607698,55.295349
MMPLL,29,35.624156,55.310813
MMPLL,30,35.656238,55.318586
MMPLL,31,35.665962,55.329834
MMPLL,32,35.666519,55.345077
MMPLL,33,35.714239,55.343423
MMPLL,34,35.737474,55.357603
MMPLL,35,35.723519,55.368084
MMPLL,36,35.697319,55.408339
MMPLL,37,35.670902,55.411541
MMPLL,38,35.688371,55.449001
MMPLL,39,35.679020,55.454831
MMPLL,40,35.665706,55.448328
MMPLL,41,35.649093,55.452645
MMPLL,42,35.609856,55.429658
MMPLL,43,35.595573,55.438790
MMPLL,44,35.596494,55.450751
MMPLL,45,35.583809,55.450420
MMPLL,46,35.567277,55.465834
MM1B,10.730448
MOP,Map Open Position,0,0
IWH,Map Image Width/Height,3340,3914
