OziExplorer Map Data File Version 2.2
R5l4.gif
R5L4.ozf2
1 ,Map Code,
WGS 84,WGS 84, 0.0000, 0.0000,WGS 84
Reserved 1
Reserved 2
Magnetic Variation,,,E
Map Projection,Latitude/Longitude,PolyCal,No,AutoCalOnly,No,BSBUseWPX,No
Point01,xy, 206, 257,in, deg, 55, 30,N, 36,34.2666667,E, grid, , , ,N
Point02,xy, 3147, 225,in, deg, 55, 30,N, 37,4.26666667,E, grid, , , ,N
Point03,xy, 3158, 3672,in, deg, 55, 10,N, 37,4.26666667,E, grid, , , ,N
Point04,xy, 183, 3703,in, deg, 55, 10,N, 36,34.2666667,E, grid, , , ,N
Point05,xy, , ,in, deg, , ,N, , ,E, grid, , , ,N
Point06,xy, , ,in, deg, , ,N, , ,E, grid, , , ,N
Point07,xy, , ,in, deg, , ,N, , ,E, grid, , , ,N
Point08,xy, , ,in, deg, , ,N, , ,E, grid, , , ,N
Point09,xy, , ,in, deg, , ,N, , ,E, grid, , , ,N
Point10,xy, , ,in, deg, , ,, , ,, grid, , , ,
Point11,xy, , ,in, deg, , ,, , ,, grid, , , ,
Point12,xy, , ,in, deg, , ,, , ,, grid, , , ,
Point13,xy, , ,in, deg, , ,, , ,, grid, , , ,
Point14,xy, , ,in, deg, , ,, , ,, grid, , , ,
Point15,xy, , ,in, deg, , ,, , ,, grid, , , ,
Point16,xy, , ,in, deg, , ,, , ,, grid, , , ,
Point17,xy, , ,in, deg, , ,, , ,, grid, , , ,
Point18,xy, , ,in, deg, , ,, , ,, grid, , , ,
Point19,xy, , ,in, deg, , ,, , ,, grid, , , ,
Point20,xy, , ,in, deg, , ,, , ,, grid, , , ,
Point21,xy, , ,in, deg, , ,, , ,, grid, , , ,
Point22,xy, , ,in, deg, , ,, , ,, grid, , , ,
Point23,xy, , ,in, deg, , ,, , ,, grid, , , ,
Point24,xy, , ,in, deg, , ,, , ,, grid, , , ,
Point25,xy, , ,in, deg, , ,, , ,, grid, , , ,
Point26,xy, , ,in, deg, , ,, , ,, grid, , , ,
Point27,xy, , ,in, deg, , ,, , ,, grid, , , ,
Point28,xy, , ,in, deg, , ,, , ,, grid, , , ,
Point29,xy, , ,in, deg, , ,, , ,, grid, , , ,
Point30,xy, , ,in, deg, , ,, , ,, grid, , , ,
Projection Setup,,,,,,,,,,
Map Feature = MF ; Map Comment = MC These follow if they exist
Track File = TF These follow if they exist
Moving Map Parameters = MM? These follow if they exist
MM0,Yes
MMPNUM,33
MMPXY,1,207,256
MMPXY,2,3147,223
MMPXY,3,3157,3671
MMPXY,4,2811,3676
MMPXY,5,2775,3525
MMPXY,6,2583,3538
MMPXY,7,2496,3442
MMPXY,8,2436,3202
MMPXY,9,2347,3150
MMPXY,10,2357,2944
MMPXY,11,2113,2646
MMPXY,12,2050,2649
MMPXY,13,1990,2509
MMPXY,14,2092,2472
MMPXY,15,1927,2376
MMPXY,16,1798,2417
MMPXY,17,1806,2243
MMPXY,18,1622,2113
MMPXY,19,1633,2042
MMPXY,20,1762,1939
MMPXY,21,1488,1809
MMPXY,22,1419,1676
MMPXY,23,1126,1647
MMPXY,24,1092,1548
MMPXY,25,957,1474
MMPXY,26,940,1328
MMPXY,27,785,1428
MMPXY,28,660,1377
MMPXY,29,584,1476
MMPXY,30,663,1560
MMPXY,31,620,1723
MMPXY,32,377,1858
MMPXY,33,198,1996
MMPLL,1,36.572717,55.500063
MMPLL,2,37.069674,55.500226
MMPLL,3,37.072379,55.166731
MMPLL,4,37.013894,55.166604
MMPLL,5,37.007764,55.181246
MMPLL,6,36.975313,55.180186
MMPLL,7,36.960578,55.189561
MMPLL,8,36.950366,55.212835
MMPLL,9,36.935306,55.217956
MMPLL,10,36.936936,55.237870
MMPLL,11,36.895603,55.266943
MMPLL,12,36.884955,55.266718
MMPLL,13,36.874771,55.280320
MMPLL,14,36.892002,55.283794
MMPLL,15,36.864083,55.293248
MMPLL,16,36.842289,55.289416
MMPLL,17,36.843590,55.306237
MMPLL,18,36.812450,55.319000
MMPLL,19,36.814288,55.325855
MMPLL,20,36.836063,55.335684
MMPLL,21,36.789709,55.348540
MMPLL,22,36.778007,55.361474
MMPLL,23,36.728470,55.364581
MMPLL,24,36.722694,55.374191
MMPLL,25,36.699852,55.381487
MMPLL,26,36.696936,55.395626
MMPLL,27,36.670765,55.386114
MMPLL,28,36.649620,55.391175
MMPLL,29,36.636802,55.381678
MMPLL,30,36.650181,55.373472
MMPLL,31,36.642960,55.357752
MMPLL,32,36.601924,55.344945
MMPLL,33,36.571707,55.331782
MM1B,10.716815
MOP,Map Open Position,0,0
IWH,Map Image Width/Height,3346,3919
