OziExplorer Map Data File Version 2.2
R5l7.gif
R5L7.ozf2
1 ,Map Code,
Pulkovo 1942 (1),WGS 84, 0.0000, 0.0000,WGS 84
Reserved 1
Reserved 2
Magnetic Variation,,,E
Map Projection,Latitude/Longitude,PolyCal,No,AutoCalOnly,No,BSBUseWPX,No
Point01,xy, 182, 291,in, deg, 55, 30,N, 38,4.26666667,E, grid, , , ,N
Point02,xy, 3137, 242,in, deg, 55, 30,N, 38,34.2666667,E, grid, , , ,N
Point03,xy, 3163, 3706,in, deg, 55, 10,N, 38,34.2666667,E, grid, , , ,N
Point04,xy, 184, 3749,in, deg, 55, 10,N, 38,4.26666667,E, grid, , , ,N
Point05,xy, , ,in, deg, , ,N, , ,E, grid, , , ,N
Point06,xy, , ,in, deg, , ,N, , ,E, grid, , , ,N
Point07,xy, , ,in, deg, , ,N, , ,E, grid, , , ,N
Point08,xy, , ,in, deg, , ,N, , ,E, grid, , , ,N
Point09,xy, , ,in, deg, , ,N, , ,E, grid, , , ,N
Point10,xy, , ,in, deg, , ,N, , ,W, grid, , , ,N
Point11,xy, , ,in, deg, , ,N, , ,W, grid, , , ,N
Point12,xy, , ,in, deg, , ,N, , ,W, grid, , , ,N
Point13,xy, , ,in, deg, , ,N, , ,W, grid, , , ,N
Point14,xy, , ,in, deg, , ,N, , ,W, grid, , , ,N
Point15,xy, , ,in, deg, , ,N, , ,W, grid, , , ,N
Point16,xy, , ,in, deg, , ,N, , ,W, grid, , , ,N
Point17,xy, , ,in, deg, , ,N, , ,W, grid, , , ,N
Point18,xy, , ,in, deg, , ,N, , ,W, grid, , , ,N
Point19,xy, , ,in, deg, , ,N, , ,W, grid, , , ,N
Point20,xy, , ,in, deg, , ,N, , ,W, grid, , , ,N
Point21,xy, , ,in, deg, , ,N, , ,W, grid, , , ,N
Point22,xy, , ,in, deg, , ,N, , ,W, grid, , , ,N
Point23,xy, , ,in, deg, , ,N, , ,W, grid, , , ,N
Point24,xy, , ,in, deg, , ,N, , ,W, grid, , , ,N
Point25,xy, , ,in, deg, , ,N, , ,W, grid, , , ,N
Point26,xy, , ,in, deg, , ,N, , ,W, grid, , , ,N
Point27,xy, , ,in, deg, , ,N, , ,W, grid, , , ,N
Point28,xy, , ,in, deg, , ,N, , ,W, grid, , , ,N
Point29,xy, , ,in, deg, , ,N, , ,W, grid, , , ,N
Point30,xy, , ,in, deg, , ,N, , ,W, grid, , , ,N
Projection Setup,,,,,,,,,,
Map Feature = MF ; Map Comment = MC These follow if they exist MF, 1,Cоколовка-Зубакина, 55.191353, 38.151530, 0, 16777215, 16711680,Ruins.bmp ,0,MF1 ,0 д. вл.,ХТ38, 7ХТ9 дворов 18 М 24 ЖХТНе проверено MF, 2,Арменево, 55.323759, 38.202478, 0, 16777215, 16711680,Ruins.bmp ,0,MF2 ,0 д. вл.ХТпри колодцеХТ10, 19,ХТ3 двора 11М 11ЖХТКажется нашли??? в поле, некошенный участок MF, 4,Хомьяново, 55.325497, 38.117114, 0, 16777215, 16711680,Ruins.bmp ,0,MF4 ,0 недалеко от совр деревни ПатрикеевоХТна изгибе реки ГнилушиХТ MF, 6,Зиновьевка, 55.285563, 38.216806, 0, 16777215, 16711680,Ruins.bmp ,0,MF6 ,0 всписках 1876 года отсутствуетХТНе проверено MF, 7,Хирино, 55.197025, 38.295803, 0, 16777215, 16711680,Ruins.bmp ,0,MF7 ,0 д. вл.ХТпри овраге и болотеХТ20, 20ХТ25 дворовХТ79 М 91 Ж MF, 8,Юренева (Юреневка), 55.203562, 38.303369, 0, 16777215, 16711680,Ruins.bmp ,0,MF8 ,0 д. вл.ХТпри речке СеверкеХТ20, 20ХТ4 двораХТ11 М 13 Ж MF, 9,Ильинка 1371, 55.229213, 38.309518, 0, 16777215, 16711680,Information.bmp ,0,MF9 ,0 вер центр колом волостиХТ"Скульнев"ХТсц влХТпри р СеверкеХТ20, 25ХТ16 дворовХТ61 М 67 ЖХТ MF, 10,Никитника 1376, 55.222308, 38.292968, 0, 16777215, 16711680,Ruins.bmp ,0,MF10 ,0 д. каз.ХТпри р. СеверкеХТ20, 20ХТ3 двораХТ10 М 12 Ж MF, 11,Акатово 1368, 55.243237, 38.370722, 0, 16777215, 16711680,Ruins.bmp ,0,MF11 ,0 д.вл.ХТпри ручьеХТ21, 26ХТ14 дворовХТ72 М 80 ЖХТна совр карте нежил. MF, 12,Cтаро=Троицкое (Зотово) 1030, 55.304173, 38.517993, 0, 16777215, 16711680,01_Church.bmp ,0,MF12 ,0 с влХТпри колодцеХТ22, 19ХТ32 двораХТ94 Ж 82 МХТЦерковь православная MF, 13,Сабанчино 1234, 55.324624, 38.263689, 0, 16777215, 16711680,Ruins.bmp ,0,MF13 ,0 д казХТпри р Тре ХТ8, 11ХТ26 дворовХТ54 М 43 Ж MF, 14,Лучнево 1230, 55.333158, 38.276103, 0, 16777215, 16711680,Ruins.bmp ,0,MF14 ,0 сц влХТпри прудеХТ8, 17ХТ12 дворовХТ64 М 58Ж MF, 15,Сабурово 1240, 55.344973, 38.333287, 0, 16777215, 16711680,Ruins.bmp ,0,MF15 ,0 сц влХТпри прудеХТ10, 20 ХТ28 дворовХТ107М 11Ж MF, 16,Лукошкино 1232, 55.331524, 38.313660, 0, 16777215, 16711680,Ruins.bmp ,0,MF16 ,0 д влХТпри колодцеХТ10, 21ХТ11 дворовХТ40 М 44Ж MF, 17,Марково, 55.459519, 38.231171, 0, 16777215, 16711680,Information.bmp ,0,MF17 ,0 известно с 1595 года в Смутное время опустело,в 1645 г к вновь образованному селу приписаны 5 деревень Белозерова, Бояркова, И НЕДОШЕДШИЕ ДО ПОЗДНЕГО ВРЕМЕНИ ГРИГОРОВО, НЕФЕДОВО, БЕЛАВИНКОВО.ХТЗдесь была переправа через Реку!!!ХТХТ MF, 18,Мишкова 1255, 55.223066, 38.521606, 0, 16777215, 16711680,Ruins.bmp ,0,MF18 ,0 д влХТпри прудеХТ27, 34ХТ7 дворовХТ29М, 22Ж MF, 19,Рождественский погост, 55.426332, 38.169389, 0, 16777215, 16711680,Information.bmp ,0,MF19 ,0 Адм центр колменской волости "Сельцо"ХТархеологами обнаружен культурный слой 14-17 веков MF, 20,Погост Ивань, 55.476465, 38.182504, 0, 16777215, 16711680,Information.bmp ,0,MF20 ,0 Адм центр коломеской волости "Ивань"ХТисследован археологами ХТселище 14-17 вековХТсодержит находки домонгольского времени MF, 21,Троицкое-Голочелово 3942, 55.188166, 38.255949, 0, 16777215, 16711680,Information.bmp ,0,MF21 ,0 Вероятный адм центр волости МаковецХТс вл, м казХТпри пруде и колодцеХТ29, 8ХТ20 дворовХТ62М 58ЖХТЦерковь православная MF, 22,Бунниха 1366, 55.225983, 38.345559, 0, 16777215, 16711680,Ruins.bmp ,0,MF22 ,0 д влХТпри руч ТычкеХТ19, 25ХТ15 дворовХТ53М 55ЖХТ MF, 23,Подлипки 1243, 55.357199, 38.372685, 0, 16777215, 16711680,Ruins.bmp ,0,MF23 ,0 сц влХТпри р ТреХТ13, 22ХТ4 двораХТ14М 17Ж MF, 24,СтепановкаС НовоселкиС Новодеревня 1229, 55.349442, 38.285125, 0, 16777215, 16711680,Ruins.bmp ,0,MF24 ,0 д влХТпри р ТреХТ8, 18ХТ17 дворовХТ55М 50ЖХТ MF, 25,Тишково 1228, 55.347767, 38.291256, 0, 16777215, 16711680,Ruins.bmp ,0,MF25 ,0 д влХТпри р ТреХТ9, 18ХТ14 дворовХТ53М 56ЖХТ MF, 26,Захарово 1241, 55.363861, 38.341678, 0, 16777215, 16711680,Ruins.bmp ,0,MF26 ,0 д влХТпри р ТреХТ9, 25ХТ9 дворовХТ48М 59Ж
Track File = TF These follow if they exist
Moving Map Parameters = MM? These follow if they exist
MM0,No
MMPNUM,4
MMPXY,1,182,291
MMPXY,2,3137,243
MMPXY,3,3161,3705
MMPXY,4,184,3749
MMPLL,1,38.072121,55.499847
MMPLL,2,38.570100,55.500057
MMPLL,3,38.571785,55.166613
MMPLL,4,38.070101,55.166820
MM1B,10.687577
MOP,Map Open Position,0,0
IWH,Map Image Width/Height,3349,3949
