OziExplorer Map Data File Version 2.2
Серпухов
R6L5.ozf2
1 ,Map Code,
WGS 84,WGS 84, 0.0000, 0.0000,WGS 84
Reserved 1
Reserved 2
Magnetic Variation,,,E
Map Projection,Latitude/Longitude,PolyCal,No,AutoCalOnly,No,BSBUseWPX,No
Point01,xy, 3678, 3619,in, deg, 54, 50,N, 37,34.2666667,E, grid, , , ,N
Point02,xy, 692, 3634,in, deg, 54, 50,N, 37,4.26666667,E, grid, , , ,N
Point03,xy, 713, 193,in, deg, 55, 10,N, 37,4.26666667,E, grid, , , ,N
Point04,xy, 3685, 169,in, deg, 55, 10,N, 37,34.2666667,E, grid, , , ,N
Point05,xy, , ,in, deg, , ,N, , ,E, grid, , , ,N
Point06,xy, , ,in, deg, , ,N, , ,E, grid, , , ,N
Point07,xy, , ,in, deg, , ,N, , ,E, grid, , , ,N
Point08,xy, , ,in, deg, , ,N, , ,E, grid, , , ,N
Point09,xy, , ,in, deg, , ,N, , ,E, grid, , , ,N
Point10,xy, , ,in, deg, , ,N, , ,W, grid, , , ,N
Point11,xy, , ,in, deg, , ,N, , ,W, grid, , , ,N
Point12,xy, , ,in, deg, , ,N, , ,W, grid, , , ,N
Point13,xy, , ,in, deg, , ,N, , ,W, grid, , , ,N
Point14,xy, , ,in, deg, , ,N, , ,W, grid, , , ,N
Point15,xy, , ,in, deg, , ,N, , ,W, grid, , , ,N
Point16,xy, , ,in, deg, , ,N, , ,W, grid, , , ,N
Point17,xy, , ,in, deg, , ,N, , ,W, grid, , , ,N
Point18,xy, , ,in, deg, , ,N, , ,W, grid, , , ,N
Point19,xy, , ,in, deg, , ,N, , ,W, grid, , , ,N
Point20,xy, , ,in, deg, , ,N, , ,W, grid, , , ,N
Point21,xy, , ,in, deg, , ,N, , ,W, grid, , , ,N
Point22,xy, , ,in, deg, , ,N, , ,W, grid, , , ,N
Point23,xy, , ,in, deg, , ,N, , ,W, grid, , , ,N
Point24,xy, , ,in, deg, , ,N, , ,W, grid, , , ,N
Point25,xy, , ,in, deg, , ,N, , ,W, grid, , , ,N
Point26,xy, , ,in, deg, , ,N, , ,W, grid, , , ,N
Point27,xy, , ,in, deg, , ,N, , ,W, grid, , , ,N
Point28,xy, , ,in, deg, , ,N, , ,W, grid, , , ,N
Point29,xy, , ,in, deg, , ,N, , ,W, grid, , , ,N
Point30,xy, , ,in, deg, , ,N, , ,W, grid, , , ,N
Projection Setup,,,,,,,,,,
Map Feature = MF ; Map Comment = MC These follow if they exist
Track File = TF These follow if they exist
Moving Map Parameters = MM? These follow if they exist
MM0,Yes
MMPNUM,36
MMPXY,1,363,183
MMPXY,2,3685,169
MMPXY,3,3679,3602
MMPXY,4,3598,3591
MMPXY,5,3142,3275
MMPXY,6,2928,3269
MMPXY,7,2709,3169
MMPXY,8,2409,3286
MMPXY,9,2297,3214
MMPXY,10,2162,3239
MMPXY,11,1887,3494
MMPXY,12,1623,3511
MMPXY,13,1138,3324
MMPXY,14,1271,3055
MMPXY,15,1229,2945
MMPXY,16,1385,2712
MMPXY,17,1252,2544
MMPXY,18,1520,2211
MMPXY,19,1667,2166
MMPXY,20,1667,2080
MMPXY,21,1581,1983
MMPXY,22,1646,1912
MMPXY,23,1522,1762
MMPXY,24,1159,1876
MMPXY,25,901,1587
MMPXY,26,817,1598
MMPXY,27,741,1310
MMPXY,28,911,1232
MMPXY,29,894,920
MMPXY,30,830,911
MMPXY,31,791,813
MMPXY,32,634,803
MMPXY,33,475,553
MMPXY,34,479,404
MMPXY,35,368,342
MMPXY,36,285,290
MMPLL,1,37.012947,55.167636
MMPLL,2,37.570522,55.166887
MMPLL,3,37.571856,54.834758
MMPLL,4,37.558253,54.835873
MMPLL,5,37.481500,54.866734
MMPLL,6,37.445577,54.867450
MMPLL,7,37.408750,54.877263
MMPLL,8,37.358476,54.866134
MMPLL,9,37.339629,54.873171
MMPLL,10,37.316986,54.870837
MMPLL,11,37.271003,54.846341
MMPLL,12,37.226703,54.844864
MMPLL,13,37.145170,54.863262
MMPLL,14,37.167310,54.889203
MMPLL,15,37.160186,54.899872
MMPLL,16,37.186211,54.922315
MMPLL,17,37.163773,54.938653
MMPLL,18,37.208528,54.970700
MMPLL,19,37.233171,54.974961
MMPLL,20,37.233112,54.983281
MMPLL,21,37.218611,54.992720
MMPLL,22,37.229473,54.999548
MMPLL,23,37.208558,55.014138
MMPLL,24,37.147707,55.003339
MMPLL,25,37.104206,55.031462
MMPLL,26,37.090114,55.030451
MMPLL,27,37.077162,55.058363
MMPLL,28,37.105642,55.065801
MMPLL,29,37.102576,55.095997
MMPLL,30,37.091828,55.096908
MMPLL,31,37.085215,55.106414
MMPLL,32,37.058856,55.107481
MMPLL,33,37.031998,55.131769
MMPLL,34,37.032568,55.146181
MMPLL,35,37.013895,55.152250
MMPLL,36,36.999928,55.157333
MM1B,10.733727
MOP,Map Open Position,0,0
IWH,Map Image Width/Height,3851,3827
