OziExplorer Map Data File Version 2.2
R6l8.gif
R6L8.ozf2
1 ,Map Code,
WGS 84,WGS 84, 0.0000, 0.0000,WGS 84
Reserved 1
Reserved 2
Magnetic Variation,,,E
Map Projection,Latitude/Longitude,PolyCal,No,AutoCalOnly,No,BSBUseWPX,No
Point01,xy, 1207, 294,in, deg, 55, 9.88014,N, 38,44.93346,E, grid, , , ,N
Point02,xy, 1707, 1196,in, deg, 55, 4.74678,N, 38,49.99182,E, grid, , , ,N
Point03,xy, 352, 3140,in, deg, 54,53.74392,N, 38,36.65226,E, grid, , , ,N
Point04,xy, 1652, 2001,in, deg, 55, 0,N, 38,49.26666,E, grid, , , ,N
Point05,xy, , ,in, deg, , ,N, , ,W, grid, , , ,N
Point06,xy, , ,in, deg, , ,N, , ,W, grid, , , ,N
Point07,xy, , ,in, deg, , ,N, , ,W, grid, , , ,N
Point08,xy, , ,in, deg, , ,N, , ,W, grid, , , ,N
Point09,xy, , ,in, deg, , ,N, , ,W, grid, , , ,N
Point10,xy, , ,in, deg, , ,N, , ,W, grid, , , ,N
Point11,xy, , ,in, deg, , ,N, , ,W, grid, , , ,N
Point12,xy, , ,in, deg, , ,N, , ,W, grid, , , ,N
Point13,xy, , ,in, deg, , ,N, , ,W, grid, , , ,N
Point14,xy, , ,in, deg, , ,N, , ,W, grid, , , ,N
Point15,xy, , ,in, deg, , ,N, , ,W, grid, , , ,N
Point16,xy, , ,in, deg, , ,N, , ,W, grid, , , ,N
Point17,xy, , ,in, deg, , ,N, , ,W, grid, , , ,N
Point18,xy, , ,in, deg, , ,N, , ,W, grid, , , ,N
Point19,xy, , ,in, deg, , ,N, , ,W, grid, , , ,N
Point20,xy, , ,in, deg, , ,N, , ,W, grid, , , ,N
Point21,xy, , ,in, deg, , ,N, , ,W, grid, , , ,N
Point22,xy, , ,in, deg, , ,N, , ,W, grid, , , ,N
Point23,xy, , ,in, deg, , ,N, , ,W, grid, , , ,N
Point24,xy, , ,in, deg, , ,N, , ,W, grid, , , ,N
Point25,xy, , ,in, deg, , ,N, , ,W, grid, , , ,N
Point26,xy, , ,in, deg, , ,N, , ,W, grid, , , ,N
Point27,xy, , ,in, deg, , ,N, , ,W, grid, , , ,N
Point28,xy, , ,in, deg, , ,N, , ,W, grid, , , ,N
Point29,xy, , ,in, deg, , ,N, , ,W, grid, , , ,N
Point30,xy, , ,in, deg, , ,N, , ,W, grid, , , ,N
Projection Setup,,,,,,,,,,
Map Feature = MF ; Map Comment = MC These follow if they exist MF, 1,Ляхово 3896, 55.121398, 38.597621, 0, 16777215, 16711680,Ruins.bmp ,0,MF1 ,0 д влХТпри р ГрязновкеХТ10, 8ХТ9 дворовХТ22 М 25 Ж MF, 2,Щегловка, 55.108648, 38.958694, 0, 16777215, 16711680,Ruins.bmp ,0,MF2 ,0 отсутствуют листы в списках 1876 MF, 3,Климово 3793, 55.165163, 38.876266, 0, 16777215, 16711680,Ruins.bmp ,0,MF3 ,0 сц влХТпри р КослевкеХТ9, 11ХТ20 дворовХТ72 М 80 Ж
Track File = TF These follow if they exist
Moving Map Parameters = MM? These follow if they exist
MM0,No
MMPNUM,29
MMPXY,1,176,269
MMPXY,2,2884,257
MMPXY,3,2804,374
MMPXY,4,2613,396
MMPXY,5,2622,486
MMPXY,6,2530,597
MMPXY,7,2300,612
MMPXY,8,2595,765
MMPXY,9,2610,978
MMPXY,10,2750,922
MMPXY,11,2967,956
MMPXY,12,2989,1026
MMPXY,13,2369,1256
MMPXY,14,2172,1183
MMPXY,15,2006,1258
MMPXY,16,1741,1311
MMPXY,17,1412,1386
MMPXY,18,1245,1597
MMPXY,19,1302,1910
MMPXY,20,1264,2110
MMPXY,21,1362,2405
MMPXY,22,1279,2809
MMPXY,23,1108,3040
MMPXY,24,732,3040
MMPXY,25,540,3083
MMPXY,26,497,3177
MMPXY,27,493,3667
MMPXY,28,410,3717
MMPXY,29,133,3810
MMPLL,1,38.581180,55.170051
MMPLL,2,39.023396,55.164586
MMPLL,3,39.010357,55.153610
MMPLL,4,38.979171,55.151976
MMPLL,5,38.980660,55.143360
MMPLL,6,38.965661,55.132986
MMPLL,7,38.928105,55.132116
MMPLL,8,38.976312,55.116787
MMPLL,9,38.978807,55.096412
MMPLL,10,39.001657,55.101417
MMPLL,11,39.037101,55.097641
MMPLL,12,39.040708,55.090904
MMPLL,13,38.939512,55.070457
MMPLL,14,38.907326,55.077908
MMPLL,15,38.880234,55.071152
MMPLL,16,38.836971,55.066738
MMPLL,17,38.783261,55.060380
MMPLL,18,38.756036,55.040641
MMPLL,19,38.765411,55.010616
MMPLL,20,38.759249,54.991612
MMPLL,21,38.775316,54.963206
MMPLL,22,38.761850,54.924834
MMPLL,23,38.733975,54.903195
MMPLL,24,38.672574,54.904113
MMPLL,25,38.641230,54.900476
MMPLL,26,38.634228,54.891605
MMPLL,27,38.633681,54.844829
MMPLL,28,38.620138,54.840258
MMPLL,29,38.574923,54.832054
MM1B,10.444636
MOP,Map Open Position,0,0
IWH,Map Image Width/Height,3327,3952
