OziExplorer Map Data File Version 2.2
From Mikle_V - Ryazan_region_39
C:\OziExplorer\Maps\maps from cd\BIG\Ryazan_all\Ryazan_region.ozf2
1 ,Map Code,
Pulkovo 1942 (2),, 0.0000, 0.0000,WGS 84
Reserved 1
Reserved 2
Magnetic Variation,,,E
Map Projection,Transverse Mercator,PolyCal,No,AutoCalOnly,No,BSBUseWPX,No
Point01,xy, 3739, 777,in, deg, , ,N, , ,E, grid, , 556000, 6120000,N
Point02,xy, 8451, 1137,in, deg, , ,N, , ,E, grid, , 676000, 6116000,N
Point03,xy, 8210, 6801,in, deg, , ,N, , ,E, grid, , 676000, 5972000,N
Point04,xy, 1085, 7600,in, deg, , ,N, , ,E, grid, , 496000, 5944000,N
Point05,xy, 8532, 3032,in, deg, , ,N, , ,E, grid, , 680000, 6068000,N
Point06,xy, 2219, 6864,in, deg, , ,N, , ,E, grid, , 524000, 5964000,N
Point07,xy, , ,in, deg, , ,N, , ,E, grid, , , ,N
Point08,xy, , ,in, deg, , ,N, , ,E, grid, , , ,N
Point09,xy, , ,in, deg, , ,N, , ,E, grid, , , ,N
Point10,xy, , ,in, deg, , ,N, , ,W, grid, , , ,N
Point11,xy, , ,in, deg, , ,N, , ,W, grid, , , ,N
Point12,xy, , ,in, deg, , ,N, , ,W, grid, , , ,N
Point13,xy, , ,in, deg, , ,N, , ,W, grid, , , ,N
Point14,xy, , ,in, deg, , ,N, , ,W, grid, , , ,N
Point15,xy, , ,in, deg, , ,N, , ,W, grid, , , ,N
Point16,xy, , ,in, deg, , ,N, , ,W, grid, , , ,N
Point17,xy, , ,in, deg, , ,N, , ,W, grid, , , ,N
Point18,xy, , ,in, deg, , ,N, , ,W, grid, , , ,N
Point19,xy, , ,in, deg, , ,N, , ,W, grid, , , ,N
Point20,xy, , ,in, deg, , ,N, , ,W, grid, , , ,N
Point21,xy, , ,in, deg, , ,N, , ,W, grid, , , ,N
Point22,xy, , ,in, deg, , ,N, , ,W, grid, , , ,N
Point23,xy, , ,in, deg, , ,N, , ,W, grid, , , ,N
Point24,xy, , ,in, deg, , ,N, , ,W, grid, , , ,N
Point25,xy, , ,in, deg, , ,N, , ,W, grid, , , ,N
Point26,xy, , ,in, deg, , ,N, , ,W, grid, , , ,N
Point27,xy, , ,in, deg, , ,N, , ,W, grid, , , ,N
Point28,xy, , ,in, deg, , ,N, , ,W, grid, , , ,N
Point29,xy, , ,in, deg, , ,N, , ,W, grid, , , ,N
Point30,xy, , ,in, deg, , ,N, , ,W, grid, , , ,N
Projection Setup, 0.000000000, 39.000000000, 1.000000000, 500000.00, 0.00,,,,,
Map Feature = MF ; Map Comment = MC These follow if they exist
Track File = TF These follow if they exist
Moving Map Parameters = MM? These follow if they exist
MM0,Yes
MMPNUM,22
MMPXY,1,959,3143
MMPXY,2,1587,3126
MMPXY,3,3582,721
MMPXY,4,3914,708
MMPXY,5,4555,86
MMPXY,6,5542,87
MMPXY,7,5545,358
MMPXY,8,6593,433
MMPXY,9,8559,1115
MMPXY,10,8564,1305
MMPXY,11,9060,1283
MMPXY,12,9060,7149
MMPXY,13,8013,7107
MMPXY,14,7349,8500
MMPXY,15,6818,8788
MMPXY,16,5069,8718
MMPXY,17,4803,9015
MMPXY,18,4331,9200
MMPXY,19,3830,8764
MMPXY,20,726,8648
MMPXY,21,668,6617
MMPXY,22,302,5511
MMPLL,1,38.814109,54.637353
MMPLL,2,39.060664,54.647461
MMPLL,3,39.816059,55.212258
MMPLL,4,39.948329,55.217492
MMPLL,5,40.197751,55.363291
MMPLL,6,40.592995,55.368147
MMPLL,7,40.596328,55.306366
MMPLL,8,41.015814,55.293257
MMPLL,9,41.802357,55.141363
MMPLL,10,41.804530,55.098043
MMPLL,11,42.001809,55.103178
MMPLL,12,42.001669,53.765578
MMPLL,13,41.598448,53.774395
MMPLL,14,41.347854,53.455485
MMPLL,15,41.146254,53.388447
MMPLL,16,40.478205,53.397538
MMPLL,17,40.379304,53.328423
MMPLL,18,40.201248,53.283582
MMPLL,19,40.005806,53.379916
MMPLL,20,38.820168,53.380276
MMPLL,21,38.762487,53.842593
MMPLL,22,38.600853,54.090712
MM1B,25.368325
LL Grid Setup
LLGRID,Yes,1 Deg,No,255,16711680,0,No Labels,0,16777215,7,1,Yes,x
Other Grid Setup
GRGRID,No,4 Km,No,16711680,255,4 Km,0,16777215,8,1,Yes,No,No,x
MOP,Map Open Position,0,0
IWH,Map Image Width/Height,10878,9266
