OziExplorer Map Data File Version 2.2
Ð_131_nwc_2.jpg
Ð_131_NWC_2.ozf2
1 ,Map Code,
WGS 84,WGS 84, 0.0000, 0.0000,WGS 84
Reserved 1
Reserved 2
Magnetic Variation,,,E
Map Projection,Latitude/Longitude,PolyCal,No,AutoCalOnly,No,BSBUseWPX,No
Point01,xy, 364, 356,in, deg, 55, 30,N, 38,49.2666667,E, grid, , , ,N
Point02,xy, 1095, 366,in, deg, 55, 30,N, 38,59.2666667,E, grid, , , ,N
Point03,xy, 1040, 2338,in, deg, 55, 15,N, 38,59.2666667,E, grid, , , ,N
Point04,xy, 307, 2325,in, deg, 55, 15,N, 38,49.2666667,E, grid, , , ,N
Point05,xy, , ,in, deg, , ,N, , ,E, grid, , , ,N
Point06,xy, , ,in, deg, , ,N, , ,E, grid, , , ,N
Point07,xy, , ,in, deg, , ,N, , ,E, grid, , , ,N
Point08,xy, , ,in, deg, , ,N, , ,E, grid, , , ,N
Point09,xy, , ,in, deg, , ,N, , ,E, grid, , , ,N
Point10,xy, , ,in, deg, , ,, , ,, grid, , , ,
Point11,xy, , ,in, deg, , ,, , ,, grid, , , ,
Point12,xy, , ,in, deg, , ,, , ,, grid, , , ,
Point13,xy, , ,in, deg, , ,, , ,, grid, , , ,
Point14,xy, , ,in, deg, , ,, , ,, grid, , , ,
Point15,xy, , ,in, deg, , ,, , ,, grid, , , ,
Point16,xy, , ,in, deg, , ,, , ,, grid, , , ,
Point17,xy, , ,in, deg, , ,, , ,, grid, , , ,
Point18,xy, , ,in, deg, , ,, , ,, grid, , , ,
Point19,xy, , ,in, deg, , ,, , ,, grid, , , ,
Point20,xy, , ,in, deg, , ,, , ,, grid, , , ,
Point21,xy, , ,in, deg, , ,, , ,, grid, , , ,
Point22,xy, , ,in, deg, , ,, , ,, grid, , , ,
Point23,xy, , ,in, deg, , ,, , ,, grid, , , ,
Point24,xy, , ,in, deg, , ,, , ,, grid, , , ,
Point25,xy, , ,in, deg, , ,, , ,, grid, , , ,
Point26,xy, , ,in, deg, , ,, , ,, grid, , , ,
Point27,xy, , ,in, deg, , ,, , ,, grid, , , ,
Point28,xy, , ,in, deg, , ,, , ,, grid, , , ,
Point29,xy, , ,in, deg, , ,, , ,, grid, , , ,
Point30,xy, , ,in, deg, , ,, , ,, grid, , , ,
Projection Setup,,,,,,,,,,
Map Feature = MF ; Map Comment = MC These follow if they exist
Track File = TF These follow if they exist
Moving Map Parameters = MM? These follow if they exist
MM0,Yes
MMPNUM,14
MMPXY,1,513,2382
MMPXY,2,578,2249
MMPXY,3,387,2134
MMPXY,4,410,1983
MMPXY,5,522,1921
MMPXY,6,581,1667
MMPXY,7,674,1400
MMPXY,8,861,1470
MMPXY,9,940,1349
MMPXY,10,883,1039
MMPXY,11,930,995
MMPXY,12,922,801
MMPXY,13,1154,821
MMPXY,14,1129,2392
MMPLL,1,38.868244,55.243276
MMPLL,2,38.882176,55.260272
MMPLL,3,38.837964,55.274475
MMPLL,4,38.842222,55.293670
MMPLL,5,38.867310,55.301756
MMPLL,6,38.879095,55.334084
MMPLL,7,38.898533,55.368129
MMPLL,8,38.941545,55.359624
MMPLL,9,38.958741,55.375126
MMPLL,10,38.943764,55.414325
MMPLL,11,38.954176,55.419999
MMPLL,12,38.951100,55.444585
MMPLL,13,39.004029,55.442511
MMPLL,14,39.008501,55.243235
MM1B,14.417689
MOP,Map Open Position,0,0
IWH,Map Image Width/Height,1259,2487
