OziExplorer Map Data File Version 2.2
33.jpg
C:\Documents and Settings\Михаил\Рабочий стол\На привязку\33.jpg
1 ,Map Code,
WGS 84,WGS 84, 0.0000, 0.0000,WGS 84
Reserved 1
Reserved 2
Magnetic Variation,,,E
Map Projection,Latitude/Longitude,PolyCal,No,AutoCalOnly,No,BSBUseWPX,No
Point01,xy, 4294, 127,in, deg, 56, 9.8240,N, 40, 18.0380,E, grid, , , ,N
Point02,xy, 3270, 163,in, deg, 56, 9.4140,N, 40, 3.3640,E, grid, , , ,N
Point03,xy, 501, 163,in, deg, 56, 9.2740,N, 39, 25.0790,E, grid, , , ,N
Point04,xy, 505, 2185,in, deg, 55, 53.7090,N, 39, 25.7160,E, grid, , , ,N
Point05,xy, 288, 3518,in, deg, 55, 43.7250,N, 39, 23.1100,E, grid, , , ,N
Point06,xy, 3287, 2864,in, deg, 55, 48.7840,N, 40, 4.1570,E, grid, , , ,N
Point07,xy, 3999, 2732,in, deg, 55, 49.5720,N, 40, 13.7500,E, grid, , , ,N
Point08,xy, 2840, 2092,in, deg, 55, 54.4440,N, 39, 57.7800,E, grid, , , ,N
Point09,xy, , ,in, deg, , ,N, , ,W, grid, , , ,N
Point10,xy, , ,in, deg, , ,N, , ,W, grid, , , ,N
Point11,xy, , ,in, deg, , ,N, , ,W, grid, , , ,N
Point12,xy, , ,in, deg, , ,N, , ,W, grid, , , ,N
Point13,xy, , ,in, deg, , ,N, , ,W, grid, , , ,N
Point14,xy, , ,in, deg, , ,N, , ,W, grid, , , ,N
Point15,xy, , ,in, deg, , ,N, , ,W, grid, , , ,N
Point16,xy, , ,in, deg, , ,N, , ,W, grid, , , ,N
Point17,xy, , ,in, deg, , ,N, , ,W, grid, , , ,N
Point18,xy, , ,in, deg, , ,N, , ,W, grid, , , ,N
Point19,xy, , ,in, deg, , ,N, , ,W, grid, , , ,N
Point20,xy, , ,in, deg, , ,N, , ,W, grid, , , ,N
Point21,xy, , ,in, deg, , ,N, , ,W, grid, , , ,N
Point22,xy, , ,in, deg, , ,N, , ,W, grid, , , ,N
Point23,xy, , ,in, deg, , ,N, , ,W, grid, , , ,N
Point24,xy, , ,in, deg, , ,N, , ,W, grid, , , ,N
Point25,xy, , ,in, deg, , ,N, , ,W, grid, , , ,N
Point26,xy, , ,in, deg, , ,N, , ,W, grid, , , ,N
Point27,xy, , ,in, deg, , ,N, , ,W, grid, , , ,N
Point28,xy, , ,in, deg, , ,N, , ,W, grid, , , ,N
Point29,xy, , ,in, deg, , ,N, , ,W, grid, , , ,N
Point30,xy, , ,in, deg, , ,N, , ,W, grid, , , ,N
Projection Setup,,,,,,,,,,
Map Feature = MF ; Map Comment = MC These follow if they exist
Track File = TF These follow if they exist
Moving Map Parameters = MM? These follow if they exist
MM0,Yes
MMPNUM,4
MMPXY,1,0,0
MMPXY,2,5236,0
MMPXY,3,5236,3776
MMPXY,4,0,3776
MMPLL,1, 39.305498, 56.175835
MMPLL,2, 40.510324, 56.178387
MMPLL,3, 40.520585, 55.695568
MMPLL,4, 39.315758, 55.693016
MM1B,14.388013
LL Grid Setup
LLGRID,No,No Grid,Yes,255,16711680,0,No Labels,0,16777215,7,1,Yes,x
Other Grid Setup
GRGRID,No,No Grid,Yes,255,16711680,No Labels,0,16777215,8,1,Yes,No,No,x
MOP,Map Open Position,0,0
IWH,Map Image Width/Height,5236,3776
