OziExplorer Map Data File Version 2.2
Iii_1.jpg
III_1.ozf2
1 ,Map Code,
WGS 84,, 0.0000, 0.0000,WGS 84
Reserved 1
Reserved 2
Magnetic Variation,,,E
Map Projection,Latitude/Longitude,PolyCal,No,AutoCalOnly,No,BSBUseWPX,No
Point01,xy, 778, 246,in, deg, 56, 35,N, 37,39.2666667,E, grid, , , ,N
Point02,xy, 2229, 282,in, deg, 56, 35,N, 37,59.2666667,E, grid, , , ,N
Point03,xy, 2206, 2253,in, deg, 56, 20,N, 37,59.2666667,E, grid, , , ,N
Point04,xy, 1479, 2233,in, deg, 56, 20,N, 37,49.2666667,E, grid, , , ,N
Point05,xy, , ,in, deg, , ,N, , ,E, grid, , , ,N
Point06,xy, , ,in, deg, , ,N, , ,E, grid, , , ,N
Point07,xy, , ,in, deg, , ,N, , ,E, grid, , , ,N
Point08,xy, , ,in, deg, , ,N, , ,E, grid, , , ,N
Point09,xy, , ,in, deg, , ,N, , ,E, grid, , , ,N
Point10,xy, , ,in, deg, , ,N, , ,W, grid, , , ,N
Point11,xy, , ,in, deg, , ,N, , ,W, grid, , , ,N
Point12,xy, , ,in, deg, , ,N, , ,W, grid, , , ,N
Point13,xy, , ,in, deg, , ,N, , ,W, grid, , , ,N
Point14,xy, , ,in, deg, , ,N, , ,W, grid, , , ,N
Point15,xy, , ,in, deg, , ,N, , ,W, grid, , , ,N
Point16,xy, , ,in, deg, , ,N, , ,W, grid, , , ,N
Point17,xy, , ,in, deg, , ,N, , ,W, grid, , , ,N
Point18,xy, , ,in, deg, , ,N, , ,W, grid, , , ,N
Point19,xy, , ,in, deg, , ,N, , ,W, grid, , , ,N
Point20,xy, , ,in, deg, , ,N, , ,W, grid, , , ,N
Point21,xy, , ,in, deg, , ,N, , ,W, grid, , , ,N
Point22,xy, , ,in, deg, , ,N, , ,W, grid, , , ,N
Point23,xy, , ,in, deg, , ,N, , ,W, grid, , , ,N
Point24,xy, , ,in, deg, , ,N, , ,W, grid, , , ,N
Point25,xy, , ,in, deg, , ,N, , ,W, grid, , , ,N
Point26,xy, , ,in, deg, , ,N, , ,W, grid, , , ,N
Point27,xy, , ,in, deg, , ,N, , ,W, grid, , , ,N
Point28,xy, , ,in, deg, , ,N, , ,W, grid, , , ,N
Point29,xy, , ,in, deg, , ,N, , ,W, grid, , , ,N
Point30,xy, , ,in, deg, , ,N, , ,W, grid, , , ,N
Projection Setup, 0.000000000, 45.000000000, 1.000000000, 500000.00, 0.00,,,,,
Map Feature = MF ; Map Comment = MC These follow if they exist
Track File = TF These follow if they exist
Moving Map Parameters = MM? These follow if they exist
MM0,No
MMPNUM,29
MMPXY,1,266,165
MMPXY,2,2854,133
MMPXY,3,2877,2046
MMPXY,4,2807,2082
MMPXY,5,2720,2056
MMPXY,6,2676,2135
MMPXY,7,2445,2043
MMPXY,8,2236,1980
MMPXY,9,2189,1879
MMPXY,10,2001,1910
MMPXY,11,1900,1852
MMPXY,12,1796,1935
MMPXY,13,1571,1980
MMPXY,14,1510,1927
MMPXY,15,1397,1626
MMPXY,16,1483,1589
MMPXY,17,1508,1475
MMPXY,18,1642,1348
MMPXY,19,1620,1207
MMPXY,20,1429,1068
MMPXY,21,1387,883
MMPXY,22,1393,717
MMPXY,23,1290,535
MMPXY,24,1278,425
MMPXY,25,1217,492
MMPXY,26,1044,565
MMPXY,27,906,751
MMPXY,28,740,871
MMPXY,29,259,311
MMPLL,1,37.536754,56.591914
MMPLL,2,38.130768,56.604298
MMPLL,3,38.141377,56.361656
MMPLL,4,38.125408,56.356863
MMPLL,5,38.105363,56.359882
MMPLL,6,38.095483,56.349717
MMPLL,7,38.042198,56.360647
MMPLL,8,37.994044,56.367968
MMPLL,9,37.982973,56.380631
MMPLL,10,37.939902,56.376093
MMPLL,11,37.916555,56.383127
MMPLL,12,37.892912,56.372262
MMPLL,13,37.841386,56.365829
MMPLL,14,37.827235,56.372357
MMPLL,15,37.800456,56.410184
MMPLL,16,37.820096,56.415155
MMPLL,17,37.825517,56.429699
MMPLL,18,37.855925,56.446244
MMPLL,19,37.850482,56.464063
MMPLL,20,37.806248,56.481084
MMPLL,21,37.796091,56.504421
MMPLL,22,37.797006,56.525502
MMPLL,23,37.772855,56.548263
MMPLL,24,37.769794,56.562181
MMPLL,25,37.755977,56.553484
MMPLL,26,37.716466,56.543665
MMPLL,27,37.685305,56.519622
MMPLL,28,37.647532,56.503863
MMPLL,29,37.535553,56.573367
MM1B,14.161961
MOP,Map Open Position,0,0
IWH,Map Image Width/Height,3079,2921
