OziExplorer Map Data File Version 2.2
Iii_2.jpg
III_2.ozf2
1 ,Map Code,
WGS 84,, 0.0000, 0.0000,WGS 84
Reserved 1
Reserved 2
Magnetic Variation,,,E
Map Projection,Latitude/Longitude,PolyCal,No,AutoCalOnly,No,BSBUseWPX,No
Point01,xy, 189, 281,in, deg, 56, 35,N, 38,9.26666667,E, grid, , , ,N
Point02,xy, 4499, 382,in, deg, 56, 35,N, 39,9.26666667,E, grid, , , ,N
Point03,xy, 4468, 3632,in, deg, 56, 10,N, 39,9.26666667,E, grid, , , ,N
Point04,xy, 126, 3531,in, deg, 56, 10,N, 38,9.26666667,E, grid, , , ,N
Point05,xy, , ,in, deg, , ,N, , ,E, grid, , , ,N
Point06,xy, , ,in, deg, , ,N, , ,E, grid, , , ,N
Point07,xy, , ,in, deg, , ,N, , ,E, grid, , , ,N
Point08,xy, , ,in, deg, , ,N, , ,E, grid, , , ,N
Point09,xy, , ,in, deg, , ,N, , ,E, grid, , , ,N
Point10,xy, , ,in, deg, , ,N, , ,W, grid, , , ,N
Point11,xy, , ,in, deg, , ,N, , ,W, grid, , , ,N
Point12,xy, , ,in, deg, , ,N, , ,W, grid, , , ,N
Point13,xy, , ,in, deg, , ,N, , ,W, grid, , , ,N
Point14,xy, , ,in, deg, , ,N, , ,W, grid, , , ,N
Point15,xy, , ,in, deg, , ,N, , ,W, grid, , , ,N
Point16,xy, , ,in, deg, , ,N, , ,W, grid, , , ,N
Point17,xy, , ,in, deg, , ,N, , ,W, grid, , , ,N
Point18,xy, , ,in, deg, , ,N, , ,W, grid, , , ,N
Point19,xy, , ,in, deg, , ,N, , ,W, grid, , , ,N
Point20,xy, , ,in, deg, , ,N, , ,W, grid, , , ,N
Point21,xy, , ,in, deg, , ,N, , ,W, grid, , , ,N
Point22,xy, , ,in, deg, , ,N, , ,W, grid, , , ,N
Point23,xy, , ,in, deg, , ,N, , ,W, grid, , , ,N
Point24,xy, , ,in, deg, , ,N, , ,W, grid, , , ,N
Point25,xy, , ,in, deg, , ,N, , ,W, grid, , , ,N
Point26,xy, , ,in, deg, , ,N, , ,W, grid, , , ,N
Point27,xy, , ,in, deg, , ,N, , ,W, grid, , , ,N
Point28,xy, , ,in, deg, , ,N, , ,W, grid, , , ,N
Point29,xy, , ,in, deg, , ,N, , ,W, grid, , , ,N
Point30,xy, , ,in, deg, , ,N, , ,W, grid, , , ,N
Projection Setup, 0.000000000, 45.000000000, 1.000000000, 500000.00, 0.00,,,,,
Map Feature = MF ; Map Comment = MC These follow if they exist
Track File = TF These follow if they exist
Moving Map Parameters = MM? These follow if they exist
MM0,No
MMPNUM,37
MMPXY,1,92,105
MMPXY,2,5173,78
MMPXY,3,5188,3689
MMPXY,4,1646,3697
MMPXY,5,1609,3568
MMPXY,6,1440,3393
MMPXY,7,1398,3282
MMPXY,8,1338,3335
MMPXY,9,1242,3313
MMPXY,10,1187,3249
MMPXY,11,1109,3261
MMPXY,12,1109,3139
MMPXY,13,990,3145
MMPXY,14,956,3099
MMPXY,15,907,3165
MMPXY,16,831,3126
MMPXY,17,800,3215
MMPXY,18,622,3264
MMPXY,19,558,3378
MMPXY,20,432,3418
MMPXY,21,287,3379
MMPXY,22,261,3328
MMPXY,23,126,3280
MMPXY,24,129,3184
MMPXY,25,295,2888
MMPXY,26,235,2828
MMPXY,27,265,2720
MMPXY,28,297,2675
MMPXY,29,224,2627
MMPXY,30,205,2491
MMPXY,31,377,2432
MMPXY,32,422,2314
MMPXY,33,305,2282
MMPXY,34,212,2202
MMPXY,35,213,2075
MMPXY,36,272,2015
MMPXY,37,97,2009
MMPLL,1,38.133290,56.605624
MMPLL,2,39.307329,56.624287
MMPLL,3,39.322863,56.161540
MMPLL,4,38.504396,56.149916
MMPLL,5,38.495415,56.166338
MMPLL,6,38.455777,56.188261
MMPLL,7,38.445700,56.202361
MMPLL,8,38.432013,56.195389
MMPLL,9,38.409755,56.197921
MMPLL,10,38.396832,56.205959
MMPLL,11,38.378848,56.204188
MMPLL,12,38.378440,56.219824
MMPLL,13,38.350961,56.218698
MMPLL,14,38.342951,56.224492
MMPLL,15,38.331848,56.215887
MMPLL,16,38.314155,56.220658
MMPLL,17,38.307289,56.209159
MMPLL,18,38.266320,56.202346
MMPLL,19,38.251912,56.187544
MMPLL,20,38.222929,56.182041
MMPLL,21,38.189292,56.186605
MMPLL,22,38.183114,56.193064
MMPLL,23,38.151757,56.198811
MMPLL,24,38.152129,56.211124
MMPLL,25,38.189500,56.249556
MMPLL,26,38.175434,56.257067
MMPLL,27,38.182006,56.270998
MMPLL,28,38.189250,56.276861
MMPLL,29,38.172221,56.282794
MMPLL,30,38.167376,56.300167
MMPLL,31,38.206925,56.308244
MMPLL,32,38.216929,56.323501
MMPLL,33,38.189786,56.327252
MMPLL,34,38.168028,56.337227
MMPLL,35,38.167834,56.353507
MMPLL,36,38.181268,56.361373
MMPLL,37,38.140808,56.361618
MM1B,14.272096
MOP,Map Open Position,0,0
IWH,Map Image Width/Height,5361,3882
