OziExplorer Map Data File Version 2.2
Iii_6.jpg
III_6.ozf2
1 ,Map Code,
WGS 84,, 0.0000, 0.0000,WGS 84
Reserved 1
Reserved 2
Magnetic Variation,,,E
Map Projection,Latitude/Longitude,PolyCal,No,AutoCalOnly,No,BSBUseWPX,No
Point01,xy, 782, 252,in, deg, 56, 35,N, 42,59.2666667,E, grid, , , ,N
Point02,xy, 2233, 190,in, deg, 56, 35,N, 43,19.2666667,E, grid, , , ,N
Point03,xy, 1586, 3469,in, deg, 56, 10,N, 43,9.26666667,E, grid, , , ,N
Point04,xy, 862, 3500,in, deg, 56, 10,N, 42,59.2666667,E, grid, , , ,N
Point05,xy, , ,in, deg, , ,N, , ,E, grid, , , ,N
Point06,xy, , ,in, deg, , ,N, , ,E, grid, , , ,N
Point07,xy, , ,in, deg, , ,N, , ,E, grid, , , ,N
Point08,xy, , ,in, deg, , ,N, , ,E, grid, , , ,N
Point09,xy, , ,in, deg, , ,N, , ,E, grid, , , ,N
Point10,xy, , ,in, deg, , ,N, , ,W, grid, , , ,N
Point11,xy, , ,in, deg, , ,N, , ,W, grid, , , ,N
Point12,xy, , ,in, deg, , ,N, , ,W, grid, , , ,N
Point13,xy, , ,in, deg, , ,N, , ,W, grid, , , ,N
Point14,xy, , ,in, deg, , ,N, , ,W, grid, , , ,N
Point15,xy, , ,in, deg, , ,N, , ,W, grid, , , ,N
Point16,xy, , ,in, deg, , ,N, , ,W, grid, , , ,N
Point17,xy, , ,in, deg, , ,N, , ,W, grid, , , ,N
Point18,xy, , ,in, deg, , ,N, , ,W, grid, , , ,N
Point19,xy, , ,in, deg, , ,N, , ,W, grid, , , ,N
Point20,xy, , ,in, deg, , ,N, , ,W, grid, , , ,N
Point21,xy, , ,in, deg, , ,N, , ,W, grid, , , ,N
Point22,xy, , ,in, deg, , ,N, , ,W, grid, , , ,N
Point23,xy, , ,in, deg, , ,N, , ,W, grid, , , ,N
Point24,xy, , ,in, deg, , ,N, , ,W, grid, , , ,N
Point25,xy, , ,in, deg, , ,N, , ,W, grid, , , ,N
Point26,xy, , ,in, deg, , ,N, , ,W, grid, , , ,N
Point27,xy, , ,in, deg, , ,N, , ,W, grid, , , ,N
Point28,xy, , ,in, deg, , ,N, , ,W, grid, , , ,N
Point29,xy, , ,in, deg, , ,N, , ,W, grid, , , ,N
Point30,xy, , ,in, deg, , ,N, , ,W, grid, , , ,N
Projection Setup, 0.000000000, 45.000000000, 1.000000000, 500000.00, 0.00,,,,,
Map Feature = MF ; Map Comment = MC These follow if they exist
Track File = TF These follow if they exist
Moving Map Parameters = MM? These follow if they exist
MM0,No
MMPNUM,44
MMPXY,1,157,108
MMPXY,2,481,108
MMPXY,3,451,164
MMPXY,4,524,366
MMPXY,5,504,477
MMPXY,6,427,669
MMPXY,7,448,732
MMPXY,8,395,1143
MMPXY,9,167,1408
MMPXY,10,161,1537
MMPXY,11,363,1498
MMPXY,12,377,1567
MMPXY,13,805,1417
MMPXY,14,954,1043
MMPXY,15,1480,450
MMPXY,16,1686,650
MMPXY,17,1955,565
MMPXY,18,2113,693
MMPXY,19,1837,923
MMPXY,20,1590,934
MMPXY,21,1339,1081
MMPXY,22,1176,1222
MMPXY,23,1185,1345
MMPXY,24,1232,1393
MMPXY,25,1592,1408
MMPXY,26,1597,1626
MMPXY,27,1509,1704
MMPXY,28,1578,1964
MMPXY,29,1440,2176
MMPXY,30,1292,2286
MMPXY,31,1339,2369
MMPXY,32,1337,2446
MMPXY,33,1465,2522
MMPXY,34,1314,2724
MMPXY,35,1198,2683
MMPXY,36,945,2768
MMPXY,37,1004,2922
MMPXY,38,929,3195
MMPXY,39,1085,3279
MMPXY,40,1089,3396
MMPXY,41,947,3535
MMPXY,42,860,3595
MMPXY,43,869,3692
MMPXY,44,156,3687
MMPLL,1,42.845025,56.605212
MMPLL,2,42.919410,56.603438
MMPLL,3,42.912209,56.596425
MMPLL,4,42.927839,56.570139
MMPLL,5,42.922627,56.556024
MMPLL,6,42.903876,56.531841
MMPLL,7,42.908345,56.523652
MMPLL,8,42.893879,56.471273
MMPLL,9,42.840052,56.438562
MMPLL,10,42.837953,56.422063
MMPLL,11,42.884547,56.425955
MMPLL,12,42.887376,56.417035
MMPLL,13,42.986476,56.433913
MMPLL,14,43.022775,56.481026
MMPLL,15,43.146851,56.554137
MMPLL,16,43.193026,56.527379
MMPLL,17,43.255259,56.536798
MMPLL,18,43.290818,56.519529
MMPLL,19,43.226167,56.491567
MMPLL,20,43.169399,56.491510
MMPLL,21,43.110951,56.474047
MMPLL,22,43.072741,56.456870
MMPLL,23,43.074120,56.441059
MMPLL,24,43.084642,56.434650
MMPLL,25,43.167208,56.430756
MMPLL,26,43.167137,56.402791
MMPLL,27,43.146497,56.393278
MMPLL,28,43.160885,56.359581
MMPLL,29,43.128017,56.333169
MMPLL,30,43.093424,56.319883
MMPLL,31,43.103750,56.308989
MMPLL,32,43.102860,56.299132
MMPLL,33,43.131822,56.288691
MMPLL,34,43.096026,56.263632
MMPLL,35,43.069623,56.269522
MMPLL,36,43.011064,56.260015
MMPLL,37,43.023748,56.239957
MMPLL,38,43.005003,56.205382
MMPLL,39,43.040348,56.193763
MMPLL,40,43.040612,56.178748
MMPLL,41,43.007234,56.161712
MMPLL,42,42.986925,56.154500
MMPLL,43,42.988449,56.142020
MMPLL,44,42.824785,56.146567
MM1B,14.162901
MOP,Map Open Position,0,0
IWH,Map Image Width/Height,2265,3858
