OziExplorer Map Data File Version 2.2
Ii_1.jpg
II_1.ozf2
1 ,Map Code,
WGS 84,WGS 84, 0.0000, 0.0000,WGS 84
Reserved 1
Reserved 2
Magnetic Variation,,,E
Map Projection,Latitude/Longitude,PolyCal,No,AutoCalOnly,No,BSBUseWPX,No
Point01,xy, 57, 1596,in, deg, 56, 45,N, 37,29.2666667,E, grid, , , ,N
Point02,xy, 2265, 262,in, deg, 56, 55,N, 37,59.2666667,E, grid, , , ,N
Point03,xy, 2195, 2240,in, deg, 56, 40,N, 37,59.2666667,E, grid, , , ,N
Point04,xy, 34, 2258,in, deg, 56, 40,N, 37,29.2666667,E, grid, , , ,N
Point05,xy, , ,in, deg, , ,N, , ,E, grid, , , ,N
Point06,xy, , ,in, deg, , ,N, , ,E, grid, , , ,N
Point07,xy, , ,in, deg, , ,N, , ,E, grid, , , ,N
Point08,xy, , ,in, deg, , ,N, , ,E, grid, , , ,N
Point09,xy, , ,in, deg, , ,N, , ,E, grid, , , ,N
Point10,xy, , ,in, deg, , ,N, , ,W, grid, , , ,N
Point11,xy, , ,in, deg, , ,N, , ,W, grid, , , ,N
Point12,xy, , ,in, deg, , ,N, , ,W, grid, , , ,N
Point13,xy, , ,in, deg, , ,N, , ,W, grid, , , ,N
Point14,xy, , ,in, deg, , ,N, , ,W, grid, , , ,N
Point15,xy, , ,in, deg, , ,N, , ,W, grid, , , ,N
Point16,xy, , ,in, deg, , ,N, , ,W, grid, , , ,N
Point17,xy, , ,in, deg, , ,N, , ,W, grid, , , ,N
Point18,xy, , ,in, deg, , ,N, , ,W, grid, , , ,N
Point19,xy, , ,in, deg, , ,N, , ,W, grid, , , ,N
Point20,xy, , ,in, deg, , ,N, , ,W, grid, , , ,N
Point21,xy, , ,in, deg, , ,N, , ,W, grid, , , ,N
Point22,xy, , ,in, deg, , ,N, , ,W, grid, , , ,N
Point23,xy, , ,in, deg, , ,N, , ,W, grid, , , ,N
Point24,xy, , ,in, deg, , ,N, , ,W, grid, , , ,N
Point25,xy, , ,in, deg, , ,N, , ,W, grid, , , ,N
Point26,xy, , ,in, deg, , ,N, , ,W, grid, , , ,N
Point27,xy, , ,in, deg, , ,N, , ,W, grid, , , ,N
Point28,xy, , ,in, deg, , ,N, , ,W, grid, , , ,N
Point29,xy, , ,in, deg, , ,N, , ,W, grid, , , ,N
Point30,xy, , ,in, deg, , ,N, , ,W, grid, , , ,N
Projection Setup,,,,,,,,,,
Map Feature = MF ; Map Comment = MC These follow if they exist
Track File = TF These follow if they exist
Moving Map Parameters = MM? These follow if they exist
MM0,No
MMPNUM,38
MMPXY,1,209,2743
MMPXY,2,277,2483
MMPXY,3,608,2196
MMPXY,4,750,2247
MMPXY,5,794,2168
MMPXY,6,733,2148
MMPXY,7,698,2018
MMPXY,8,691,1828
MMPXY,9,761,1730
MMPXY,10,715,1704
MMPXY,11,692,1601
MMPXY,12,686,1408
MMPXY,13,808,1385
MMPXY,14,1194,1459
MMPXY,15,1461,1658
MMPXY,16,1504,1788
MMPXY,17,1482,1846
MMPXY,18,1518,1945
MMPXY,19,1580,2212
MMPXY,20,1749,2049
MMPXY,21,1840,2056
MMPXY,22,2001,1844
MMPXY,23,2039,1926
MMPXY,24,2139,1899
MMPXY,25,2199,1802
MMPXY,26,2317,1768
MMPXY,27,2296,1664
MMPXY,28,2387,1524
MMPXY,29,2492,1520
MMPXY,30,2514,1481
MMPXY,31,2443,1419
MMPXY,32,2429,1126
MMPXY,33,2475,945
MMPXY,34,2567,870
MMPXY,35,2696,778
MMPXY,36,2700,649
MMPXY,37,2780,536
MMPXY,38,2796,2721
MMPLL,1,37.532285,56.605056
MMPLL,2,37.545895,56.637848
MMPLL,3,37.620148,56.673800
MMPLL,4,37.653426,56.667218
MMPLL,5,37.662962,56.677160
MMPLL,6,37.648682,56.679746
MMPLL,7,37.639520,56.696208
MMPLL,8,37.636347,56.720225
MMPLL,9,37.651745,56.732543
MMPLL,10,37.640887,56.735872
MMPLL,11,37.634723,56.748911
MMPLL,12,37.631756,56.773307
MMPLL,13,37.659801,56.776096
MMPLL,14,37.749732,56.766375
MMPLL,15,37.813147,56.740970
MMPLL,16,37.824160,56.724501
MMPLL,17,37.819543,56.717192
MMPLL,18,37.828683,56.704647
MMPLL,19,37.845214,56.670845
MMPLL,20,37.882991,56.691282
MMPLL,21,37.904106,56.690310
MMPLL,22,37.939631,56.716947
MMPLL,23,37.949095,56.706548
MMPLL,24,37.972016,56.709864
MMPLL,25,37.985108,56.722065
MMPLL,26,38.012137,56.726248
MMPLL,27,38.006427,56.739411
MMPLL,28,38.026342,56.757016
MMPLL,29,38.050607,56.757421
MMPLL,30,38.055380,56.762329
MMPLL,31,38.038443,56.770232
MMPLL,32,38.032808,56.807272
MMPLL,33,38.041973,56.830102
MMPLL,34,38.062650,56.839492
MMPLL,35,38.091751,56.850994
MMPLL,36,38.091622,56.867293
MMPLL,37,38.109211,56.881496
MMPLL,38,38.130775,56.605355
MM1B,14.141214
MOP,Map Open Position,0,0
IWH,Map Image Width/Height,2965,2838
