OziExplorer Map Data File Version 2.2
Ii_2.jpg
II_2.ozf2
1 ,Map Code,
WGS 84,WGS 84, 0.0000, 0.0000,WGS 84
Reserved 1
Reserved 2
Magnetic Variation,,,E
Map Projection,Latitude/Longitude,PolyCal,No,AutoCalOnly,No,BSBUseWPX,No
Point01,xy, 300, 603,in, deg, 57, 0,N, 38,9.26666667,E, grid, , , ,N
Point02,xy, 4555, 698,in, deg, 57, 0,N, 39,9.26666667,E, grid, , , ,N
Point03,xy, 4499, 3318,in, deg, 56, 40,N, 39,9.26666667,E, grid, , , ,N
Point04,xy, 196, 3220,in, deg, 56, 40,N, 38,9.26666667,E, grid, , , ,N
Point05,xy, , ,in, deg, , ,N, , ,E, grid, , , ,N
Point06,xy, , ,in, deg, , ,N, , ,E, grid, , , ,N
Point07,xy, , ,in, deg, , ,N, , ,E, grid, , , ,N
Point08,xy, , ,in, deg, , ,N, , ,E, grid, , , ,N
Point09,xy, , ,in, deg, , ,N, , ,E, grid, , , ,N
Point10,xy, , ,in, deg, , ,N, , ,W, grid, , , ,N
Point11,xy, , ,in, deg, , ,N, , ,W, grid, , , ,N
Point12,xy, , ,in, deg, , ,N, , ,W, grid, , , ,N
Point13,xy, , ,in, deg, , ,N, , ,W, grid, , , ,N
Point14,xy, , ,in, deg, , ,N, , ,W, grid, , , ,N
Point15,xy, , ,in, deg, , ,N, , ,W, grid, , , ,N
Point16,xy, , ,in, deg, , ,N, , ,W, grid, , , ,N
Point17,xy, , ,in, deg, , ,N, , ,W, grid, , , ,N
Point18,xy, , ,in, deg, , ,N, , ,W, grid, , , ,N
Point19,xy, , ,in, deg, , ,N, , ,W, grid, , , ,N
Point20,xy, , ,in, deg, , ,N, , ,W, grid, , , ,N
Point21,xy, , ,in, deg, , ,N, , ,W, grid, , , ,N
Point22,xy, , ,in, deg, , ,N, , ,W, grid, , , ,N
Point23,xy, , ,in, deg, , ,N, , ,W, grid, , , ,N
Point24,xy, , ,in, deg, , ,N, , ,W, grid, , , ,N
Point25,xy, , ,in, deg, , ,N, , ,W, grid, , , ,N
Point26,xy, , ,in, deg, , ,N, , ,W, grid, , , ,N
Point27,xy, , ,in, deg, , ,N, , ,W, grid, , , ,N
Point28,xy, , ,in, deg, , ,N, , ,W, grid, , , ,N
Point29,xy, , ,in, deg, , ,N, , ,W, grid, , , ,N
Point30,xy, , ,in, deg, , ,N, , ,W, grid, , , ,N
Projection Setup,,,,,,,,,,
Map Feature = MF ; Map Comment = MC These follow if they exist
Track File = TF These follow if they exist
Moving Map Parameters = MM? These follow if they exist
MM0,No
MMPNUM,54
MMPXY,1,666,90
MMPXY,2,1626,85
MMPXY,3,1557,204
MMPXY,4,1624,291
MMPXY,5,1660,420
MMPXY,6,1724,341
MMPXY,7,1739,254
MMPXY,8,1816,231
MMPXY,9,2007,353
MMPXY,10,2054,486
MMPXY,11,2026,601
MMPXY,12,2091,687
MMPXY,13,2179,683
MMPXY,14,2228,592
MMPXY,15,2405,502
MMPXY,16,2842,501
MMPXY,17,2975,589
MMPXY,18,3135,539
MMPXY,19,3157,667
MMPXY,20,3333,671
MMPXY,21,3488,616
MMPXY,22,3522,827
MMPXY,23,3616,886
MMPXY,24,3593,936
MMPXY,25,3811,971
MMPXY,26,3912,1060
MMPXY,27,4033,1009
MMPXY,28,4169,1229
MMPXY,29,4415,1206
MMPXY,30,4383,1384
MMPXY,31,4481,1389
MMPXY,32,4714,1699
MMPXY,33,4732,1836
MMPXY,34,4935,1874
MMPXY,35,5012,2045
MMPXY,36,5154,2125
MMPXY,37,5160,3672
MMPXY,38,75,3703
MMPXY,39,66,1533
MMPXY,40,155,1477
MMPXY,41,271,1463
MMPXY,42,368,1455
MMPXY,43,329,1160
MMPXY,44,385,1020
MMPXY,45,138,940
MMPXY,46,130,866
MMPXY,47,220,823
MMPXY,48,250,685
MMPXY,49,457,696
MMPXY,50,464,589
MMPXY,51,550,497
MMPXY,52,566,405
MMPXY,53,666,362
MMPXY,54,642,216
MMPLL,1,38.239067,57.066249
MMPLL,2,38.463228,57.069639
MMPLL,3,38.447963,57.054303
MMPLL,4,38.464231,57.043427
MMPLL,5,38.473559,57.027120
MMPLL,6,38.487942,57.037354
MMPLL,7,38.490824,57.048464
MMPLL,8,38.508642,57.051611
MMPLL,9,38.554119,57.036639
MMPLL,10,38.566044,57.019855
MMPLL,11,38.560326,57.005145
MMPLL,12,38.576119,56.994391
MMPLL,13,38.596642,56.995153
MMPLL,14,38.607436,57.006870
MMPLL,15,38.648130,57.018826
MMPLL,16,38.750179,57.020207
MMPLL,17,38.781868,57.009394
MMPLL,18,38.818877,57.016214
MMPLL,19,38.824929,56.999994
MMPLL,20,38.866060,56.999990
MMPLL,21,38.901866,57.007431
MMPLL,22,38.911312,56.980687
MMPLL,23,38.933685,56.973451
MMPLL,24,38.928671,56.967025
MMPLL,25,38.979832,56.963198
MMPLL,26,39.004054,56.952166
MMPLL,27,39.031949,56.959001
MMPLL,28,39.065279,56.931404
MMPLL,29,39.122566,56.935036
MMPLL,30,39.116363,56.912300
MMPLL,31,39.139285,56.911945
MMPLL,32,39.195911,56.873178
MMPLL,33,39.201093,56.855802
MMPLL,34,39.248772,56.851550
MMPLL,35,39.267975,56.830018
MMPLL,36,39.301708,56.820248
MMPLL,37,39.314147,56.623469
MMPLL,38,38.126825,56.604937
MMPLL,39,38.109240,56.880961
MMPLL,40,38.129625,56.888340
MMPLL,41,38.156616,56.890454
MMPLL,42,38.179212,56.891750
MMPLL,43,38.167999,56.929165
MMPLL,44,38.180078,56.947136
MMPLL,45,38.121824,56.956604
MMPLL,46,38.119427,56.965995
MMPLL,47,38.140139,56.971723
MMPLL,48,38.146160,56.989364
MMPLL,49,38.194581,56.988559
MMPLL,50,38.195453,57.002190
MMPLL,51,38.214881,57.014141
MMPLL,52,38.217961,57.025890
MMPLL,53,38.241008,57.031647
MMPLL,54,38.234361,57.050151
MM1B,14.250210
MOP,Map Open Position,0,0
IWH,Map Image Width/Height,5327,3885
