OziExplorer Map Data File Version 2.2
Ii_3.jpg
d:\maps\pics\OldMaps\1862\Vladimir\II_3.ozf2
1 ,Map Code,
WGS 84,WGS 84, 0.0000, 0.0000,WGS 84
Reserved 1
Reserved 2
Magnetic Variation,,,E
Map Projection,Latitude/Longitude,PolyCal,No,AutoCalOnly,No,BSBUseWPX,No
Point01,xy, 3157, 549,in, deg, 57,1.65457167,N, 40,1.907455,E, grid, , , ,N
Point02,xy, 4805, 305,in, deg, 57,3.51777333,N, 40,25.2108283,E, grid, , , ,N
Point03,xy, 5013, 3505,in, deg, 56,38.77089,N, 40,27.891045,E, grid, , , ,N
Point04,xy, 318, 3544,in, deg, 56,38.3633433,N, 39,21.8986733,E, grid, , , ,N
Point05,xy, 119, 2360,in, deg, 56,47.4926483,N, 39,19.1895967,E, grid, , , ,N
Point06,xy, , ,in, deg, , ,N, , ,E, grid, , , ,N
Point07,xy, , ,in, deg, , ,N, , ,E, grid, , , ,N
Point08,xy, , ,in, deg, , ,N, , ,E, grid, , , ,N
Point09,xy, , ,in, deg, , ,N, , ,E, grid, , , ,N
Point10,xy, , ,in, deg, , ,N, , ,W, grid, , , ,N
Point11,xy, , ,in, deg, , ,N, , ,W, grid, , , ,N
Point12,xy, , ,in, deg, , ,N, , ,W, grid, , , ,N
Point13,xy, , ,in, deg, , ,N, , ,W, grid, , , ,N
Point14,xy, , ,in, deg, , ,N, , ,W, grid, , , ,N
Point15,xy, , ,in, deg, , ,N, , ,W, grid, , , ,N
Point16,xy, , ,in, deg, , ,N, , ,W, grid, , , ,N
Point17,xy, , ,in, deg, , ,N, , ,W, grid, , , ,N
Point18,xy, , ,in, deg, , ,N, , ,W, grid, , , ,N
Point19,xy, , ,in, deg, , ,N, , ,W, grid, , , ,N
Point20,xy, , ,in, deg, , ,N, , ,W, grid, , , ,N
Point21,xy, , ,in, deg, , ,N, , ,W, grid, , , ,N
Point22,xy, , ,in, deg, , ,N, , ,W, grid, , , ,N
Point23,xy, , ,in, deg, , ,N, , ,W, grid, , , ,N
Point24,xy, , ,in, deg, , ,N, , ,W, grid, , , ,N
Point25,xy, , ,in, deg, , ,N, , ,W, grid, , , ,N
Point26,xy, , ,in, deg, , ,N, , ,W, grid, , , ,N
Point27,xy, , ,in, deg, , ,N, , ,W, grid, , , ,N
Point28,xy, , ,in, deg, , ,N, , ,W, grid, , , ,N
Point29,xy, , ,in, deg, , ,N, , ,W, grid, , , ,N
Point30,xy, , ,in, deg, , ,N, , ,W, grid, , , ,N
Projection Setup,,,,,,,,,,
Map Feature = MF ; Map Comment = MC These follow if they exist
Track File = TF These follow if they exist
Moving Map Parameters = MM? These follow if they exist
MM0,No
MMPNUM,38
MMPXY,1,3110,69
MMPXY,2,5142,63
MMPXY,3,5134,3674
MMPXY,4,62,3664
MMPXY,5,74,2129
MMPXY,6,147,2138
MMPXY,7,193,2285
MMPXY,8,407,2311
MMPXY,9,444,2434
MMPXY,10,533,2438
MMPXY,11,661,2662
MMPXY,12,824,2651
MMPXY,13,867,2536
MMPXY,14,965,2513
MMPXY,15,988,2420
MMPXY,16,1179,2194
MMPXY,17,1258,2176
MMPXY,18,1379,2229
MMPXY,19,1418,2164
MMPXY,20,1566,2217
MMPXY,21,1669,2185
MMPXY,22,1704,2022
MMPXY,23,1784,1999
MMPXY,24,1840,1883
MMPXY,25,1998,1768
MMPXY,26,2002,1647
MMPXY,27,2111,1628
MMPXY,28,2182,1550
MMPXY,29,2308,1305
MMPXY,30,2372,1266
MMPXY,31,2377,1117
MMPXY,32,2598,952
MMPXY,33,2751,993
MMPXY,34,2805,926
MMPXY,35,3040,850
MMPXY,36,2985,688
MMPXY,37,3038,524
MMPXY,38,3020,217
MMPLL,1, 40.022357, 57.088858
MMPLL,2, 40.498452, 57.090459
MMPLL,3, 40.493216, 56.624390
MMPLL,4, 39.304876, 56.623617
MMPLL,5, 39.309116, 56.821742
MMPLL,6, 39.326212, 56.820610
MMPLL,7, 39.336852, 56.801656
MMPLL,8, 39.386967, 56.798387
MMPLL,9, 39.395522, 56.782527
MMPLL,10, 39.416371, 56.782047
MMPLL,11, 39.446152, 56.753187
MMPLL,12, 39.484352, 56.754673
MMPLL,13, 39.494534, 56.769534
MMPLL,14, 39.517517, 56.772542
MMPLL,15, 39.522992, 56.784555
MMPLL,16, 39.567953, 56.813802
MMPLL,17, 39.586479, 56.816157
MMPLL,18, 39.614780, 56.809366
MMPLL,19, 39.623978, 56.817771
MMPLL,20, 39.658604, 56.810991
MMPLL,21, 39.682766, 56.815163
MMPLL,22, 39.691119, 56.836215
MMPLL,23, 39.709884, 56.839217
MMPLL,24, 39.723112, 56.854211
MMPLL,25, 39.760238, 56.869118
MMPLL,26, 39.761288, 56.884737
MMPLL,27, 39.786844, 56.887234
MMPLL,28, 39.803551, 56.897330
MMPLL,29, 39.833301, 56.929003
MMPLL,30, 39.848332, 56.934063
MMPLL,31, 39.849642, 56.953296
MMPLL,32, 39.901575, 56.974682
MMPLL,33, 39.937384, 56.969453
MMPLL,34, 39.950099, 56.978122
MMPLL,35, 40.005229, 56.988027
MMPLL,36, 39.992494, 57.008914
MMPLL,37, 40.005064, 57.030103
MMPLL,38, 40.001132, 57.069719
MM1B,14.305259
MOP,Map Open Position,0,0
IWH,Map Image Width/Height,5309,3893
