OziExplorer Map Data File Version 2.2
From Mikle_V - Kaluga_region_33
C:\OziExplorer\Maps\maps from cd\BIG\Kaluga_all\Kaluga_region.ozf2
1 ,Map Code,
Pulkovo 1942 (2),WGS 84, 0.0000, 0.0000,WGS 84
Reserved 1
Reserved 2
Magnetic Variation,,,E
Map Projection,Transverse Mercator,PolyCal,No,AutoCalOnly,No,BSBUseWPX,No
Point01,xy, 6079, 545,in, deg, , ,N, , ,E, grid, , 672000, 6128000,N
Point02,xy, 1059, 3792,in, deg, , ,N, , ,E, grid, , 548000, 6040000,N
Point03,xy, 3382, 8464,in, deg, , ,N, , ,E, grid, , 612000, 5924000,N
Point04,xy, 6736, 7348,in, deg, , ,N, , ,E, grid, , 696000, 5956000,N
Point05,xy, 4123, 2033,in, deg, , ,N, , ,E, grid, , 624000, 6088000,N
Point06,xy, 3504, 5469,in, deg, , ,N, , ,E, grid, , 612000, 6000000,N
Point07,xy, 501, 5658,in, deg, , ,N, , ,E, grid, , 536000, 5992000,N
Point08,xy, 6403, 4018,in, deg, , ,N, , ,E, grid, , 684000, 6040000,N
Point09,xy, , ,in, deg, , ,N, , ,E, grid, , , ,N
Point10,xy, , ,in, deg, , ,N, , ,W, grid, , , ,N
Point11,xy, , ,in, deg, , ,N, , ,W, grid, , , ,N
Point12,xy, , ,in, deg, , ,N, , ,W, grid, , , ,N
Point13,xy, , ,in, deg, , ,N, , ,W, grid, , , ,N
Point14,xy, , ,in, deg, , ,N, , ,W, grid, , , ,N
Point15,xy, , ,in, deg, , ,N, , ,W, grid, , , ,N
Point16,xy, , ,in, deg, , ,N, , ,W, grid, , , ,N
Point17,xy, , ,in, deg, , ,N, , ,W, grid, , , ,N
Point18,xy, , ,in, deg, , ,N, , ,W, grid, , , ,N
Point19,xy, , ,in, deg, , ,N, , ,W, grid, , , ,N
Point20,xy, , ,in, deg, , ,N, , ,W, grid, , , ,N
Point21,xy, , ,in, deg, , ,N, , ,W, grid, , , ,N
Point22,xy, , ,in, deg, , ,N, , ,W, grid, , , ,N
Point23,xy, , ,in, deg, , ,N, , ,W, grid, , , ,N
Point24,xy, , ,in, deg, , ,N, , ,W, grid, , , ,N
Point25,xy, , ,in, deg, , ,N, , ,W, grid, , , ,N
Point26,xy, , ,in, deg, , ,N, , ,W, grid, , , ,N
Point27,xy, , ,in, deg, , ,N, , ,W, grid, , , ,N
Point28,xy, , ,in, deg, , ,N, , ,W, grid, , , ,N
Point29,xy, , ,in, deg, , ,N, , ,W, grid, , , ,N
Point30,xy, , ,in, deg, , ,N, , ,W, grid, , , ,N
Projection Setup, 0.000000000, 33.000000000, 1.000000000, 500000.00, 0.00,,,,,
Map Feature = MF ; Map Comment = MC These follow if they exist
Track File = TF These follow if they exist
Moving Map Parameters = MM? These follow if they exist
MM0,Yes
MMPNUM,18
MMPXY,1,5146,186
MMPXY,2,6822,199
MMPXY,3,6824,8136
MMPXY,4,5573,8716
MMPXY,5,4822,9194
MMPXY,6,4229,9158
MMPXY,7,4064,8909
MMPXY,8,2932,8776
MMPXY,9,2423,7793
MMPXY,10,2349,6844
MMPXY,11,1881,6641
MMPXY,12,1100,6473
MMPXY,13,641,6071
MMPXY,14,165,5680
MMPXY,15,510,4200
MMPXY,16,884,3320
MMPXY,17,3917,2183
MMPXY,18,4035,1714
MMPLL,1,35.331184,55.325099
MMPLL,2,36.001782,55.324028
MMPLL,3,36.001313,53.513300
MMPLL,4,35.523923,53.379669
MMPLL,5,35.239293,53.268892
MMPLL,6,35.013369,53.275282
MMPLL,7,34.949134,53.331523
MMPLL,8,34.516551,53.356974
MMPLL,9,34.313484,53.578576
MMPLL,10,34.276280,53.794701
MMPLL,11,34.093832,53.838186
MMPLL,12,33.790566,53.871177
MMPLL,13,33.608168,53.959393
MMPLL,14,33.418565,54.044677
MMPLL,15,33.532387,54.385147
MMPLL,16,33.667293,54.588844
MMPLL,17,34.851990,54.865752
MMPLL,18,34.895859,54.973201
MM1B,25.373021
Other Grid Setup
GRGRID,No,4 Km,No,16711680,255,4 Km,0,16777215,8,1,Yes,No,No,x
MOP,Map Open Position,0,0
IWH,Map Image Width/Height,10222,9656
