OziExplorer Map Data File Version 2.2
Kaluga_listy.jpg
D:\OziExplorer\Maps\maps from cd\Kaluga\kaluga_listy.jpg
1 ,Map Code,
Pulkovo 1942 (2),, 0.0000, 0.0000,WGS 84
Reserved 1
Reserved 2
Magnetic Variation,,,E
Map Projection,(UTM) Universal Transverse Mercator,PolyCal,No,AutoCalOnly,No,BSBUseWPX,No
Point01,xy, 327, 33,in, deg, 55, 20.0000,N, 34, 0.0000,E, grid, , , ,N
Point02,xy, 818, 39,in, deg, 55, 20.0000,N, 35, 0.0000,E, grid, , , ,N
Point03,xy, 1783, 19,in, deg, 55, 20.0000,N, 37, 0.0000,E, grid, , , ,N
Point04,xy, 309, 1168,in, deg, 54, 0.0000,N, 34, 0.0000,E, grid, , , ,N
Point05,xy, 1319, 1167,in, deg, 54, 0.0000,N, 36, 0.0000,E, grid, , , ,N
Point06,xy, 1805, 587,in, deg, 54, 40.0000,N, 37, 0.0000,E, grid, , , ,N
Point07,xy, 1848, 1718,in, deg, 53, 20.0000,N, 37, 0.0000,E, grid, , , ,N
Point08,xy, 300, 1733,in, deg, 53, 20.0000,N, 34, 0.0000,E, grid, , , ,N
Point09,xy, 818, 609,in, deg, 54, 40.0000,N, 35, 0.0000,E, grid, , , ,N
Point10,xy, , ,in, deg, , ,, , ,, grid, , , ,
Point11,xy, , ,in, deg, , ,, , ,, grid, , , ,
Point12,xy, , ,in, deg, , ,, , ,, grid, , , ,
Point13,xy, , ,in, deg, , ,, , ,, grid, , , ,
Point14,xy, , ,in, deg, , ,, , ,, grid, , , ,
Point15,xy, , ,in, deg, , ,, , ,, grid, , , ,
Point16,xy, , ,in, deg, , ,, , ,, grid, , , ,
Point17,xy, , ,in, deg, , ,, , ,, grid, , , ,
Point18,xy, , ,in, deg, , ,, , ,, grid, , , ,
Point19,xy, , ,in, deg, , ,, , ,, grid, , , ,
Point20,xy, , ,in, deg, , ,, , ,, grid, , , ,
Point21,xy, , ,in, deg, , ,, , ,, grid, , , ,
Point22,xy, , ,in, deg, , ,, , ,, grid, , , ,
Point23,xy, , ,in, deg, , ,, , ,, grid, , , ,
Point24,xy, , ,in, deg, , ,, , ,, grid, , , ,
Point25,xy, , ,in, deg, , ,, , ,, grid, , , ,
Point26,xy, , ,in, deg, , ,, , ,, grid, , , ,
Point27,xy, , ,in, deg, , ,, , ,, grid, , , ,
Point28,xy, , ,in, deg, , ,, , ,, grid, , , ,
Point29,xy, , ,in, deg, , ,, , ,, grid, , , ,
Point30,xy, , ,in, deg, , ,, , ,, grid, , , ,
Projection Setup, 0.000000000, 39.000000000, 1.000000000, 500000.00, 0.00,,,,,
Map Feature = MF ; Map Comment = MC These follow if they exist
Track File = TF These follow if they exist
Moving Map Parameters = MM? These follow if they exist
MM0,Yes
MMPNUM,4
MMPXY,1,0,0
MMPXY,2,1980,0
MMPXY,3,1980,1836
MMPXY,4,0,1836
MMPLL,1, 33.332389, 55.369842
MMPLL,2, 37.391406, 55.349909
MMPLL,3, 37.261881, 53.190957
MMPLL,4, 33.409955, 53.207957
MM1B,129.951185
MOP,Map Open Position,0,0
IWH,Map Image Width/Height,1980,1836
