OziExplorer Map Data File Version 2.2
Orlov_region.gif
C:\OziExplorer\Maps\maps from cd\BIG\Orlov_all\Orlov_region.gif
1 ,Map Code,
Pulkovo 1942 (2),WGS 84, 0.0000, 0.0000,WGS 84
Reserved 1
Reserved 2
Magnetic Variation,,,E
Map Projection,Transverse Mercator,PolyCal,No,AutoCalOnly,No,BSBUseWPX,No
Point01,xy, 1574, 1966,in, deg, , ,N, , ,E, grid, , 644000, 5904000,N
Point02,xy, 3686, 324,in, deg, , ,N, , ,E, grid, , 696000, 5948000,N
Point03,xy, 950, 5567,in, deg, , ,N, , ,E, grid, , 632000, 5812000,N
Point04,xy, 3611, 5990,in, deg, , ,N, , ,E, grid, , 700000, 5804000,N
Point05,xy, 2979, 6119,in, deg, , ,N, , ,E, grid, , 684000, 5800000,N
Point06,xy, 1966, 3871,in, deg, , ,N, , ,E, grid, , 656000, 5856000,N
Point07,xy, , ,in, deg, , ,N, , ,E, grid, , , ,N
Point08,xy, , ,in, deg, , ,N, , ,E, grid, , , ,N
Point09,xy, , ,in, deg, , ,N, , ,E, grid, , , ,N
Point10,xy, , ,in, deg, , ,, , ,, grid, , , ,
Point11,xy, , ,in, deg, , ,, , ,, grid, , , ,
Point12,xy, , ,in, deg, , ,, , ,, grid, , , ,
Point13,xy, , ,in, deg, , ,, , ,, grid, , , ,
Point14,xy, , ,in, deg, , ,, , ,, grid, , , ,
Point15,xy, , ,in, deg, , ,, , ,, grid, , , ,
Point16,xy, , ,in, deg, , ,, , ,, grid, , , ,
Point17,xy, , ,in, deg, , ,, , ,, grid, , , ,
Point18,xy, , ,in, deg, , ,, , ,, grid, , , ,
Point19,xy, , ,in, deg, , ,, , ,, grid, , , ,
Point20,xy, , ,in, deg, , ,, , ,, grid, , , ,
Point21,xy, , ,in, deg, , ,, , ,, grid, , , ,
Point22,xy, , ,in, deg, , ,, , ,, grid, , , ,
Point23,xy, , ,in, deg, , ,, , ,, grid, , , ,
Point24,xy, , ,in, deg, , ,, , ,, grid, , , ,
Point25,xy, , ,in, deg, , ,, , ,, grid, , , ,
Point26,xy, , ,in, deg, , ,, , ,, grid, , , ,
Point27,xy, , ,in, deg, , ,, , ,, grid, , , ,
Point28,xy, , ,in, deg, , ,, , ,, grid, , , ,
Point29,xy, , ,in, deg, , ,, , ,, grid, , , ,
Point30,xy, , ,in, deg, , ,, , ,, grid, , , ,
Projection Setup, 0.000000000, 33.000000000, 1.000000000, 500000.00, 0.00,,,,,
Map Feature = MF ; Map Comment = MC These follow if they exist
Track File = TF These follow if they exist
Moving Map Parameters = MM? These follow if they exist
MM0,Yes
MMPNUM,8
MMPXY,1,1252,2146
MMPXY,2,2248,742
MMPXY,3,3613,96
MMPXY,4,3797,101
MMPXY,5,3816,6313
MMPXY,6,2804,6429
MMPXY,7,459,6170
MMPXY,8,485,3579
MMPLL,1,35.036172,53.201850
MMPLL,2,35.411041,53.524738
MMPLL,3,35.934038,53.673416
MMPLL,4,36.004769,53.672259
MMPLL,5,36.009846,52.254135
MMPLL,6,35.633547,52.227079
MMPLL,7,34.759988,52.280284
MMPLL,8,34.753551,52.872029
MM1B,25.377761
Other Grid Setup
GRGRID,No,4 Km,No,16711680,255,4 Km,0,16777215,8,1,Yes,No,No,x
MOP,Map Open Position,0,0
IWH,Map Image Width/Height,9789,8577
