OziExplorer Map Data File Version 2.2
Orlov_region.gif
C:\OziExplorer\Maps\maps from cd\BIG\Orlov_all\Orlov_region.gif
1 ,Map Code,
Pulkovo 1942 (2),WGS 84, 0.0000, 0.0000,WGS 84
Reserved 1
Reserved 2
Magnetic Variation,,,E
Map Projection,Transverse Mercator,PolyCal,No,AutoCalOnly,No,BSBUseWPX,No
Point01,xy, 4063, 788,in, deg, , ,N, , ,E, grid, , 308000, 5936000,N
Point02,xy, 7740, 2059,in, deg, , ,N, , ,E, grid, , 400000, 5900000,N
Point03,xy, 8266, 7399,in, deg, , ,N, , ,E, grid, , 408000, 5764000,N
Point04,xy, 3959, 5990,in, deg, , ,N, , ,E, grid, , 300000, 5804000,N
Point05,xy, 8291, 4083,in, deg, , ,N, , ,E, grid, , 412000, 5848000,N
Point06,xy, 6012, 2289,in, deg, , ,N, , ,E, grid, , 356000, 5896000,N
Point07,xy, , ,in, deg, , ,N, , ,E, grid, , , ,N
Point08,xy, , ,in, deg, , ,N, , ,E, grid, , , ,N
Point09,xy, , ,in, deg, , ,N, , ,E, grid, , , ,N
Point10,xy, , ,in, deg, , ,, , ,, grid, , , ,
Point11,xy, , ,in, deg, , ,, , ,, grid, , , ,
Point12,xy, , ,in, deg, , ,, , ,, grid, , , ,
Point13,xy, , ,in, deg, , ,, , ,, grid, , , ,
Point14,xy, , ,in, deg, , ,, , ,, grid, , , ,
Point15,xy, , ,in, deg, , ,, , ,, grid, , , ,
Point16,xy, , ,in, deg, , ,, , ,, grid, , , ,
Point17,xy, , ,in, deg, , ,, , ,, grid, , , ,
Point18,xy, , ,in, deg, , ,, , ,, grid, , , ,
Point19,xy, , ,in, deg, , ,, , ,, grid, , , ,
Point20,xy, , ,in, deg, , ,, , ,, grid, , , ,
Point21,xy, , ,in, deg, , ,, , ,, grid, , , ,
Point22,xy, , ,in, deg, , ,, , ,, grid, , , ,
Point23,xy, , ,in, deg, , ,, , ,, grid, , , ,
Point24,xy, , ,in, deg, , ,, , ,, grid, , , ,
Point25,xy, , ,in, deg, , ,, , ,, grid, , , ,
Point26,xy, , ,in, deg, , ,, , ,, grid, , , ,
Point27,xy, , ,in, deg, , ,, , ,, grid, , , ,
Point28,xy, , ,in, deg, , ,, , ,, grid, , , ,
Point29,xy, , ,in, deg, , ,, , ,, grid, , , ,
Point30,xy, , ,in, deg, , ,, , ,, grid, , , ,
Projection Setup, 0.000000000, 39.000000000, 1.000000000, 500000.00, 0.00,,,,,
Map Feature = MF ; Map Comment = MC These follow if they exist
Track File = TF These follow if they exist
Moving Map Parameters = MM? These follow if they exist
MM0,Yes
MMPNUM,9
MMPXY,1,3762,164
MMPXY,2,8140,1726
MMPXY,3,8929,2807
MMPXY,4,9339,6507
MMPXY,5,8416,6508
MMPXY,6,8408,7874
MMPXY,7,7636,7832
MMPXY,8,4896,6342
MMPXY,9,3747,6307
MMPLL,1,35.989263,53.657698
MMPLL,2,37.658769,53.292078
MMPLL,3,37.948868,53.041258
MMPLL,4,38.066022,52.194476
MMPLL,5,37.723068,52.199402
MMPLL,6,37.708728,51.887668
MMPLL,7,37.424123,51.900782
MMPLL,8,36.415149,52.247787
MMPLL,9,35.987760,52.256054
MM1B,25.385101
Other Grid Setup
GRGRID,No,4 Km,No,16711680,255,4 Km,0,16777215,8,1,Yes,No,No,x
MOP,Map Open Position,0,0
IWH,Map Image Width/Height,9789,8577
