OziExplorer Map Data File Version 2.2
Orl_listy.jpg
D:\OziExplorer\Maps\maps from cd\orlov\orl_listy.jpg
1 ,Map Code,
Pulkovo 1942 (1),WGS 84, 0.0000, 0.0000,WGS 84
Reserved 1
Reserved 2
Magnetic Variation,,,E
Map Projection,(UTM) Universal Transverse Mercator,PolyCal,No,AutoCalOnly,No,BSBUseWPX,No
Point01,xy, 137, 303,in, deg, 53, 20,N, 35, 00,E, grid, , , ,N
Point02,xy, 654, 302,in, deg, 53, 20,N, 36, 00,E, grid, , , ,N
Point03,xy, 1694, 280,in, deg, 53, 20,N, 38, 00,E, grid, , , ,N
Point04,xy, 1736, 1445,in, deg, 52, 00,N, 38, 00,E, grid, , , ,N
Point05,xy, 1199, 1462,in, deg, 52, 00,N, 37, 00,E, grid, , , ,N
Point06,xy, 128, 1470,in, deg, 52, 00,N, 35, 00,E, grid, , , ,N
Point07,xy, , ,in, deg, , ,N, , ,E, grid, , , ,N
Point08,xy, , ,in, deg, , ,N, , ,E, grid, , , ,N
Point09,xy, , ,in, deg, , ,N, , ,E, grid, , , ,N
Point10,xy, , ,in, deg, , ,, , ,, grid, , , ,
Point11,xy, , ,in, deg, , ,, , ,, grid, , , ,
Point12,xy, , ,in, deg, , ,, , ,, grid, , , ,
Point13,xy, , ,in, deg, , ,, , ,, grid, , , ,
Point14,xy, , ,in, deg, , ,, , ,, grid, , , ,
Point15,xy, , ,in, deg, , ,, , ,, grid, , , ,
Point16,xy, , ,in, deg, , ,, , ,, grid, , , ,
Point17,xy, , ,in, deg, , ,, , ,, grid, , , ,
Point18,xy, , ,in, deg, , ,, , ,, grid, , , ,
Point19,xy, , ,in, deg, , ,, , ,, grid, , , ,
Point20,xy, , ,in, deg, , ,, , ,, grid, , , ,
Point21,xy, , ,in, deg, , ,, , ,, grid, , , ,
Point22,xy, , ,in, deg, , ,, , ,, grid, , , ,
Point23,xy, , ,in, deg, , ,, , ,, grid, , , ,
Point24,xy, , ,in, deg, , ,, , ,, grid, , , ,
Point25,xy, , ,in, deg, , ,, , ,, grid, , , ,
Point26,xy, , ,in, deg, , ,, , ,, grid, , , ,
Point27,xy, , ,in, deg, , ,, , ,, grid, , , ,
Point28,xy, , ,in, deg, , ,, , ,, grid, , , ,
Point29,xy, , ,in, deg, , ,, , ,, grid, , , ,
Point30,xy, , ,in, deg, , ,, , ,, grid, , , ,
Projection Setup, 0.000000000, 39.000000000, 1.000000000, 7500000.00, 0.00,,,,,
Map Feature = MF ; Map Comment = MC These follow if they exist
Track File = TF These follow if they exist
Moving Map Parameters = MM? These follow if they exist
MM0,Yes
MMPNUM,4
MMPXY,1,0,0
MMPXY,2,1796,0
MMPXY,3,1796,1556
MMPXY,4,0,1556
MMPLL,1, 34.733046, 53.678829
MMPLL,2, 38.216481, 53.647343
MMPLL,3, 38.106092, 51.872047
MMPLL,4, 34.761783, 51.900025
MM1B,128.041080
MOP,Map Open Position,0,0
IWH,Map Image Width/Height,1796,1556
