OziExplorer Map Data File Version 2.2
Sm_listy.jpg
D:\OziExplorer\Maps\maps from cd\Smolensk\sm_listy.jpg
1 ,Map Code,
Pulkovo 1942 (2),, 0.0000, 0.0000,WGS 84
Reserved 1
Reserved 2
Magnetic Variation,,,E
Map Projection,(UTM) Universal Transverse Mercator,PolyCal,No,AutoCalOnly,No,BSBUseWPX,No
Point01,xy, 179, 169,in, deg, 56, 0.0000,N, 31, 0.0000,E, grid, , , ,N
Point02,xy, 911, 181,in, deg, 56, 0.0000,N, 33, 0.0000,E, grid, , , ,N
Point03,xy, 1633, 176,in, deg, 56, 0.0000,N, 35, 0.0000,E, grid, , , ,N
Point04,xy, 153, 1029,in, deg, 54, 40.0000,N, 31, 0.0000,E, grid, , , ,N
Point05,xy, 909, 1040,in, deg, 54, 40.0000,N, 33, 0.0000,E, grid, , , ,N
Point06,xy, 1653, 1037,in, deg, 54, 40.0000,N, 35, 0.0000,E, grid, , , ,N
Point07,xy, 140, 1454,in, deg, 54, 0.0000,N, 31, 0.0000,E, grid, , , ,N
Point08,xy, 908, 1466,in, deg, 54, 0.0000,N, 33, 0.0000,E, grid, , , ,N
Point09,xy, 1662, 1463,in, deg, 54, 0.0000,N, 35, 0.0000,E, grid, , , ,N
Point10,xy, , ,in, deg, , ,N, , ,W, grid, , , ,N
Point11,xy, , ,in, deg, , ,N, , ,W, grid, , , ,N
Point12,xy, , ,in, deg, , ,N, , ,W, grid, , , ,N
Point13,xy, , ,in, deg, , ,N, , ,W, grid, , , ,N
Point14,xy, , ,in, deg, , ,N, , ,W, grid, , , ,N
Point15,xy, , ,in, deg, , ,N, , ,W, grid, , , ,N
Point16,xy, , ,in, deg, , ,N, , ,W, grid, , , ,N
Point17,xy, , ,in, deg, , ,N, , ,W, grid, , , ,N
Point18,xy, , ,in, deg, , ,N, , ,W, grid, , , ,N
Point19,xy, , ,in, deg, , ,N, , ,W, grid, , , ,N
Point20,xy, , ,in, deg, , ,N, , ,W, grid, , , ,N
Point21,xy, , ,in, deg, , ,N, , ,W, grid, , , ,N
Point22,xy, , ,in, deg, , ,N, , ,W, grid, , , ,N
Point23,xy, , ,in, deg, , ,N, , ,W, grid, , , ,N
Point24,xy, , ,in, deg, , ,N, , ,W, grid, , , ,N
Point25,xy, , ,in, deg, , ,N, , ,W, grid, , , ,N
Point26,xy, , ,in, deg, , ,N, , ,W, grid, , , ,N
Point27,xy, , ,in, deg, , ,N, , ,W, grid, , , ,N
Point28,xy, , ,in, deg, , ,N, , ,W, grid, , , ,N
Point29,xy, , ,in, deg, , ,N, , ,W, grid, , , ,N
Point30,xy, , ,in, deg, , ,N, , ,W, grid, , , ,N
Projection Setup,,,,,,,,,,
Map Feature = MF ; Map Comment = MC These follow if they exist
Track File = TF These follow if they exist
Moving Map Parameters = MM? These follow if they exist
MM0,Yes
MMPNUM,4
MMPXY,1,0,0
MMPXY,2,1848,0
MMPXY,3,1848,1872
MMPXY,4,0,1872
MMPLL,1, 30.479325, 56.251073
MMPLL,2, 35.609010, 56.264675
MMPLL,3, 35.443865, 53.356725
MMPLL,4, 30.669974, 53.343565
MM1B,171.946650
MOP,Map Open Position,0,0
IWH,Map Image Width/Height,1848,1872
