OziExplorer Map Data File Version 2.2
Tver_Region_37
Tver_Region.ozf2
1 ,Map Code,
Pulkovo 1942 (1),WGS 84, 0.0000, 0.0000,WGS 84
Reserved 1
Reserved 2
Magnetic Variation,,,E
Map Projection,Transverse Mercator,PolyCal,No,AutoCalOnly,No,BSBUseWPX,No
Point01,xy,10369, 202,in, deg, , ,N, , ,E, grid, , 7356000, 6544000,N
Point02,xy,12249, 35,in, deg, , ,N, , ,E, grid, , 7420000, 6544000,N
Point03,xy, 9680, 1802,in, deg, , ,N, , ,E, grid, , 7328000, 6492000,N
Point04,xy,12886, 3178,in, deg, , ,N, , ,E, grid, , 7432000, 6436000,N
Point05,xy, 9780, 5587,in, deg, , ,N, , ,E, grid, , 7320000, 6364000,N
Point06,xy,13852, 4752,in, deg, , ,N, , ,E, grid, , 7460000, 6380000,N
Point07,xy,13879, 7718,in, deg, , ,N, , ,E, grid, , 7452000, 6280000,N
Point08,xy, 9949, 8894,in, deg, , ,N, , ,E, grid, , 7316000, 6252000,N
Point09,xy,12186, 8697,in, deg, , ,N, , ,E, grid, , 7392000, 6252000,N
Point10,xy, , ,in, deg, , ,N, , ,W, grid, , , ,N
Point11,xy, , ,in, deg, , ,N, , ,W, grid, , , ,N
Point12,xy, , ,in, deg, , ,N, , ,W, grid, , , ,N
Point13,xy, , ,in, deg, , ,N, , ,W, grid, , , ,N
Point14,xy, , ,in, deg, , ,N, , ,W, grid, , , ,N
Point15,xy, , ,in, deg, , ,N, , ,W, grid, , , ,N
Point16,xy, , ,in, deg, , ,N, , ,W, grid, , , ,N
Point17,xy, , ,in, deg, , ,N, , ,W, grid, , , ,N
Point18,xy, , ,in, deg, , ,N, , ,W, grid, , , ,N
Point19,xy, , ,in, deg, , ,N, , ,W, grid, , , ,N
Point20,xy, , ,in, deg, , ,N, , ,W, grid, , , ,N
Point21,xy, , ,in, deg, , ,N, , ,W, grid, , , ,N
Point22,xy, , ,in, deg, , ,N, , ,W, grid, , , ,N
Point23,xy, , ,in, deg, , ,N, , ,W, grid, , , ,N
Point24,xy, , ,in, deg, , ,N, , ,W, grid, , , ,N
Point25,xy, , ,in, deg, , ,N, , ,W, grid, , , ,N
Point26,xy, , ,in, deg, , ,N, , ,W, grid, , , ,N
Point27,xy, , ,in, deg, , ,N, , ,W, grid, , , ,N
Point28,xy, , ,in, deg, , ,N, , ,W, grid, , , ,N
Point29,xy, , ,in, deg, , ,N, , ,W, grid, , , ,N
Point30,xy, , ,in, deg, , ,N, , ,W, grid, , , ,N
Projection Setup, 0.000000000, 39.000000000, 1.000000000, 7500000.00, 0.00,,,,,
Map Feature = MF ; Map Comment = MC These follow if they exist
Track File = TF These follow if they exist
Moving Map Parameters = MM? These follow if they exist
MM0,Yes
MMPNUM,14
MMPXY,1,9582,1689
MMPXY,2,10337,1653
MMPXY,3,10257,84
MMPXY,4,12283,0
MMPXY,5,12344,1564
MMPXY,6,12628,1552
MMPXY,7,12697,3123
MMPXY,8,13008,3117
MMPXY,9,13051,4696
MMPXY,10,13914,4651
MMPXY,11,14071,7923
MMPXY,12,12361,7983
MMPXY,13,12383,8868
MMPXY,14,9902,8945
MMPLL,1, 35.994489, 58.545999
MMPLL,2, 36.434018, 58.546220
MMPLL,3, 36.432982, 59.023687
MMPLL,4, 37.628254, 59.013048
MMPLL,5, 37.602163, 58.537460
MMPLL,6, 37.767393, 58.535182
MMPLL,7, 37.744002, 58.057290
MMPLL,8, 37.922202, 58.052412
MMPLL,9, 37.881997, 57.572649
MMPLL,10, 38.370994, 57.566551
MMPLL,11, 38.315110, 56.570931
MMPLL,12, 37.372717, 56.589794
MMPLL,13, 37.353532, 56.320814
MMPLL,14, 35.995125, 56.338440
MM1B,33.726972
MOP,Map Open Position,0,0
IWH,Map Image Width/Height,14072,11568
