OziExplorer Map Data File Version 2.2
A5.jpg
A5.ozf2
1 ,Map Code,
WGS 84,WGS 84, 0.0000, 0.0000,WGS 84
Reserved 1
Reserved 2
Magnetic Variation,,,E
Map Projection,Latitude/Longitude,PolyCal,No,AutoCalOnly,No,BSBUseWPX,No
Point01,xy, 227, 831,in, deg, 58, 45,N, 36, 50,E, grid, , , ,N
Point02,xy, 204, 182,in, deg, 58, 50,N, 36, 50,E, grid, , , ,N
Point03,xy, 1537, 155,in, deg, 58, 50,N, 37, 10,E, grid, , , ,N
Point04,xy, 1560, 800,in, deg, 58, 45,N, 37, 10,E, grid, , , ,N
Point05,xy, , ,in, deg, , ,N, , ,E, grid, , , ,N
Point06,xy, , ,in, deg, , ,N, , ,E, grid, , , ,N
Point07,xy, , ,in, deg, , ,N, , ,E, grid, , , ,N
Point08,xy, , ,in, deg, , ,N, , ,E, grid, , , ,N
Point09,xy, , ,in, deg, , ,N, , ,E, grid, , , ,N
Point10,xy, , ,in, deg, , ,, , ,, grid, , , ,
Point11,xy, , ,in, deg, , ,, , ,, grid, , , ,
Point12,xy, , ,in, deg, , ,, , ,, grid, , , ,
Point13,xy, , ,in, deg, , ,, , ,, grid, , , ,
Point14,xy, , ,in, deg, , ,, , ,, grid, , , ,
Point15,xy, , ,in, deg, , ,, , ,, grid, , , ,
Point16,xy, , ,in, deg, , ,, , ,, grid, , , ,
Point17,xy, , ,in, deg, , ,, , ,, grid, , , ,
Point18,xy, , ,in, deg, , ,, , ,, grid, , , ,
Point19,xy, , ,in, deg, , ,, , ,, grid, , , ,
Point20,xy, , ,in, deg, , ,, , ,, grid, , , ,
Point21,xy, , ,in, deg, , ,, , ,, grid, , , ,
Point22,xy, , ,in, deg, , ,, , ,, grid, , , ,
Point23,xy, , ,in, deg, , ,, , ,, grid, , , ,
Point24,xy, , ,in, deg, , ,, , ,, grid, , , ,
Point25,xy, , ,in, deg, , ,, , ,, grid, , , ,
Point26,xy, , ,in, deg, , ,, , ,, grid, , , ,
Point27,xy, , ,in, deg, , ,, , ,, grid, , , ,
Point28,xy, , ,in, deg, , ,, , ,, grid, , , ,
Point29,xy, , ,in, deg, , ,, , ,, grid, , , ,
Point30,xy, , ,in, deg, , ,, , ,, grid, , , ,
Projection Setup,,,,,,,,,,
Map Feature = MF ; Map Comment = MC These follow if they exist
Track File = TF These follow if they exist
Moving Map Parameters = MM? These follow if they exist
MM0,Yes
MMPNUM,47
MMPXY,1,2,1168
MMPXY,2,2,1073
MMPXY,3,19,1119
MMPXY,4,82,1036
MMPXY,5,70,979
MMPXY,6,87,931
MMPXY,7,134,899
MMPXY,8,65,800
MMPXY,9,94,784
MMPXY,10,83,715
MMPXY,11,1,681
MMPXY,12,2,366
MMPXY,13,69,376
MMPXY,14,279,134
MMPXY,15,329,174
MMPXY,16,552,143
MMPXY,17,519,194
MMPXY,18,674,216
MMPXY,19,779,188
MMPXY,20,970,146
MMPXY,21,972,73
MMPXY,22,1032,1
MMPXY,23,1285,3
MMPXY,24,1332,39
MMPXY,25,1342,110
MMPXY,26,1390,156
MMPXY,27,1461,178
MMPXY,28,1570,170
MMPXY,29,1632,281
MMPXY,30,1669,410
MMPXY,31,1674,530
MMPXY,32,1668,667
MMPXY,33,1691,738
MMPXY,34,1752,810
MMPXY,35,1743,858
MMPXY,36,1820,839
MMPXY,37,1846,891
MMPXY,38,1837,942
MMPXY,39,1898,908
MMPXY,40,1937,930
MMPXY,41,2036,946
MMPXY,42,2104,995
MMPXY,43,2099,1026
MMPXY,44,2175,1054
MMPXY,45,2211,1118
MMPXY,46,2208,1152
MMPXY,47,2182,1173
MMPLL,1,36.774110,58.707129
MMPLL,2,36.774954,58.719356
MMPLL,3,36.778793,58.713388
MMPLL,4,36.795272,58.723894
MMPLL,5,36.792780,58.731263
MMPLL,6,36.797455,58.737393
MMPLL,7,36.809483,58.741380
MMPLL,8,36.793121,58.754315
MMPLL,9,36.800509,58.756293
MMPLL,10,36.798374,58.765204
MMPLL,11,36.778186,58.769809
MMPLL,12,36.781234,58.810347
MMPLL,13,36.797887,58.808872
MMPLL,14,36.852509,58.839430
MMPLL,15,36.864647,58.834142
MMPLL,16,36.920643,58.837507
MMPLL,17,36.911944,58.831036
MMPLL,18,36.950479,58.827770
MMPLL,19,36.976964,58.831080
MMPLL,20,37.025062,58.835950
MMPLL,21,37.026210,58.845340
MMPLL,22,37.041842,58.854438
MMPLL,23,37.105041,58.853473
MMPLL,24,37.116465,58.848708
MMPLL,25,37.118333,58.839542
MMPLL,26,37.129918,58.833488
MMPLL,27,37.147463,58.830457
MMPLL,28,37.174770,58.831182
MMPLL,29,37.189276,58.816722
MMPLL,30,37.197375,58.800017
MMPLL,31,37.197559,58.784559
MMPLL,32,37.194843,58.766943
MMPLL,33,37.199959,58.757741
MMPLL,34,37.214562,58.748304
MMPLL,35,37.211886,58.742152
MMPLL,36,37.231295,58.744381
MMPLL,37,37.237330,58.737616
MMPLL,38,37.234628,58.731078
MMPLL,39,37.250172,58.735283
MMPLL,40,37.259722,58.732342
MMPLL,41,37.284316,58.730006
MMPLL,42,37.300872,58.723509
MMPLL,43,37.299348,58.719533
MMPLL,44,37.318089,58.715717
MMPLL,45,37.326516,58.707379
MMPLL,46,37.325464,58.703012
MMPLL,47,37.318781,58.700382
MM1B,14.438297
MOP,Map Open Position,0,0
IWH,Map Image Width/Height,2262,1296
