OziExplorer Map Data File Version 2.2
B4b1.jpg
B4B1.ozf2
1 ,Map Code,
WGS 84,WGS 84, 0.0000, 0.0000,WGS 84
Reserved 1
Reserved 2
Magnetic Variation,,,E
Map Projection,Latitude/Longitude,PolyCal,No,AutoCalOnly,No,BSBUseWPX,No
Point01,xy, 244, 2382,in, deg, 58, 20,N, 35, 20,E, grid, , , ,N
Point02,xy, 244, 1101,in, deg, 58, 25,N, 35, 20,E, grid, , , ,N
Point03,xy, 4343, 1107,in, deg, 58, 25,N, 35, 50,E, grid, , , ,N
Point04,xy, 4349, 2414,in, deg, 58, 20,N, 35, 50,E, grid, , , ,N
Point05,xy, , ,in, deg, , ,N, , ,E, grid, , , ,N
Point06,xy, , ,in, deg, , ,N, , ,E, grid, , , ,N
Point07,xy, , ,in, deg, , ,N, , ,E, grid, , , ,N
Point08,xy, , ,in, deg, , ,N, , ,E, grid, , , ,N
Point09,xy, , ,in, deg, , ,N, , ,E, grid, , , ,N
Point10,xy, , ,in, deg, , ,N, , ,W, grid, , , ,N
Point11,xy, , ,in, deg, , ,N, , ,W, grid, , , ,N
Point12,xy, , ,in, deg, , ,N, , ,W, grid, , , ,N
Point13,xy, , ,in, deg, , ,N, , ,W, grid, , , ,N
Point14,xy, , ,in, deg, , ,N, , ,W, grid, , , ,N
Point15,xy, , ,in, deg, , ,N, , ,W, grid, , , ,N
Point16,xy, , ,in, deg, , ,N, , ,W, grid, , , ,N
Point17,xy, , ,in, deg, , ,N, , ,W, grid, , , ,N
Point18,xy, , ,in, deg, , ,N, , ,W, grid, , , ,N
Point19,xy, , ,in, deg, , ,N, , ,W, grid, , , ,N
Point20,xy, , ,in, deg, , ,N, , ,W, grid, , , ,N
Point21,xy, , ,in, deg, , ,N, , ,W, grid, , , ,N
Point22,xy, , ,in, deg, , ,N, , ,W, grid, , , ,N
Point23,xy, , ,in, deg, , ,N, , ,W, grid, , , ,N
Point24,xy, , ,in, deg, , ,N, , ,W, grid, , , ,N
Point25,xy, , ,in, deg, , ,N, , ,W, grid, , , ,N
Point26,xy, , ,in, deg, , ,N, , ,W, grid, , , ,N
Point27,xy, , ,in, deg, , ,N, , ,W, grid, , , ,N
Point28,xy, , ,in, deg, , ,N, , ,W, grid, , , ,N
Point29,xy, , ,in, deg, , ,N, , ,W, grid, , , ,N
Point30,xy, , ,in, deg, , ,N, , ,W, grid, , , ,N
Projection Setup,,,,,,,,,,
Map Feature = MF ; Map Comment = MC These follow if they exist
Track File = TF These follow if they exist
Moving Map Parameters = MM? These follow if they exist
MM0,Yes
MMPNUM,21
MMPXY,1,244,3620
MMPXY,2,244,1139
MMPXY,3,609,1266
MMPXY,4,1248,1197
MMPXY,5,1407,1044
MMPXY,6,1735,911
MMPXY,7,1808,1036
MMPXY,8,1966,944
MMPXY,9,1992,489
MMPXY,10,2216,573
MMPXY,11,2402,448
MMPXY,12,2477,497
MMPXY,13,2539,457
MMPXY,14,2621,621
MMPXY,15,2826,555
MMPXY,16,2789,365
MMPXY,17,2886,280
MMPXY,18,3012,237
MMPXY,19,2952,83
MMPXY,20,5310,97
MMPXY,21,5317,3681
MMPLL,1,35.332802,58.254024
MMPLL,2,35.333504,58.413801
MMPLL,3,35.377959,58.405731
MMPLL,4,35.455868,58.410366
MMPLL,5,35.475292,58.420266
MMPLL,6,35.515311,58.428929
MMPLL,7,35.524173,58.420901
MMPLL,8,35.543459,58.426873
MMPLL,9,35.546756,58.456183
MMPLL,10,35.574037,58.450840
MMPLL,11,35.596744,58.458946
MMPLL,12,35.605872,58.455812
MMPLL,13,35.613441,58.458407
MMPLL,14,35.623390,58.447870
MMPLL,15,35.648397,58.452181
MMPLL,16,35.643940,58.464406
MMPLL,17,35.655788,58.469909
MMPLL,18,35.671159,58.472716
MMPLL,19,35.663888,58.482616
MMPLL,20,35.951308,58.482418
MMPLL,21,35.951149,58.251609
MM1B,7.127801
MOP,Map Open Position,0,0
IWH,Map Image Width/Height,5383,3968
