OziExplorer Map Data File Version 2.2
B5a1a2b1b2.jpg
B5A1A2B1B2.ozf2
1 ,Map Code,
WGS 84,WGS 84, 0.0000, 0.0000,WGS 84
Reserved 1
Reserved 2
Magnetic Variation,,,E
Map Projection,Latitude/Longitude,PolyCal,No,AutoCalOnly,No,BSBUseWPX,No
Point01,xy, 2471, 383,in, deg, 58, 40,N, 37, 10,E, grid, , , ,N
Point02,xy, 2525, 1675,in, deg, 58, 30,N, 37, 10,E, grid, , , ,N
Point03,xy, 490, 1756,in, deg, 58, 30,N, 36, 40,E, grid, , , ,N
Point04,xy, 1129, 437,in, deg, 58, 40,N, 36, 50,E, grid, , , ,N
Point05,xy, , ,in, deg, , ,N, , ,E, grid, , , ,N
Point06,xy, , ,in, deg, , ,N, , ,E, grid, , , ,N
Point07,xy, , ,in, deg, , ,N, , ,E, grid, , , ,N
Point08,xy, , ,in, deg, , ,N, , ,E, grid, , , ,N
Point09,xy, , ,in, deg, , ,N, , ,E, grid, , , ,N
Point10,xy, , ,in, deg, , ,, , ,, grid, , , ,
Point11,xy, , ,in, deg, , ,, , ,, grid, , , ,
Point12,xy, , ,in, deg, , ,, , ,, grid, , , ,
Point13,xy, , ,in, deg, , ,, , ,, grid, , , ,
Point14,xy, , ,in, deg, , ,, , ,, grid, , , ,
Point15,xy, , ,in, deg, , ,, , ,, grid, , , ,
Point16,xy, , ,in, deg, , ,, , ,, grid, , , ,
Point17,xy, , ,in, deg, , ,, , ,, grid, , , ,
Point18,xy, , ,in, deg, , ,, , ,, grid, , , ,
Point19,xy, , ,in, deg, , ,, , ,, grid, , , ,
Point20,xy, , ,in, deg, , ,, , ,, grid, , , ,
Point21,xy, , ,in, deg, , ,, , ,, grid, , , ,
Point22,xy, , ,in, deg, , ,, , ,, grid, , , ,
Point23,xy, , ,in, deg, , ,, , ,, grid, , , ,
Point24,xy, , ,in, deg, , ,, , ,, grid, , , ,
Point25,xy, , ,in, deg, , ,, , ,, grid, , , ,
Point26,xy, , ,in, deg, , ,, , ,, grid, , , ,
Point27,xy, , ,in, deg, , ,, , ,, grid, , , ,
Point28,xy, , ,in, deg, , ,, , ,, grid, , , ,
Point29,xy, , ,in, deg, , ,, , ,, grid, , , ,
Point30,xy, , ,in, deg, , ,, , ,, grid, , , ,
Projection Setup,,,,,,,,,,
Map Feature = MF ; Map Comment = MC These follow if they exist
Track File = TF These follow if they exist
Moving Map Parameters = MM? These follow if they exist
MM0,Yes
MMPNUM,7
MMPXY,1,105,960
MMPXY,2,131,896
MMPXY,3,1123,877
MMPXY,4,1125,143
MMPXY,5,2630,128
MMPXY,6,2661,1905
MMPXY,7,118,1936
MMPLL,1,36.577963,58.604537
MMPLL,2,36.584919,58.612647
MMPLL,3,36.829288,58.609992
MMPLL,4,36.836149,58.704534
MMPLL,5,37.206771,58.698723
MMPLL,6,37.198984,58.469655
MMPLL,7,36.572695,58.478744
MM1B,14.287308
MOP,Map Open Position,0,0
IWH,Map Image Width/Height,2689,1982
