OziExplorer Map Data File Version 2.2
B5a2.jpg
B5A2.ozf2
1 ,Map Code,
WGS 84,WGS 84, 0.0000, 0.0000,WGS 84
Reserved 1
Reserved 2
Magnetic Variation,,,E
Map Projection,Latitude/Longitude,PolyCal,No,AutoCalOnly,No,BSBUseWPX,No
Point01,xy, 558, 400,in, deg, 58, 40,N, 37, 20,E, grid, , , ,N
Point02,xy, 1231, 405,in, deg, 58, 40,N, 37, 30,E, grid, , , ,N
Point03,xy, 1237, 1699,in, deg, 58, 30,N, 37, 30,E, grid, , , ,N
Point04,xy, 557, 1691,in, deg, 58, 30,N, 37, 20,E, grid, , , ,N
Point05,xy, , ,in, deg, , ,N, , ,E, grid, , , ,N
Point06,xy, , ,in, deg, , ,N, , ,E, grid, , , ,N
Point07,xy, , ,in, deg, , ,N, , ,E, grid, , , ,N
Point08,xy, , ,in, deg, , ,N, , ,E, grid, , , ,N
Point09,xy, , ,in, deg, , ,N, , ,E, grid, , , ,N
Point10,xy, , ,in, deg, , ,, , ,, grid, , , ,
Point11,xy, , ,in, deg, , ,, , ,, grid, , , ,
Point12,xy, , ,in, deg, , ,, , ,, grid, , , ,
Point13,xy, , ,in, deg, , ,, , ,, grid, , , ,
Point14,xy, , ,in, deg, , ,, , ,, grid, , , ,
Point15,xy, , ,in, deg, , ,, , ,, grid, , , ,
Point16,xy, , ,in, deg, , ,, , ,, grid, , , ,
Point17,xy, , ,in, deg, , ,, , ,, grid, , , ,
Point18,xy, , ,in, deg, , ,, , ,, grid, , , ,
Point19,xy, , ,in, deg, , ,, , ,, grid, , , ,
Point20,xy, , ,in, deg, , ,, , ,, grid, , , ,
Point21,xy, , ,in, deg, , ,, , ,, grid, , , ,
Point22,xy, , ,in, deg, , ,, , ,, grid, , , ,
Point23,xy, , ,in, deg, , ,, , ,, grid, , , ,
Point24,xy, , ,in, deg, , ,, , ,, grid, , , ,
Point25,xy, , ,in, deg, , ,, , ,, grid, , , ,
Point26,xy, , ,in, deg, , ,, , ,, grid, , , ,
Point27,xy, , ,in, deg, , ,, , ,, grid, , , ,
Point28,xy, , ,in, deg, , ,, , ,, grid, , , ,
Point29,xy, , ,in, deg, , ,, , ,, grid, , , ,
Point30,xy, , ,in, deg, , ,, , ,, grid, , , ,
Projection Setup,,,,,,,,,,
Map Feature = MF ; Map Comment = MC These follow if they exist
Track File = TF These follow if they exist
Moving Map Parameters = MM? These follow if they exist
MM0,Yes
MMPNUM,24
MMPXY,1,52,144
MMPXY,2,470,160
MMPXY,3,487,212
MMPXY,4,451,270
MMPXY,5,461,399
MMPXY,6,361,458
MMPXY,7,365,558
MMPXY,8,509,494
MMPXY,9,656,534
MMPXY,10,781,848
MMPXY,11,786,922
MMPXY,12,867,1045
MMPXY,13,946,1090
MMPXY,14,1044,1165
MMPXY,15,1237,1250
MMPXY,16,1327,1374
MMPXY,17,1348,1486
MMPXY,18,1494,1521
MMPXY,19,1684,1688
MMPXY,20,1696,1818
MMPXY,21,1641,1881
MMPXY,22,1772,1933
MMPXY,23,1770,1989
MMPXY,24,3,1924
MMPLL,1,37.209223,58.698957
MMPLL,2,37.312198,58.697411
MMPLL,3,37.316361,58.690727
MMPLL,4,37.307464,58.683203
MMPLL,5,37.309867,58.666581
MMPLL,6,37.285201,58.658849
MMPLL,7,37.286139,58.645959
MMPLL,8,37.321647,58.654390
MMPLL,9,37.357845,58.649414
MMPLL,10,37.388491,58.609078
MMPLL,11,37.389688,58.599542
MMPLL,12,37.409585,58.583781
MMPLL,13,37.429027,58.578076
MMPLL,14,37.453136,58.568526
MMPLL,15,37.500645,58.557805
MMPLL,16,37.522759,58.541926
MMPLL,17,37.527879,58.527510
MMPLL,18,37.563833,58.523177
MMPLL,19,37.610564,58.501878
MMPLL,20,37.613458,58.485129
MMPLL,21,37.599878,58.476937
MMPLL,22,37.632128,58.470394
MMPLL,23,37.631608,58.463170
MMPLL,24,37.196302,58.469362
MM1B,14.323672
MOP,Map Open Position,0,0
IWH,Map Image Width/Height,1785,2012
