OziExplorer Map Data File Version 2.2
B5b2.jpg
B5B2.ozf2
1 ,Map Code,
WGS 84,WGS 84, 0.0000, 0.0000,WGS 84
Reserved 1
Reserved 2
Magnetic Variation,,,E
Map Projection,Latitude/Longitude,PolyCal,No,AutoCalOnly,No,BSBUseWPX,No
Point01,xy, 635, 1748,in, deg, 58, 15,N, 37, 20,E, grid, , , ,N
Point02,xy, 633, 460,in, deg, 58, 25,N, 37, 20,E, grid, , , ,N
Point03,xy, 1314, 458,in, deg, 58, 25,N, 37, 30,E, grid, , , ,N
Point04,xy, 1314, 1748,in, deg, 58, 15,N, 37, 30,E, grid, , , ,N
Point05,xy, , ,in, deg, , ,N, , ,E, grid, , , ,N
Point06,xy, , ,in, deg, , ,N, , ,E, grid, , , ,N
Point07,xy, , ,in, deg, , ,N, , ,E, grid, , , ,N
Point08,xy, , ,in, deg, , ,N, , ,E, grid, , , ,N
Point09,xy, , ,in, deg, , ,N, , ,E, grid, , , ,N
Point10,xy, , ,in, deg, , ,, , ,, grid, , , ,
Point11,xy, , ,in, deg, , ,, , ,, grid, , , ,
Point12,xy, , ,in, deg, , ,, , ,, grid, , , ,
Point13,xy, , ,in, deg, , ,, , ,, grid, , , ,
Point14,xy, , ,in, deg, , ,, , ,, grid, , , ,
Point15,xy, , ,in, deg, , ,, , ,, grid, , , ,
Point16,xy, , ,in, deg, , ,, , ,, grid, , , ,
Point17,xy, , ,in, deg, , ,, , ,, grid, , , ,
Point18,xy, , ,in, deg, , ,, , ,, grid, , , ,
Point19,xy, , ,in, deg, , ,, , ,, grid, , , ,
Point20,xy, , ,in, deg, , ,, , ,, grid, , , ,
Point21,xy, , ,in, deg, , ,, , ,, grid, , , ,
Point22,xy, , ,in, deg, , ,, , ,, grid, , , ,
Point23,xy, , ,in, deg, , ,, , ,, grid, , , ,
Point24,xy, , ,in, deg, , ,, , ,, grid, , , ,
Point25,xy, , ,in, deg, , ,, , ,, grid, , , ,
Point26,xy, , ,in, deg, , ,, , ,, grid, , , ,
Point27,xy, , ,in, deg, , ,, , ,, grid, , , ,
Point28,xy, , ,in, deg, , ,, , ,, grid, , , ,
Point29,xy, , ,in, deg, , ,, , ,, grid, , , ,
Point30,xy, , ,in, deg, , ,, , ,, grid, , , ,
Projection Setup, 0.000000000, 39.000000000, 1.000000000, 500000.00, 0.00,,,,,
Map Feature = MF ; Map Comment = MC These follow if they exist
Track File = TF These follow if they exist
Moving Map Parameters = MM? These follow if they exist
MM0,Yes
MMPNUM,36
MMPXY,1,79,55
MMPXY,2,1818,107
MMPXY,3,1819,138
MMPXY,4,1752,137
MMPXY,5,1757,185
MMPXY,6,1819,203
MMPXY,7,1819,469
MMPXY,8,1687,456
MMPXY,9,1606,477
MMPXY,10,1596,518
MMPXY,11,1530,555
MMPXY,12,1465,556
MMPXY,13,1436,704
MMPXY,14,1369,784
MMPXY,15,1285,781
MMPXY,16,1142,557
MMPXY,17,1077,653
MMPXY,18,1035,657
MMPXY,19,1018,729
MMPXY,20,1053,754
MMPXY,21,1008,867
MMPXY,22,972,876
MMPXY,23,960,937
MMPXY,24,892,960
MMPXY,25,842,922
MMPXY,26,826,1049
MMPXY,27,792,1086
MMPXY,28,853,1131
MMPXY,29,887,1284
MMPXY,30,936,1351
MMPXY,31,917,1433
MMPXY,32,730,1619
MMPXY,33,727,1663
MMPXY,34,758,1745
MMPXY,35,773,1855
MMPXY,36,28,1833
MMPLL,1,37.197504,58.469074
MMPLL,2,37.623719,58.462019
MMPLL,3,37.623958,58.458011
MMPLL,4,37.607536,58.458153
MMPLL,5,37.608753,58.451946
MMPLL,6,37.623945,58.449606
MMPLL,7,37.623895,58.415213
MMPLL,8,37.591544,58.416919
MMPLL,9,37.571688,58.414219
MMPLL,10,37.569229,58.408920
MMPLL,11,37.553045,58.404148
MMPLL,12,37.537114,58.404031
MMPLL,13,37.529978,58.384900
MMPLL,14,37.513541,58.374569
MMPLL,15,37.492953,58.374973
MMPLL,16,37.457947,58.403963
MMPLL,17,37.441997,58.391563
MMPLL,18,37.431703,58.391054
MMPLL,19,37.427522,58.381747
MMPLL,20,37.436096,58.378508
MMPLL,21,37.425045,58.363906
MMPLL,22,37.416220,58.362749
MMPLL,23,37.413267,58.354864
MMPLL,24,37.396596,58.351903
MMPLL,25,37.384348,58.356826
MMPLL,26,37.380403,58.340408
MMPLL,27,37.372062,58.335631
MMPLL,28,37.387005,58.329801
MMPLL,29,37.395309,58.310011
MMPLL,30,37.407306,58.301339
MMPLL,31,37.402633,58.290740
MMPLL,32,37.356765,58.266726
MMPLL,33,37.356021,58.261037
MMPLL,34,37.363604,58.250429
MMPLL,35,37.367259,58.236203
MMPLL,36,37.184665,58.239190
MM1B,14.345042
MOP,Map Open Position,0,0
IWH,Map Image Width/Height,1821,2029
