OziExplorer Map Data File Version 2.2
C3a2.jpg
C3A2.ozf2
1 ,Map Code,
WGS 84,WGS 84, 0.0000, 0.0000,WGS 84
Reserved 1
Reserved 2
Magnetic Variation,,,E
Map Projection,Latitude/Longitude,PolyCal,No,AutoCalOnly,No,BSBUseWPX,No
Point01,xy, 2565, 192,in, deg, 58, 15,N, 35, 20,E, grid, , , ,N
Point02,xy, 2579, 1491,in, deg, 58, 5,N, 35, 20,E, grid, , , ,N
Point03,xy, 518, 1485,in, deg, 58, 5,N, 34, 50,E, grid, , , ,N
Point04,xy, 514, 195,in, deg, 58, 15,N, 34, 50,E, grid, , , ,N
Point05,xy, , ,in, deg, , ,N, , ,E, grid, , , ,N
Point06,xy, , ,in, deg, , ,N, , ,E, grid, , , ,N
Point07,xy, , ,in, deg, , ,N, , ,E, grid, , , ,N
Point08,xy, , ,in, deg, , ,N, , ,E, grid, , , ,N
Point09,xy, , ,in, deg, , ,N, , ,E, grid, , , ,N
Point10,xy, , ,in, deg, , ,, , ,, grid, , , ,
Point11,xy, , ,in, deg, , ,, , ,, grid, , , ,
Point12,xy, , ,in, deg, , ,, , ,, grid, , , ,
Point13,xy, , ,in, deg, , ,, , ,, grid, , , ,
Point14,xy, , ,in, deg, , ,, , ,, grid, , , ,
Point15,xy, , ,in, deg, , ,, , ,, grid, , , ,
Point16,xy, , ,in, deg, , ,, , ,, grid, , , ,
Point17,xy, , ,in, deg, , ,, , ,, grid, , , ,
Point18,xy, , ,in, deg, , ,, , ,, grid, , , ,
Point19,xy, , ,in, deg, , ,, , ,, grid, , , ,
Point20,xy, , ,in, deg, , ,, , ,, grid, , , ,
Point21,xy, , ,in, deg, , ,, , ,, grid, , , ,
Point22,xy, , ,in, deg, , ,, , ,, grid, , , ,
Point23,xy, , ,in, deg, , ,, , ,, grid, , , ,
Point24,xy, , ,in, deg, , ,, , ,, grid, , , ,
Point25,xy, , ,in, deg, , ,, , ,, grid, , , ,
Point26,xy, , ,in, deg, , ,, , ,, grid, , , ,
Point27,xy, , ,in, deg, , ,, , ,, grid, , , ,
Point28,xy, , ,in, deg, , ,, , ,, grid, , , ,
Point29,xy, , ,in, deg, , ,, , ,, grid, , , ,
Point30,xy, , ,in, deg, , ,, , ,, grid, , , ,
Projection Setup,,,,,,,,,,
Map Feature = MF ; Map Comment = MC These follow if they exist
Track File = TF These follow if they exist
Moving Map Parameters = MM? These follow if they exist
MM0,Yes
MMPNUM,35
MMPXY,1,29,505
MMPXY,2,190,333
MMPXY,3,256,348
MMPXY,4,275,286
MMPXY,5,381,259
MMPXY,6,484,376
MMPXY,7,574,429
MMPXY,8,737,432
MMPXY,9,982,368
MMPXY,10,1175,392
MMPXY,11,1155,450
MMPXY,12,1250,506
MMPXY,13,1325,612
MMPXY,14,1569,446
MMPXY,15,1608,482
MMPXY,16,1762,489
MMPXY,17,1714,379
MMPXY,18,1761,281
MMPXY,19,1835,259
MMPXY,20,1898,336
MMPXY,21,2024,132
MMPXY,22,2163,170
MMPXY,23,2564,170
MMPXY,24,2581,1951
MMPXY,25,46,1963
MMPXY,26,38,1313
MMPXY,27,59,1294
MMPXY,28,60,1196
MMPXY,29,84,1085
MMPXY,30,37,1035
MMPXY,31,35,902
MMPXY,32,103,832
MMPXY,33,47,741
MMPXY,34,100,648
MMPXY,35,29,651
MMPLL,1,34.715465,58.209752
MMPLL,2,34.754910,58.231913
MMPLL,3,34.770935,58.229987
MMPLL,4,34.775661,58.237972
MMPLL,5,34.801485,58.241458
MMPLL,6,34.826336,58.226404
MMPLL,7,34.848133,58.219589
MMPLL,8,34.887769,58.219218
MMPLL,9,34.947459,58.227481
MMPLL,10,34.994354,58.224409
MMPLL,11,34.989392,58.216939
MMPLL,12,35.012401,58.209738
MMPLL,13,35.030461,58.196098
MMPLL,14,35.090081,58.217493
MMPLL,15,35.099504,58.212862
MMPLL,16,35.136944,58.211975
MMPLL,17,35.125457,58.226133
MMPLL,18,35.137052,58.238755
MMPLL,19,35.155086,58.241595
MMPLL,20,35.170277,58.231687
MMPLL,21,35.201264,58.257964
MMPLL,22,35.235003,58.253084
MMPLL,23,35.332523,58.253122
MMPLL,24,35.333646,58.023819
MMPLL,25,34.717134,58.022036
MMPLL,26,34.716288,58.105723
MMPLL,27,34.721427,58.108171
MMPLL,28,34.721836,58.120789
MMPLL,29,34.727860,58.135082
MMPLL,30,34.716515,58.141515
MMPLL,31,34.716253,58.158639
MMPLL,32,34.732909,58.167658
MMPLL,33,34.719444,58.179369
MMPLL,34,34.732490,58.191348
MMPLL,35,34.715218,58.190955
MM1B,14.311439
MOP,Map Open Position,0,0
IWH,Map Image Width/Height,2686,1985
