OziExplorer Map Data File Version 2.2
C3b1.jpg
C3B1.ozf2
1 ,Map Code,
WGS 84,WGS 84, 0.0000, 0.0000,WGS 84
Reserved 1
Reserved 2
Magnetic Variation,,,E
Map Projection,Latitude/Longitude,PolyCal,No,AutoCalOnly,No,BSBUseWPX,No
Point01,xy, 341, 1464,in, deg, 57, 50,N, 34, 10,E, grid, , , ,N
Point02,xy, 356, 176,in, deg, 58, 0,N, 34, 10,E, grid, , , ,N
Point03,xy, 2414, 196,in, deg, 58, 0,N, 34, 40,E, grid, , , ,N
Point04,xy, 2410, 1486,in, deg, 57, 50,N, 34, 40,E, grid, , , ,N
Point05,xy, , ,in, deg, , ,N, , ,E, grid, , , ,N
Point06,xy, , ,in, deg, , ,N, , ,E, grid, , , ,N
Point07,xy, , ,in, deg, , ,N, , ,E, grid, , , ,N
Point08,xy, , ,in, deg, , ,N, , ,E, grid, , , ,N
Point09,xy, , ,in, deg, , ,N, , ,E, grid, , , ,N
Point10,xy, , ,in, deg, , ,, , ,, grid, , , ,
Point11,xy, , ,in, deg, , ,, , ,, grid, , , ,
Point12,xy, , ,in, deg, , ,, , ,, grid, , , ,
Point13,xy, , ,in, deg, , ,, , ,, grid, , , ,
Point14,xy, , ,in, deg, , ,, , ,, grid, , , ,
Point15,xy, , ,in, deg, , ,, , ,, grid, , , ,
Point16,xy, , ,in, deg, , ,, , ,, grid, , , ,
Point17,xy, , ,in, deg, , ,, , ,, grid, , , ,
Point18,xy, , ,in, deg, , ,, , ,, grid, , , ,
Point19,xy, , ,in, deg, , ,, , ,, grid, , , ,
Point20,xy, , ,in, deg, , ,, , ,, grid, , , ,
Point21,xy, , ,in, deg, , ,, , ,, grid, , , ,
Point22,xy, , ,in, deg, , ,, , ,, grid, , , ,
Point23,xy, , ,in, deg, , ,, , ,, grid, , , ,
Point24,xy, , ,in, deg, , ,, , ,, grid, , , ,
Point25,xy, , ,in, deg, , ,, , ,, grid, , , ,
Point26,xy, , ,in, deg, , ,, , ,, grid, , , ,
Point27,xy, , ,in, deg, , ,, , ,, grid, , , ,
Point28,xy, , ,in, deg, , ,, , ,, grid, , , ,
Point29,xy, , ,in, deg, , ,, , ,, grid, , , ,
Point30,xy, , ,in, deg, , ,, , ,, grid, , , ,
Projection Setup,,,,,,,,,,
Map Feature = MF ; Map Comment = MC These follow if they exist
Track File = TF These follow if they exist
Moving Map Parameters = MM? These follow if they exist
MM0,Yes
MMPNUM,27
MMPXY,1,632,1811
MMPXY,2,720,1752
MMPXY,3,805,1773
MMPXY,4,775,1688
MMPXY,5,899,1686
MMPXY,6,991,1559
MMPXY,7,901,1429
MMPXY,8,859,1266
MMPXY,9,793,1215
MMPXY,10,813,1115
MMPXY,11,871,1092
MMPXY,12,840,983
MMPXY,13,911,903
MMPXY,14,777,833
MMPXY,15,819,787
MMPXY,16,760,711
MMPXY,17,910,617
MMPXY,18,1066,770
MMPXY,19,1327,766
MMPXY,20,1422,876
MMPXY,21,1683,605
MMPXY,22,1599,334
MMPXY,23,1552,282
MMPXY,24,1548,140
MMPXY,25,1601,37
MMPXY,26,2634,30
MMPXY,27,2642,1809
MMPLL,1,34.237125,57.788914
MMPLL,2,34.258341,57.796658
MMPLL,3,34.278973,57.794054
MMPLL,4,34.271553,57.805005
MMPLL,5,34.301593,57.805426
MMPLL,6,34.323657,57.821967
MMPLL,7,34.301619,57.838656
MMPLL,8,34.291151,57.859675
MMPLL,9,34.275069,57.866182
MMPLL,10,34.279736,57.879137
MMPLL,11,34.293748,57.882187
MMPLL,12,34.286043,57.896239
MMPLL,13,34.303102,57.906676
MMPLL,14,34.270511,57.915550
MMPLL,15,34.280605,57.921552
MMPLL,16,34.266174,57.931301
MMPLL,17,34.302349,57.943651
MMPLL,18,34.340419,57.924075
MMPLL,19,34.403650,57.924936
MMPLL,20,34.426863,57.910839
MMPLL,21,34.489617,57.946220
MMPLL,22,34.468781,57.981147
MMPLL,23,34.457300,57.987808
MMPLL,24,34.456078,58.006162
MMPLL,25,34.468735,58.019548
MMPLL,26,34.719007,58.021813
MMPLL,27,34.724122,57.791817
MM1B,14.357432
MOP,Map Open Position,0,0
IWH,Map Image Width/Height,2671,1963
