OziExplorer Map Data File Version 2.2
C5a2.jpg
C5A2.ozf2
1 ,Map Code,
WGS 84,, 0.0000, 0.0000,WGS 84
Reserved 1
Reserved 2
Magnetic Variation,,,E
Map Projection,Latitude/Longitude,PolyCal,No,AutoCalOnly,No,BSBUseWPX,No
Point01,xy, 648, 574,in, deg, 58, 10,N, 37, 20,E, grid, , , ,N
Point02,xy, 1330, 551,in, deg, 58, 10,N, 37, 30,E, grid, , , ,N
Point03,xy, 1355, 1196,in, deg, 58, 5,N, 37, 30,E, grid, , , ,N
Point04,xy, 672, 1215,in, deg, 58, 5,N, 37, 20,E, grid, , , ,N
Point05,xy, , ,in, deg, , ,N, , ,E, grid, , , ,N
Point06,xy, , ,in, deg, , ,N, , ,E, grid, , , ,N
Point07,xy, , ,in, deg, , ,N, , ,E, grid, , , ,N
Point08,xy, , ,in, deg, , ,N, , ,E, grid, , , ,N
Point09,xy, , ,in, deg, , ,N, , ,E, grid, , , ,N
Point10,xy, , ,in, deg, , ,, , ,, grid, , , ,
Point11,xy, , ,in, deg, , ,, , ,, grid, , , ,
Point12,xy, , ,in, deg, , ,, , ,, grid, , , ,
Point13,xy, , ,in, deg, , ,, , ,, grid, , , ,
Point14,xy, , ,in, deg, , ,, , ,, grid, , , ,
Point15,xy, , ,in, deg, , ,, , ,, grid, , , ,
Point16,xy, , ,in, deg, , ,, , ,, grid, , , ,
Point17,xy, , ,in, deg, , ,, , ,, grid, , , ,
Point18,xy, , ,in, deg, , ,, , ,, grid, , , ,
Point19,xy, , ,in, deg, , ,, , ,, grid, , , ,
Point20,xy, , ,in, deg, , ,, , ,, grid, , , ,
Point21,xy, , ,in, deg, , ,, , ,, grid, , , ,
Point22,xy, , ,in, deg, , ,, , ,, grid, , , ,
Point23,xy, , ,in, deg, , ,, , ,, grid, , , ,
Point24,xy, , ,in, deg, , ,, , ,, grid, , , ,
Point25,xy, , ,in, deg, , ,, , ,, grid, , , ,
Point26,xy, , ,in, deg, , ,, , ,, grid, , , ,
Point27,xy, , ,in, deg, , ,, , ,, grid, , , ,
Point28,xy, , ,in, deg, , ,, , ,, grid, , , ,
Point29,xy, , ,in, deg, , ,, , ,, grid, , , ,
Point30,xy, , ,in, deg, , ,, , ,, grid, , , ,
Projection Setup, 0.000000000, 33.000000000, 1.000000000, 500000.00, 0.00,,,,,
Map Feature = MF ; Map Comment = MC These follow if they exist
Track File = TF These follow if they exist
Moving Map Parameters = MM? These follow if they exist
MM0,Yes
MMPNUM,26
MMPXY,1,27,24
MMPXY,2,776,23
MMPXY,3,851,128
MMPXY,4,847,278
MMPXY,5,960,313
MMPXY,6,1064,417
MMPXY,7,1205,462
MMPXY,8,1282,406
MMPXY,9,1496,570
MMPXY,10,1488,645
MMPXY,11,1436,701
MMPXY,12,1321,1015
MMPXY,13,1324,1072
MMPXY,14,1294,1143
MMPXY,15,1232,1203
MMPXY,16,1244,1260
MMPXY,17,1221,1312
MMPXY,18,1263,1356
MMPXY,19,1376,1401
MMPXY,20,1382,1464
MMPXY,21,1428,1505
MMPXY,22,1440,1635
MMPXY,23,1386,1757
MMPXY,24,1299,1758
MMPXY,25,1278,1802
MMPXY,26,32,1798
MMPLL,1,37.187026,58.240207
MMPLL,2,37.369727,58.237353
MMPLL,3,37.387045,58.223462
MMPLL,4,37.384675,58.204061
MMPLL,5,37.411912,58.199080
MMPLL,6,37.436312,58.185203
MMPLL,7,37.470286,58.178816
MMPLL,8,37.489588,58.185758
MMPLL,9,37.540262,58.163676
MMPLL,10,37.537613,58.154000
MMPLL,11,37.524409,58.146958
MMPLL,12,37.493441,58.106769
MMPLL,13,37.493643,58.099378
MMPLL,14,37.485665,58.090307
MMPLL,15,37.469985,58.082787
MMPLL,16,37.472382,58.075360
MMPLL,17,37.466289,58.068721
MMPLL,18,37.476125,58.062857
MMPLL,19,37.503269,58.056582
MMPLL,20,37.504147,58.048403
MMPLL,21,37.514986,58.042912
MMPLL,22,37.516704,58.026036
MMPLL,23,37.502399,58.010458
MMPLL,24,37.481169,58.010676
MMPLL,25,37.475638,58.005063
MMPLL,26,37.171758,58.010544
MM1B,14.355813
MOP,Map Open Position,0,0
IWH,Map Image Width/Height,1535,1840
