OziExplorer Map Data File Version 2.2
C5b2.jpg
C5B2.ozf2
1 ,Map Code,
WGS 84,, 0.0000, 0.0000,WGS 84
Reserved 1
Reserved 2
Magnetic Variation,,,E
Map Projection,Latitude/Longitude,PolyCal,No,AutoCalOnly,No,BSBUseWPX,No
Point01,xy, 694, 98,in, deg, 58, 0,N, 37, 20,E, grid, , , ,N
Point02,xy, 30, 1404,in, deg, 57, 50,N, 37, 10,E, grid, , , ,N
Point03,xy, 1415, 1368,in, deg, 57, 50,N, 37, 30,E, grid, , , ,N
Point04,xy, 1382, 81,in, deg, 58, 0,N, 37, 30,E, grid, , , ,N
Point05,xy, , ,in, deg, , ,N, , ,E, grid, , , ,N
Point06,xy, , ,in, deg, , ,N, , ,E, grid, , , ,N
Point07,xy, , ,in, deg, , ,N, , ,E, grid, , , ,N
Point08,xy, , ,in, deg, , ,N, , ,E, grid, , , ,N
Point09,xy, , ,in, deg, , ,N, , ,E, grid, , , ,N
Point10,xy, , ,in, deg, , ,N, , ,W, grid, , , ,N
Point11,xy, , ,in, deg, , ,N, , ,W, grid, , , ,N
Point12,xy, , ,in, deg, , ,N, , ,W, grid, , , ,N
Point13,xy, , ,in, deg, , ,N, , ,W, grid, , , ,N
Point14,xy, , ,in, deg, , ,N, , ,W, grid, , , ,N
Point15,xy, , ,in, deg, , ,N, , ,W, grid, , , ,N
Point16,xy, , ,in, deg, , ,N, , ,W, grid, , , ,N
Point17,xy, , ,in, deg, , ,N, , ,W, grid, , , ,N
Point18,xy, , ,in, deg, , ,N, , ,W, grid, , , ,N
Point19,xy, , ,in, deg, , ,N, , ,W, grid, , , ,N
Point20,xy, , ,in, deg, , ,N, , ,W, grid, , , ,N
Point21,xy, , ,in, deg, , ,N, , ,W, grid, , , ,N
Point22,xy, , ,in, deg, , ,N, , ,W, grid, , , ,N
Point23,xy, , ,in, deg, , ,N, , ,W, grid, , , ,N
Point24,xy, , ,in, deg, , ,N, , ,W, grid, , , ,N
Point25,xy, , ,in, deg, , ,N, , ,W, grid, , , ,N
Point26,xy, , ,in, deg, , ,N, , ,W, grid, , , ,N
Point27,xy, , ,in, deg, , ,N, , ,W, grid, , , ,N
Point28,xy, , ,in, deg, , ,N, , ,W, grid, , , ,N
Point29,xy, , ,in, deg, , ,N, , ,W, grid, , , ,N
Point30,xy, , ,in, deg, , ,N, , ,W, grid, , , ,N
Projection Setup, 0.000000000, 33.000000000, 1.000000000, 500000.00, 0.00,,,,,
Map Feature = MF ; Map Comment = MC These follow if they exist
Track File = TF These follow if they exist
Moving Map Parameters = MM? These follow if they exist
MM0,Yes
MMPNUM,32
MMPXY,1,31,40
MMPXY,2,1272,45
MMPXY,3,1268,79
MMPXY,4,1240,139
MMPXY,5,1276,174
MMPXY,6,1305,276
MMPXY,7,1485,410
MMPXY,8,1521,481
MMPXY,9,1465,528
MMPXY,10,1390,527
MMPXY,11,1298,621
MMPXY,12,1316,738
MMPXY,13,1420,801
MMPXY,14,1538,813
MMPXY,15,1582,903
MMPXY,16,1664,910
MMPXY,17,1685,999
MMPXY,18,1673,1093
MMPXY,19,1700,1119
MMPXY,20,1641,1210
MMPXY,21,1546,1369
MMPXY,22,1485,1366
MMPXY,23,1433,1456
MMPXY,24,1389,1468
MMPXY,25,1341,1646
MMPXY,26,1381,1677
MMPXY,27,1425,1702
MMPXY,28,1437,1767
MMPXY,29,1479,1786
MMPXY,30,1522,1768
MMPXY,31,1602,1830
MMPXY,32,19,1818
MMPLL,1,37.174420,58.009756
MMPLL,2,37.473276,58.004977
MMPLL,3,37.472120,58.000593
MMPLL,4,37.465036,57.992924
MMPLL,5,37.473508,57.988277
MMPLL,6,37.479914,57.974985
MMPLL,7,37.522506,57.957051
MMPLL,8,37.530774,57.947747
MMPLL,9,37.517021,57.941853
MMPLL,10,37.498963,57.942232
MMPLL,11,37.476273,57.930379
MMPLL,12,37.479945,57.915184
MMPLL,13,37.504636,57.906687
MMPLL,14,37.532987,57.904742
MMPLL,15,37.543074,57.892953
MMPLL,16,37.562783,57.891775
MMPLL,17,37.567336,57.880192
MMPLL,18,37.563913,57.868072
MMPLL,19,37.570269,57.864618
MMPLL,20,37.555543,57.853043
MMPLL,21,37.531762,57.832791
MMPLL,22,37.517088,57.833382
MMPLL,23,37.504054,57.821912
MMPLL,24,37.493389,57.820507
MMPLL,25,37.480820,57.797640
MMPLL,26,37.490278,57.793497
MMPLL,27,37.500733,57.790116
MMPLL,28,37.503255,57.781668
MMPLL,29,37.513263,57.779070
MMPLL,30,37.523721,57.781255
MMPLL,31,37.542637,57.772969
MMPLL,32,37.161453,57.779791
MM1B,14.270599
MOP,Map Open Position,0,0
IWH,Map Image Width/Height,1762,1970
